BEGIN:VCALENDAR
VERSION:2.0
PRODID:-//Alltagsklassiker | IG zum Erhalt und Förderung der Fahrzeugkultur und Fahrzeuggeschichte - ECPv6.15.20//NONSGML v1.0//EN
CALSCALE:GREGORIAN
METHOD:PUBLISH
X-ORIGINAL-URL:https://www.alltagsklassiker.at
X-WR-CALDESC:Veranstaltungen für Alltagsklassiker | IG zum Erhalt und Förderung der Fahrzeugkultur und Fahrzeuggeschichte
REFRESH-INTERVAL;VALUE=DURATION:PT1H
X-Robots-Tag:noindex
X-PUBLISHED-TTL:PT1H
BEGIN:VTIMEZONE
TZID:Europe/Berlin
BEGIN:DAYLIGHT
TZOFFSETFROM:+0100
TZOFFSETTO:+0200
TZNAME:CEST
DTSTART:20250330T010000
END:DAYLIGHT
BEGIN:STANDARD
TZOFFSETFROM:+0200
TZOFFSETTO:+0100
TZNAME:CET
DTSTART:20251026T010000
END:STANDARD
BEGIN:DAYLIGHT
TZOFFSETFROM:+0100
TZOFFSETTO:+0200
TZNAME:CEST
DTSTART:20260329T010000
END:DAYLIGHT
BEGIN:STANDARD
TZOFFSETFROM:+0200
TZOFFSETTO:+0100
TZNAME:CET
DTSTART:20261025T010000
END:STANDARD
BEGIN:DAYLIGHT
TZOFFSETFROM:+0100
TZOFFSETTO:+0200
TZNAME:CEST
DTSTART:20270328T010000
END:DAYLIGHT
BEGIN:STANDARD
TZOFFSETFROM:+0200
TZOFFSETTO:+0100
TZNAME:CET
DTSTART:20271031T010000
END:STANDARD
END:VTIMEZONE
BEGIN:VEVENT
DTSTART;VALUE=DATE:20260425
DTEND;VALUE=DATE:20260427
DTSTAMP:20260422T062810
CREATED:20220306T111617Z
LAST-MODIFIED:20260127T163621Z
UID:33277-1777075200-1777247999@www.alltagsklassiker.at
SUMMARY:fR4ischluft
DESCRIPTION:fR4ischluft 2026  am 25. und 26. April 2026 \nDas R4-Jahr in Österreich wird auch 2026 wieder mit unserer  „fR4ischluft“ eingeleitet. Wir beschäftigten unsere aus dem Winterschlupf rausgeholten R4s ein ganzes Wochenende lang\, sie werden zwei Tage nicht nur durch die feinhügelige Landschaft der Südoststeiermark gejagt\, diesmal gehts am Samstag in die Südsteiermark. So haben alle was davon\, unsere Fahrzeuge den langersehnten Auslauf und wir natürlich auch im geselligen Miteinander. Der R4-Saisonauftakt findet wieder im Zeitrahmen der Oldtimertage Österreichs – am 25. und 26. April 2026 – statt. \nAustragungsort ist unser R4 Stall in Stang bei Hatzendorf. Zwischen R4 und R4 und R4 am Hof von August Thurner …  (In)offiziell leiten wir das Wochenende bereits am Freitag\, mit offener Werkstatt\, also einem Schraubernachmittag ein. wir informell am Freitag bereits das R4 Wochenende ein. So können die bereits am Freitag Angereisten bereits gemütlich zusammensitzen. \n\nMickyGründer von Alltagsklassiker\, mit großer Schwäche für gut gereifte japanische Fahrzeuge\, Prospekte und Modellautos; Fotograf\, Vitrinist\, buchaffin\, bewegt Mazda MX-5 NA V-Special\, Mazda 818 Sedan de Luxe\, Ford Focus Turnier MK3\, Puch Clubman\, Bianchi Arcadex und Puch Maxi L.
URL:https://www.alltagsklassiker.at/event/fr4ischluft/
CATEGORIES:Treffen
END:VEVENT
BEGIN:VEVENT
DTSTART;VALUE=DATE:20260425
DTEND;VALUE=DATE:20260427
DTSTAMP:20260422T062810
CREATED:20241102T152956Z
LAST-MODIFIED:20260127T170616Z
UID:44991-1777075200-1777247999@www.alltagsklassiker.at
SUMMARY:Oldtimertage 2026
DESCRIPTION:Die Oldtimertage finden auch 2026 statt und bringen das bewährte Erfolgskonzept in eine neue Runde! Auch im Jahr 2026 initiiert das Kuratorium für Historische Mobilität Österreich (bestehend aus ÖMVV und AMV) am Wochenende des 25. und 26. April 2026 ein landesweites Event\, das die Aufmerksamkeit auf die Bedeutung und Vielfalt historischer Fahrzeuge in Österreich lenken soll. Der April ist der perfekte Zeitpunkt\, um die Klassiker aus dem Winterschlaf zu holen\, ihnen die erste Ausfahrt zu gönnen und sie stolz der Öffentlichkeit zu präsentieren! \nMickyGründer von Alltagsklassiker\, mit großer Schwäche für gut gereifte japanische Fahrzeuge\, Prospekte und Modellautos; Fotograf\, Vitrinist\, buchaffin\, bewegt Mazda MX-5 NA V-Special\, Mazda 818 Sedan de Luxe\, Ford Focus Turnier MK3\, Puch Clubman\, Bianchi Arcadex und Puch Maxi L.
URL:https://www.alltagsklassiker.at/event/oldtimertage-2026/
CATEGORIES:Ausfahrt,Treffen
ATTACH;FMTTYPE=image/jpeg:https://www.alltagsklassiker.at/wp-content/uploads/2024/11/image-1.jpg
END:VEVENT
BEGIN:VEVENT
DTSTART;VALUE=DATE:20260426
DTEND;VALUE=DATE:20260427
DTSTAMP:20260422T062811
CREATED:20220322T081845Z
LAST-MODIFIED:20260127T200303Z
UID:33427-1777161600-1777247999@www.alltagsklassiker.at
SUMMARY:STOF Frühjahrsausfahrt
DESCRIPTION:26. April 2026    STOF – Frühjahrsausfahrt\, Treffpunkt Center Nord Graz \n  \nMickyGründer von Alltagsklassiker\, mit großer Schwäche für gut gereifte japanische Fahrzeuge\, Prospekte und Modellautos; Fotograf\, Vitrinist\, buchaffin\, bewegt Mazda MX-5 NA V-Special\, Mazda 818 Sedan de Luxe\, Ford Focus Turnier MK3\, Puch Clubman\, Bianchi Arcadex und Puch Maxi L.
URL:https://www.alltagsklassiker.at/event/stof-fruehjahrsausfahrt/
LOCATION:Nordstern\, Weinzödl 1\, Graz\, Steiermark\, 8046\, Österreich
CATEGORIES:Ausfahrt
END:VEVENT
BEGIN:VEVENT
DTSTART;VALUE=DATE:20260426
DTEND;VALUE=DATE:20260427
DTSTAMP:20260422T062811
CREATED:20220322T084429Z
LAST-MODIFIED:20260127T163051Z
UID:33436-1777161600-1777247999@www.alltagsklassiker.at
SUMMARY:Oldtimer Auftakt Kapfenberg
DESCRIPTION:OldtimerAUFTAKT \nmit US-CAR TREFFEN\n26. April 2026\, Beginn 9.00 Uhr \nParkplatz EUROSPAR Kapfenberg \nFür Musik und Ihr leibliches Wohl ist bestens gesorgt! \nJEDER TEILNEHMER BEKOMMT EIN LOS! Tankgutschein zu gewinnen! \n  \n  \nMickyGründer von Alltagsklassiker\, mit großer Schwäche für gut gereifte japanische Fahrzeuge\, Prospekte und Modellautos; Fotograf\, Vitrinist\, buchaffin\, bewegt Mazda MX-5 NA V-Special\, Mazda 818 Sedan de Luxe\, Ford Focus Turnier MK3\, Puch Clubman\, Bianchi Arcadex und Puch Maxi L.
URL:https://www.alltagsklassiker.at/event/oldtimer-auftakt/
CATEGORIES:Ausfahrt,Treffen
ATTACH;FMTTYPE=image/jpeg:https://www.alltagsklassiker.at/wp-content/uploads/2022/03/image003.jpg
END:VEVENT
BEGIN:VEVENT
DTSTART;VALUE=DATE:20260426
DTEND;VALUE=DATE:20260427
DTSTAMP:20260422T062811
CREATED:20230126T114137Z
LAST-MODIFIED:20260127T200135Z
UID:36055-1777161600-1777247999@www.alltagsklassiker.at
SUMMARY:Oldtimertreffen Eggersdorf
DESCRIPTION:Oldtimertreffen des Oldtimerstammtisch Mariatrost-Weinitzen in Eggersdorf bei der Wimmerhütte ab 9h. \nMickyGründer von Alltagsklassiker\, mit großer Schwäche für gut gereifte japanische Fahrzeuge\, Prospekte und Modellautos; Fotograf\, Vitrinist\, buchaffin\, bewegt Mazda MX-5 NA V-Special\, Mazda 818 Sedan de Luxe\, Ford Focus Turnier MK3\, Puch Clubman\, Bianchi Arcadex und Puch Maxi L.
URL:https://www.alltagsklassiker.at/event/oldtimertreffen-eggersdorf/
CATEGORIES:Treffen
END:VEVENT
BEGIN:VEVENT
DTSTART;VALUE=DATE:20260426
DTEND;VALUE=DATE:20260427
DTSTAMP:20260422T062811
CREATED:20260128T164329Z
LAST-MODIFIED:20260128T164329Z
UID:50222-1777161600-1777247999@www.alltagsklassiker.at
SUMMARY:Oldtimertreffen Unterrabnitz
DESCRIPTION:Oldtimertreffen Unterrabnitz am Sonntag\,26.4.26 in Unterrabnitz (Nähe Oberpullendorf) \nMarkenoffenes Oldtimertreffen Kein Eintritt\,  keine Nenngebühr.  \nGilt für Zweiräder\, Traktoren\, Pkws\, LKW und Busse. Zustand ist grundsätzlich egal\, die einzigen Bedingungen sind Verbrenner und älter als 30 Jahre. Veranstalter ist der Bienenzuchtverein Unterrabnitz. Dieses Treffen ist jedes Jahr immer am letzten Sonntag im April. Ab ca 8 Uhr ist die Einfahrt möglich und es wird auch immer eine Runde durchs Dorf gefahren wer will. \nMickyGründer von Alltagsklassiker\, mit großer Schwäche für gut gereifte japanische Fahrzeuge\, Prospekte und Modellautos; Fotograf\, Vitrinist\, buchaffin\, bewegt Mazda MX-5 NA V-Special\, Mazda 818 Sedan de Luxe\, Ford Focus Turnier MK3\, Puch Clubman\, Bianchi Arcadex und Puch Maxi L.
URL:https://www.alltagsklassiker.at/event/oldtimertreffen-unterrabnitz/
CATEGORIES:Treffen
END:VEVENT
BEGIN:VEVENT
DTSTART;VALUE=DATE:20260426
DTEND;VALUE=DATE:20260427
DTSTAMP:20260422T062811
CREATED:20260212T171926Z
LAST-MODIFIED:20260212T171926Z
UID:50563-1777161600-1777247999@www.alltagsklassiker.at
SUMMARY:Heizhaus Rallye
DESCRIPTION:39. Heizhaus-Rallye\nHeizhaus Eisenbahnmuseum Strasshof\n26. April 2026 \nJung trifft Alt und Alt trifft Jung \nEine Veranstaltung für alle\, die automobile Geschichte nicht nur sehen\, sondern auch fühlen möchten. Es wird ein Treffen historischer Automobile\, Motorräder und klassischer Fahrzeuge\, ein gemütlicher Frühlingstag mit Gleichgesinnten und Freunden historischer Bahnen und Kraftfahrzeugen. \nMickyGründer von Alltagsklassiker\, mit großer Schwäche für gut gereifte japanische Fahrzeuge\, Prospekte und Modellautos; Fotograf\, Vitrinist\, buchaffin\, bewegt Mazda MX-5 NA V-Special\, Mazda 818 Sedan de Luxe\, Ford Focus Turnier MK3\, Puch Clubman\, Bianchi Arcadex und Puch Maxi L.
URL:https://www.alltagsklassiker.at/event/heizhaus-rallye/
CATEGORIES:Treffen
END:VEVENT
BEGIN:VEVENT
DTSTART;VALUE=DATE:20260426
DTEND;VALUE=DATE:20260427
DTSTAMP:20260422T062811
CREATED:20260420T162832Z
LAST-MODIFIED:20260420T162832Z
UID:51329-1777161600-1777247999@www.alltagsklassiker.at
SUMMARY:Mit deiner Puch nach Puch
DESCRIPTION:Mit deiner Puch nach Puch: Oldtimertreffen im Zuge des 40. Apfelblütenfestes in Puch bei Weiz am 26. April 2026 \nMickyGründer von Alltagsklassiker\, mit großer Schwäche für gut gereifte japanische Fahrzeuge\, Prospekte und Modellautos; Fotograf\, Vitrinist\, buchaffin\, bewegt Mazda MX-5 NA V-Special\, Mazda 818 Sedan de Luxe\, Ford Focus Turnier MK3\, Puch Clubman\, Bianchi Arcadex und Puch Maxi L.
URL:https://www.alltagsklassiker.at/event/mit-deiner-puch-nach-puch/
CATEGORIES:Ausfahrt,Treffen
ATTACH;FMTTYPE=image/jpeg:https://www.alltagsklassiker.at/wp-content/uploads/2026/04/IMG_5645.jpg
END:VEVENT
END:VCALENDAR