BEGIN:VCALENDAR
VERSION:2.0
PRODID:-//Alltagsklassiker | IG zum Erhalt und Förderung der Fahrzeugkultur und Fahrzeuggeschichte - ECPv6.15.20//NONSGML v1.0//EN
CALSCALE:GREGORIAN
METHOD:PUBLISH
X-ORIGINAL-URL:https://www.alltagsklassiker.at
X-WR-CALDESC:Veranstaltungen für Alltagsklassiker | IG zum Erhalt und Förderung der Fahrzeugkultur und Fahrzeuggeschichte
REFRESH-INTERVAL;VALUE=DURATION:PT1H
X-Robots-Tag:noindex
X-PUBLISHED-TTL:PT1H
BEGIN:VTIMEZONE
TZID:Europe/Berlin
BEGIN:DAYLIGHT
TZOFFSETFROM:+0100
TZOFFSETTO:+0200
TZNAME:CEST
DTSTART:20250330T010000
END:DAYLIGHT
BEGIN:STANDARD
TZOFFSETFROM:+0200
TZOFFSETTO:+0100
TZNAME:CET
DTSTART:20251026T010000
END:STANDARD
BEGIN:DAYLIGHT
TZOFFSETFROM:+0100
TZOFFSETTO:+0200
TZNAME:CEST
DTSTART:20260329T010000
END:DAYLIGHT
BEGIN:STANDARD
TZOFFSETFROM:+0200
TZOFFSETTO:+0100
TZNAME:CET
DTSTART:20261025T010000
END:STANDARD
BEGIN:DAYLIGHT
TZOFFSETFROM:+0100
TZOFFSETTO:+0200
TZNAME:CEST
DTSTART:20270328T010000
END:DAYLIGHT
BEGIN:STANDARD
TZOFFSETFROM:+0200
TZOFFSETTO:+0100
TZNAME:CET
DTSTART:20271031T010000
END:STANDARD
END:VTIMEZONE
BEGIN:VEVENT
DTSTART;VALUE=DATE:20261101
DTEND;VALUE=DATE:20261102
DTSTAMP:20260424T122741
CREATED:20230108T185217Z
LAST-MODIFIED:20260128T175115Z
UID:35774-1793491200-1793577599@www.alltagsklassiker.at
SUMMARY:Cafe Gasolini
DESCRIPTION:CAFE GASOLINI  ist der österreichische Blechfrühschoppen für epochenverschleppende Automobilfreunde. \nEin Aufeinandertreffen von Cars & Coffee\, bei dem nichts zu Bruch geht und alle eine Hetz haben. Sagen wir so: Es ist ein Erntedankfest von Ventilspielern und Freunden der mechanischen Welt. \nBei CAFE GASOLINI sind alle Fahrzeuge bis zum Erscheinungsbaujahr 1970 mehr als erwünscht. \nAm Parkplatz von Josef – AUTO METZKER \nJeden ersten Sonntag im Monat. \nvon 9 – 11h25 – also 12x jährlich. \n(Terminänderungen werden bekanntgegeben) \nSchlechtwetter ist genauso erwünscht wie 2lagiges Toilettenpapier. \nMickyGründer von Alltagsklassiker\, mit großer Schwäche für gut gereifte japanische Fahrzeuge\, Prospekte und Modellautos; Fotograf\, Vitrinist\, buchaffin\, bewegt Mazda MX-5 NA V-Special\, Mazda 818 Sedan de Luxe\, Ford Focus Turnier MK3\, Puch Clubman\, Bianchi Arcadex und Puch Maxi L.
URL:https://www.alltagsklassiker.at/event/cafe-gasolini-2/
LOCATION:Auto Metzker\, Lokalbahnweg 6\, Vösendorf\, 2334\, Österreich
CATEGORIES:Cafe Gasolini
END:VEVENT
BEGIN:VEVENT
DTSTART;VALUE=DATE:20261107
DTEND;VALUE=DATE:20261108
DTSTAMP:20260424T122742
CREATED:20230125T161045Z
LAST-MODIFIED:20260127T204232Z
UID:36027-1794009600-1794095999@www.alltagsklassiker.at
SUMMARY:Flohmarkt\, Oldtimer-Teilemarkt und Antiquitätenmesse
DESCRIPTION:Flohmarkt\, Oldtimer-Teilemarkt und Antiquitätenmesse in der Oldtimerhalle in 3372 Blindenmarkt \nMickyGründer von Alltagsklassiker\, mit großer Schwäche für gut gereifte japanische Fahrzeuge\, Prospekte und Modellautos; Fotograf\, Vitrinist\, buchaffin\, bewegt Mazda MX-5 NA V-Special\, Mazda 818 Sedan de Luxe\, Ford Focus Turnier MK3\, Puch Clubman\, Bianchi Arcadex und Puch Maxi L.
URL:https://www.alltagsklassiker.at/event/flohmarkt-oldtimer-teilemarkt-und-antiquitaetenmesse/
CATEGORIES:Teilemarkt
END:VEVENT
BEGIN:VEVENT
DTSTART;VALUE=DATE:20261113
DTEND;VALUE=DATE:20261115
DTSTAMP:20260424T122742
CREATED:20260212T191352Z
LAST-MODIFIED:20260212T191352Z
UID:50610-1794528000-1794700799@www.alltagsklassiker.at
SUMMARY:XXXII. Frostbegrüßungsfahrt Volvo Club
DESCRIPTION:XXXII. Frostbegrüßungsfahrt des Volvo Club \nMickyGründer von Alltagsklassiker\, mit großer Schwäche für gut gereifte japanische Fahrzeuge\, Prospekte und Modellautos; Fotograf\, Vitrinist\, buchaffin\, bewegt Mazda MX-5 NA V-Special\, Mazda 818 Sedan de Luxe\, Ford Focus Turnier MK3\, Puch Clubman\, Bianchi Arcadex und Puch Maxi L.
URL:https://www.alltagsklassiker.at/event/xxxii-frostbegruessungsfahrt-volvo-club/
CATEGORIES:Ausfahrt
END:VEVENT
BEGIN:VEVENT
DTSTART;VALUE=DATE:20261115
DTEND;VALUE=DATE:20261116
DTSTAMP:20260424T122742
CREATED:20230121T171459Z
LAST-MODIFIED:20260128T163038Z
UID:35951-1794700800-1794787199@www.alltagsklassiker.at
SUMMARY:Piston Kings Breakfast
DESCRIPTION:Piston Kings Breakfast \nMickyGründer von Alltagsklassiker\, mit großer Schwäche für gut gereifte japanische Fahrzeuge\, Prospekte und Modellautos; Fotograf\, Vitrinist\, buchaffin\, bewegt Mazda MX-5 NA V-Special\, Mazda 818 Sedan de Luxe\, Ford Focus Turnier MK3\, Puch Clubman\, Bianchi Arcadex und Puch Maxi L.
URL:https://www.alltagsklassiker.at/event/sunday-breakfast-motornights-cafe-10/
CATEGORIES:Treffen
ATTACH;FMTTYPE=image/jpeg:https://www.alltagsklassiker.at/wp-content/uploads/2023/01/pistonkingsbreakfast.jpg
END:VEVENT
BEGIN:VEVENT
DTSTART;VALUE=DATE:20261127
DTEND;VALUE=DATE:20261128
DTSTAMP:20260424T122742
CREATED:20230125T092754Z
LAST-MODIFIED:20260118T200149Z
UID:36011-1795737600-1795823999@www.alltagsklassiker.at
SUMMARY:Friday Night Classic Liezen
DESCRIPTION:Wir treffen uns jeden letzten Freitag im Monat ab 19:00 Uhr beim Burger King in Liezen. \n  \nUS – Cars\, HDs\, Old- und Youngtimer\, sowie alle Autobegeisterte sind herzlich willkommen! \n  \n \nMickyGründer von Alltagsklassiker\, mit großer Schwäche für gut gereifte japanische Fahrzeuge\, Prospekte und Modellautos; Fotograf\, Vitrinist\, buchaffin\, bewegt Mazda MX-5 NA V-Special\, Mazda 818 Sedan de Luxe\, Ford Focus Turnier MK3\, Puch Clubman\, Bianchi Arcadex und Puch Maxi L.
URL:https://www.alltagsklassiker.at/event/friday-night-classic-liezen-10/
LOCATION:Burger King Liezen\, Gesäusestraße 15\, Liezen\, 8940\, Österreich
CATEGORIES:Treffen
ATTACH;FMTTYPE=image/jpeg:https://www.alltagsklassiker.at/wp-content/uploads/2023/01/friday-night-classic.jpg
END:VEVENT
BEGIN:VEVENT
DTSTART;VALUE=DATE:20261128
DTEND;VALUE=DATE:20261129
DTSTAMP:20260424T122742
CREATED:20240211T105450Z
LAST-MODIFIED:20260127T195614Z
UID:40645-1795824000-1795910399@www.alltagsklassiker.at
SUMMARY:Car Meeting & Old Audi Teileflohmarkt beim Audi Klaus
DESCRIPTION:Weihnachtsspecial beim Old Audi Teileflohmarkt beim Audi Klaus \n  \n  \nMickyGründer von Alltagsklassiker\, mit großer Schwäche für gut gereifte japanische Fahrzeuge\, Prospekte und Modellautos; Fotograf\, Vitrinist\, buchaffin\, bewegt Mazda MX-5 NA V-Special\, Mazda 818 Sedan de Luxe\, Ford Focus Turnier MK3\, Puch Clubman\, Bianchi Arcadex und Puch Maxi L.
URL:https://www.alltagsklassiker.at/event/car-meeting-old-audi-teileflohmarkt-beim-audi-klaus-3/
LOCATION:Audi Klaus Teileflohmarkt\, Niederdorf 55a\, St. Katharein an der Laming\, 8611\, Österreich
CATEGORIES:Teilemarkt
END:VEVENT
BEGIN:VEVENT
DTSTART;VALUE=DATE:20261128
DTEND;VALUE=DATE:20261207
DTSTAMP:20260424T122743
CREATED:20230125T155139Z
LAST-MODIFIED:20260118T175202Z
UID:36019-1795824000-1796601599@www.alltagsklassiker.at
SUMMARY:Essen Motor Show
DESCRIPTION:Bei der ESSEN MOTOR SHOW dreht sich alles um automobile Begeisterung. \nDas beste Event der Tuning- und Zubehörbranche umfasst die Bereiche Performance & Racing\, Tuning & Lifestyle\, Motorsport und Classic Cars. Für Unterhaltung sorgt außerdem die neue Show Area und eine Verkaufsmeile für Zubehör in der Galeria \nMickyGründer von Alltagsklassiker\, mit großer Schwäche für gut gereifte japanische Fahrzeuge\, Prospekte und Modellautos; Fotograf\, Vitrinist\, buchaffin\, bewegt Mazda MX-5 NA V-Special\, Mazda 818 Sedan de Luxe\, Ford Focus Turnier MK3\, Puch Clubman\, Bianchi Arcadex und Puch Maxi L.
URL:https://www.alltagsklassiker.at/event/essen-motor-show/
CATEGORIES:Messe
ATTACH;FMTTYPE=image/jpeg:https://www.alltagsklassiker.at/wp-content/uploads/2023/01/logo_essenmotorshow_2024_rgb-scaled.jpg
END:VEVENT
END:VCALENDAR