BEGIN:VCALENDAR
VERSION:2.0
PRODID:-//Alltagsklassiker | IG zum Erhalt und Förderung der Fahrzeugkultur und Fahrzeuggeschichte - ECPv6.15.20//NONSGML v1.0//EN
CALSCALE:GREGORIAN
METHOD:PUBLISH
X-WR-CALNAME:Alltagsklassiker | IG zum Erhalt und Förderung der Fahrzeugkultur und Fahrzeuggeschichte
X-ORIGINAL-URL:https://www.alltagsklassiker.at
X-WR-CALDESC:Veranstaltungen für Alltagsklassiker | IG zum Erhalt und Förderung der Fahrzeugkultur und Fahrzeuggeschichte
REFRESH-INTERVAL;VALUE=DURATION:PT1H
X-Robots-Tag:noindex
X-PUBLISHED-TTL:PT1H
BEGIN:VTIMEZONE
TZID:Europe/Berlin
BEGIN:DAYLIGHT
TZOFFSETFROM:+0100
TZOFFSETTO:+0200
TZNAME:CEST
DTSTART:20250330T010000
END:DAYLIGHT
BEGIN:STANDARD
TZOFFSETFROM:+0200
TZOFFSETTO:+0100
TZNAME:CET
DTSTART:20251026T010000
END:STANDARD
BEGIN:DAYLIGHT
TZOFFSETFROM:+0100
TZOFFSETTO:+0200
TZNAME:CEST
DTSTART:20260329T010000
END:DAYLIGHT
BEGIN:STANDARD
TZOFFSETFROM:+0200
TZOFFSETTO:+0100
TZNAME:CET
DTSTART:20261025T010000
END:STANDARD
BEGIN:DAYLIGHT
TZOFFSETFROM:+0100
TZOFFSETTO:+0200
TZNAME:CEST
DTSTART:20270328T010000
END:DAYLIGHT
BEGIN:STANDARD
TZOFFSETFROM:+0200
TZOFFSETTO:+0100
TZNAME:CET
DTSTART:20271031T010000
END:STANDARD
END:VTIMEZONE
BEGIN:VEVENT
DTSTART;VALUE=DATE:20261002
DTEND;VALUE=DATE:20261003
DTSTAMP:20260424T110711
CREATED:20240216T155541Z
LAST-MODIFIED:20260118T165636Z
UID:40697-1790899200-1790985599@www.alltagsklassiker.at
SUMMARY:Steel and Wheels Nights Classics
DESCRIPTION:Offener Fahrzeugstammtisch für Oldtimer & Youngtimer Autos bis Baujahr 1995\, US.Cars\, Motorräder\, Motorroller\, Mopeds \nImmer am 1. Freitag im Monat von Mai bis Oktober bei der Wirterei in Schmidham. \n  \n  \nMickyGründer von Alltagsklassiker\, mit großer Schwäche für gut gereifte japanische Fahrzeuge\, Prospekte und Modellautos; Fotograf\, Vitrinist\, buchaffin\, bewegt Mazda MX-5 NA V-Special\, Mazda 818 Sedan de Luxe\, Ford Focus Turnier MK3\, Puch Clubman\, Bianchi Arcadex und Puch Maxi L.
URL:https://www.alltagsklassiker.at/event/steel-and-wheels-nights-7/
CATEGORIES:Treffen
ATTACH;FMTTYPE=image/jpeg:https://www.alltagsklassiker.at/wp-content/uploads/2024/02/IMG_2531.jpg
END:VEVENT
BEGIN:VEVENT
DTSTART;VALUE=DATE:20261003
DTEND;VALUE=DATE:20261004
DTSTAMP:20260424T110711
CREATED:20230120T182203Z
LAST-MODIFIED:20260131T075211Z
UID:35903-1790985600-1791071999@www.alltagsklassiker.at
SUMMARY:Oldtimer-Teile- und  Fahrzeugmarkt Bad Ischl
DESCRIPTION:Am Parkplatz Museum Fahrzeug- Technik – Luftfahrt\, an der B145.\nAngeboten werden Autos\, Motorräder\, Roller\, Ersatzteile aller Marken und Gattungen. Termine für die nächsten Jahre: jeden 1. Samstag im April und Oktober. \nTelefon: 06132 / 26658 \nMickyGründer von Alltagsklassiker\, mit großer Schwäche für gut gereifte japanische Fahrzeuge\, Prospekte und Modellautos; Fotograf\, Vitrinist\, buchaffin\, bewegt Mazda MX-5 NA V-Special\, Mazda 818 Sedan de Luxe\, Ford Focus Turnier MK3\, Puch Clubman\, Bianchi Arcadex und Puch Maxi L.
URL:https://www.alltagsklassiker.at/event/oldtimer-teile-und-fahrzeugmarkt-bad-ischl/
CATEGORIES:Teilemarkt
END:VEVENT
BEGIN:VEVENT
DTSTART;VALUE=DATE:20261003
DTEND;VALUE=DATE:20261004
DTSTAMP:20260424T110711
CREATED:20240228T162005Z
LAST-MODIFIED:20260127T165735Z
UID:40813-1790985600-1791071999@www.alltagsklassiker.at
SUMMARY:Mazda Classic Treffen Augsburg
DESCRIPTION:Am Samstag\, den 3. Oktober 2026\, lädt das Museumsteam wieder zum traditionellen Mazda Classic Treffen auf den Museumshof ein. Alle Fahrzeughalterinnen und -halter haben freien Eintritt zur Ausstellung\, wenn sie mit einem mindestens 30 Jahre alten Mazda Fahrzeug vorfahren. Neben dem Besuch des Museums und einer Reise in die Mazda Historie voller Kultmodelle und technischer Innovationen steht an diesem Tag vor allem die Geselligkeit und Fahrzeugschau unter Mazda Fans im Vordergrund. \nMickyGründer von Alltagsklassiker\, mit großer Schwäche für gut gereifte japanische Fahrzeuge\, Prospekte und Modellautos; Fotograf\, Vitrinist\, buchaffin\, bewegt Mazda MX-5 NA V-Special\, Mazda 818 Sedan de Luxe\, Ford Focus Turnier MK3\, Puch Clubman\, Bianchi Arcadex und Puch Maxi L.
URL:https://www.alltagsklassiker.at/event/mazda-classic-treffen-augsburg/
CATEGORIES:Treffen
END:VEVENT
BEGIN:VEVENT
DTSTART;VALUE=DATE:20261003
DTEND;VALUE=DATE:20261011
DTSTAMP:20260424T110711
CREATED:20230126T194254Z
LAST-MODIFIED:20260129T182746Z
UID:36163-1790985600-1791676799@www.alltagsklassiker.at
SUMMARY:Jupiters Flash -The Grand Italian Rally
DESCRIPTION:Ciao Abenteuer\, Ciao Dolce Vita\, Ciao Bella Italia! \nBei Jupiters Flash stehst Du unter Strom. Lass Dich von den schroffen Berglandschaft Norditaliens\, den mit Zypressen gesäumten Straßen der Toskana und den zerklüfteten Küstenverläufen Süditaliens elektrifizieren. Die italienische Lebensart wird Dich bei Jupiters Flash treffen wie ein Blitz – mit all ihrer Vielfalt und Charme. Bei The Grand Italy Rally heißt es fahren wie Gott in Italien! \nStarte Anfang September zur Weltpremiere der göttlichsten Rallye der Welt. Wähle ein Rallye-Gefährt mindestens 10 Jahre alt oder rein elektrisch! GPS und Navi bleiben zuhause. Lass Dich von Deiner göttlichen Fügung durch das wunderschöne Italien leiten. \nJupiters Flash – Optimus Maximus Abenteuer Rallye Action! \nMickyGründer von Alltagsklassiker\, mit großer Schwäche für gut gereifte japanische Fahrzeuge\, Prospekte und Modellautos; Fotograf\, Vitrinist\, buchaffin\, bewegt Mazda MX-5 NA V-Special\, Mazda 818 Sedan de Luxe\, Ford Focus Turnier MK3\, Puch Clubman\, Bianchi Arcadex und Puch Maxi L.
URL:https://www.alltagsklassiker.at/event/jupiters-flash-the-grand-italian-rally/
CATEGORIES:Funrallye
END:VEVENT
BEGIN:VEVENT
DTSTART;VALUE=DATE:20261004
DTEND;VALUE=DATE:20261005
DTSTAMP:20260424T110711
CREATED:20230108T185336Z
LAST-MODIFIED:20260129T155404Z
UID:35776-1791072000-1791158399@www.alltagsklassiker.at
SUMMARY:Cafe Gasolini
DESCRIPTION:CAFE GASOLINI  ist der österreichische Blechfrühschoppen für epochenverschleppende Automobilfreunde. \nEin Aufeinandertreffen von Cars & Coffee\, bei dem nichts zu Bruch geht und alle eine Hetz haben. Sagen wir so: Es ist ein Erntedankfest von Ventilspielern und Freunden der mechanischen Welt. \nBei CAFE GASOLINI sind alle Fahrzeuge bis zum Erscheinungsbaujahr 1970 mehr als erwünscht. \nAm Parkplatz von Josef – AUTO METZKER \nJeden ersten Sonntag im Monat. \nvon 9 – 11h25 – also 12x jährlich. \n(Terminänderungen werden bekanntgegeben) \nSchlechtwetter ist genauso erwünscht wie 2lagiges Toilettenpapier. \nMickyGründer von Alltagsklassiker\, mit großer Schwäche für gut gereifte japanische Fahrzeuge\, Prospekte und Modellautos; Fotograf\, Vitrinist\, buchaffin\, bewegt Mazda MX-5 NA V-Special\, Mazda 818 Sedan de Luxe\, Ford Focus Turnier MK3\, Puch Clubman\, Bianchi Arcadex und Puch Maxi L.
URL:https://www.alltagsklassiker.at/event/cafe-gasolini-3/
LOCATION:Auto Metzker\, Lokalbahnweg 6\, Vösendorf\, 2334\, Österreich
CATEGORIES:Cafe Gasolini
END:VEVENT
BEGIN:VEVENT
DTSTART;VALUE=DATE:20261005
DTEND;VALUE=DATE:20261021
DTSTAMP:20260424T110711
CREATED:20260129T185258Z
LAST-MODIFIED:20260129T185258Z
UID:50338-1791158400-1792540799@www.alltagsklassiker.at
SUMMARY:Pothole Rodeo Marokko
DESCRIPTION:Nach zwei Tagen auf der Fähre ab Genua beginnt das Abenteuer dort\, wo Europa langsam verblaßt – im Hafen von Tanger. Aus Meer wird Straße\, aus Stillstand Bewegung. Vor uns liegt ein Land\, das sich nicht erklären lässt\, sondern erfahren werden will. Marokko ist kein Ziel – es ist ein Spiel aus Gegensätzen: Diesel trifft auf Datteln\, Muezzin auf Motorsound\, Medina auf Mondlandschaft. \nWir halten stumpf Richtung Süden. Chefchaouen leuchtet blau in den Rifbergen und flüstert statt zu reden. Fès brüllt zurück – ein Labyrinth\, das dein Ego frisst\, wenn du’s zu ernst nimmst. Weiter geht’s über Landstraßen aus einem anderen Jahrhundert\, vorbei an Beni‑Mellal: schwierig auszusprechen\, unmöglich zu vergessen. \nMarrakesch kommt nicht als Stadt\, sondern als Schleudertrauma. Alles flirrt\, alles überfordert\, alles richtig. Wer statt Zelt ein Riad bucht\, versteht den Cheatcode sofort. Ab hier wird’s steinig: Der Hohe Atlas fräst Serpentinen in die Felsen\, der Asphalt bröckelt\, die Luft wird besser\, dein Handy schlechter. \nOuarzazate flimmert wie Hollywood\, doch das echte Kino startet erst im Drâa‑Tal und läuft weiter bis in die Westsahara. Tan‑Tan\, Smara\, Dakhla – mehr Idee als Ort\, Wind statt WLAN\, Freiheit statt Feinsandstrand. \n\n\nZurück rollen wir am Atlantik entlang. In Legzira schlagen Felsen Bögen\, in Essaouira kreischen Möwen wie Jazz auf Speed\, und Casablanca flackert wie ein Echo am Horizont. Genau dort schauen wir uns in die Augen und feiern unsere Siegerehrung – zwischen Großstadtgewusel und Meeresrauschen. Danach beginnt der zweitägige Epilog: eine letzte Etappe zurück nach Tanger. Noch einmal durch die Staubschichten des Landes\, am Meer entlang\, bevor die Zieleinfahrt in Tanger erfolgt – gleicher Hafen\, anderes Hirn. Es enden fünfzehn Tage\, knapp 4000 Kilometer. Wer braucht schon einen Siegerpokal? Es sind die erlebten Geschichten\, die Freundschaften\, die wertvoll sind. Ein Abenteuer\, das du nie vergisst. \n\nMickyGründer von Alltagsklassiker\, mit großer Schwäche für gut gereifte japanische Fahrzeuge\, Prospekte und Modellautos; Fotograf\, Vitrinist\, buchaffin\, bewegt Mazda MX-5 NA V-Special\, Mazda 818 Sedan de Luxe\, Ford Focus Turnier MK3\, Puch Clubman\, Bianchi Arcadex und Puch Maxi L.
URL:https://www.alltagsklassiker.at/event/pothole-rodeo-marokko/
CATEGORIES:Funrallye
END:VEVENT
BEGIN:VEVENT
DTSTART;VALUE=DATE:20261009
DTEND;VALUE=DATE:20261011
DTSTAMP:20260424T110712
CREATED:20260212T191215Z
LAST-MODIFIED:20260212T191215Z
UID:50608-1791504000-1791676799@www.alltagsklassiker.at
SUMMARY:4. Herbst-Klassik Steiermark
DESCRIPTION:4. Herbst-Klassik Steiermark des Volvoclub \nMickyGründer von Alltagsklassiker\, mit großer Schwäche für gut gereifte japanische Fahrzeuge\, Prospekte und Modellautos; Fotograf\, Vitrinist\, buchaffin\, bewegt Mazda MX-5 NA V-Special\, Mazda 818 Sedan de Luxe\, Ford Focus Turnier MK3\, Puch Clubman\, Bianchi Arcadex und Puch Maxi L.
URL:https://www.alltagsklassiker.at/event/4-herbst-klassik-steiermark/
CATEGORIES:Ausfahrt
END:VEVENT
BEGIN:VEVENT
DTSTART;VALUE=DATE:20261009
DTEND;VALUE=DATE:20261012
DTSTAMP:20260424T110712
CREATED:20260118T190831Z
LAST-MODIFIED:20260118T190852Z
UID:50112-1791504000-1791763199@www.alltagsklassiker.at
SUMMARY:Histo Cup Pannoniaring
DESCRIPTION:Hungaroring – Saisonfinale des Histo Cup 2026! \nVom 9. bis 11. Oktober 2026 findet das Saisonfinale des Histo Cup am Hungaroring in Ungarn statt. Die Formel-1-Strecke bietet mit ihrer technischen Charakteristik den perfekten Abschluss einer spannenden Saison. \nAlle Serien des Histo Cup kämpfen beim Finale um die letzten Punkte – Spannung bis zur letzten Runde ist garantiert. \nMickyGründer von Alltagsklassiker\, mit großer Schwäche für gut gereifte japanische Fahrzeuge\, Prospekte und Modellautos; Fotograf\, Vitrinist\, buchaffin\, bewegt Mazda MX-5 NA V-Special\, Mazda 818 Sedan de Luxe\, Ford Focus Turnier MK3\, Puch Clubman\, Bianchi Arcadex und Puch Maxi L.
URL:https://www.alltagsklassiker.at/event/histo-cup-pannoniaring/
CATEGORIES:Messe
END:VEVENT
BEGIN:VEVENT
DTSTART;VALUE=DATE:20261010
DTEND;VALUE=DATE:20261011
DTSTAMP:20260424T110712
CREATED:20220305T054111Z
LAST-MODIFIED:20260316T170528Z
UID:33253-1791590400-1791676799@www.alltagsklassiker.at
SUMMARY:Alltagsklassiker Saturday Night Cruising
DESCRIPTION:Das Alltagsklassiker Saturday Night Cruising geht 2026 in seine 15. Saison. Auch wenn sich über die vielen Jahre der Ort oder der Wochentag geändert haben\, eines ist immer gleich geblieben: Es erwartet dich ein entspannter Abend mit Freunden des gut gereiften Blechs\, tolle Gesprächen unter Gleichgesinnten und ganz viel Leidenschaft für klassische Fahrzeuge. \nSeit fünf Jahren ist das Center West unser Treffpunkt – eine bestens bewährte Location mit viel Platz und dem Restaurant Sägewerk West direkt vor Ort. Dort gibt’s kühle Drinks\, warme Speisen und einen schattigen Gastgarten mit bestem Blick auf die angereisten Oldies und Youngtimer\, die im milden Abendlicht besonders gut zur Geltung kommen. \nWir treffen uns an einem Samstag im Monat – von April bis Oktober\, ab 18 Uhr am Parkplatz des Center West. Komm vorbei\, mit deinem Youngtimer oder Oldtimer – Hauptsache\, du hast Freude an der Sache! \n  \n \n  \nWer?\nWillkommen sind bei uns alle Fahrzeuge aller Marken (Autos\, Mopeds\, Motorroller\, Motorräder und Fahrräder) bis Baujahr 2000\, egal ob Oldtimer oder Youngtimer\, egal welcher Marke und Type\, US-Cars\, europäische Fahrzeuge\, Nipponklassiker\, im Topzustand\, als Ratte\, zeitgenössisch optimiert oder mit kleinem Budget am Leben erhalten – alle sind gleichwertig und herzlich willkommen! Aber\, wir sind kein Tuningtreffen und folglich die falsche Anlaufstelle. \n  \nWann? \n10.Oktober 2026\n18h – 23h \n  \nWo?\nCenter West\nWeblinger Gürtel 25\n8054 Graz \n  \nEintritt:\nWir als Verein freuen uns über eine freiwillige Spende\, die du bei der Einfahrt in die Spendenbox werfen kannst\, am Alltagsklassiker Stehtisch in der Spendenbox deponieren kannst oder direkt hier online erledigen kannst. \n  \nAnfahrt planen:  \n \n  \nGastronomie:\nUm unser leibliches Wohl sorgt sich das Sägewerk West\, ein Lokal\, das uns neben kühlen Drinks und heißen Getränken auch mit allerlei Speisen im Bausatz-Stil versorgt: Aus unzähligen Wahlmöglichkeiten kann man sich dort Burger\, Pizza\, Pfandl\, Salat\, Toast\, Eierspeis\, Nudel und Dessert nach dem ganz eigenen Geschmack zusammenstellen. \n  \nVerhaltensregeln:\nEs war bisher noch nie ein Problem dank eures vorbildhaften Verhaltens\, ich möchte euch trotzdem nochmals in Erinnerung rufen\, dass wir im Center West zu Gast sind und uns auch dort an die StVO halten müssen. Kein unnötiges Gasgeben und Aufheulen lassen des Motors\, kein Gummi Gummi – nehmt Rücksicht auf die Anrainer\, besonders zu nächtlicher Stunde bei der Heimfahrt. \nBesonderes Augenmerk legt bitte auf die Behindertenparkplätze\, die Ladesäulen bzw. Tesla Supercharger: Diese müssen stets frei bleiben. Sollte kein Parkplatz mehr frei sein\, weicht bitte auf den großen Parkplatz im Inneren des Weblinger Verteilerkreises aus. \n  \nFoto- und Filmaufnahmen:\nIm Rahmen Deiner Teilnahme an Veranstaltung von Alltagsklassiker werden möglicherweise Bild- und/oder Videoaufnahmen (gegebenenfalls mit Audioaufnahmen) von Dir und Deinem Fahrzeug erstellt. Diese Aufnahmen können in verschiedenen Medien ( Webseite\, Facebook\, Instagram\, YouTube\, etc) und in Publikationen (Print\, Online\, etc) von Alltagsklassiker und anderen Medien zum Zwecke der Öffentlichkeitsarbeit Verwendung finden. Mit dem Besuch einer unserer Veranstaltung\, stimmst Du dieser Nutzung zu. Darüber hinaus dienen die Aufnahmen Dokumentationszwecken. \nDanke:\nEin herzliches Dankeschön an dieser Stelle an das Center West und das Sägewerk West für die Gastfreundschaft. \nMit freundlicher Unterstützung unserer Sponsoren \n\nFrieko’s Garage\nDer Sachverständige\n Ertler’s Garage\nHotel Kern Buam\nCar Stories\nMotorbiene\n\nHotelpartner:\nDu reist von aus der Ferne zu unserem Treffen an? Wir haben seit 2025 eine Partnerschaft mit dem Hotel Kern Baum\, dass nicht weit von unserem Treffenstandort entfernt liegt. Hier bekommst du alle Infos\, wie du im Hotel Kern Buam günstiger übernachten kannst: \n \nMickyGründer von Alltagsklassiker\, mit großer Schwäche für gut gereifte japanische Fahrzeuge\, Prospekte und Modellautos; Fotograf\, Vitrinist\, buchaffin\, bewegt Mazda MX-5 NA V-Special\, Mazda 818 Sedan de Luxe\, Ford Focus Turnier MK3\, Puch Clubman\, Bianchi Arcadex und Puch Maxi L.
URL:https://www.alltagsklassiker.at/event/alltagsklassiker-saturday-night-cruising-oktober/
LOCATION:Center West\, Weblinger Gürtel 25\, Graz\, 8054\, Österreich
CATEGORIES:Alltagsklassiker
ATTACH;FMTTYPE=image/png:https://www.alltagsklassiker.at/wp-content/uploads/2022/03/VA-FB-Oktober-2026.png
END:VEVENT
BEGIN:VEVENT
DTSTART;VALUE=DATE:20261010
DTEND;VALUE=DATE:20261011
DTSTAMP:20260424T110712
CREATED:20230125T161159Z
LAST-MODIFIED:20260127T204147Z
UID:36029-1791590400-1791676799@www.alltagsklassiker.at
SUMMARY:Flohmarkt\, Oldtimer-Teilemarkt und Antiquitätenmesse
DESCRIPTION:Flohmarkt\, Oldtimer-Teilemarkt und Antiquitätenmesse in der Oldtimerhalle in 3372 Blindenmarkt \nMickyGründer von Alltagsklassiker\, mit großer Schwäche für gut gereifte japanische Fahrzeuge\, Prospekte und Modellautos; Fotograf\, Vitrinist\, buchaffin\, bewegt Mazda MX-5 NA V-Special\, Mazda 818 Sedan de Luxe\, Ford Focus Turnier MK3\, Puch Clubman\, Bianchi Arcadex und Puch Maxi L.
URL:https://www.alltagsklassiker.at/event/flohmarkt-oldtimer-teilemarkt-und-antiquitaetenmesse-2/
CATEGORIES:Teilemarkt
END:VEVENT
BEGIN:VEVENT
DTSTART;VALUE=DATE:20261010
DTEND;VALUE=DATE:20261011
DTSTAMP:20260424T110712
CREATED:20260212T190422Z
LAST-MODIFIED:20260212T190422Z
UID:50599-1791590400-1791676799@www.alltagsklassiker.at
SUMMARY:fahr(T)raum Oldtimer-Fest
DESCRIPTION:fahr(T)raum Oldtimer-Fest\nEin Oldtimer-Fest mit Livemusik\, kleinen Stärkungen\, kurzen Rundfahrten\, Fachsimpeln und viel Spaß! \nWir wollen gemeinsam mit euch einen schönen Tag genießen! \nLet the good times roll… \nSamstag\, der 10. Oktober 2026 \nMickyGründer von Alltagsklassiker\, mit großer Schwäche für gut gereifte japanische Fahrzeuge\, Prospekte und Modellautos; Fotograf\, Vitrinist\, buchaffin\, bewegt Mazda MX-5 NA V-Special\, Mazda 818 Sedan de Luxe\, Ford Focus Turnier MK3\, Puch Clubman\, Bianchi Arcadex und Puch Maxi L.
URL:https://www.alltagsklassiker.at/event/fahrtraum-oldtimer-fest-2/
CATEGORIES:Treffen
END:VEVENT
BEGIN:VEVENT
DTSTART;VALUE=DATE:20261016
DTEND;VALUE=DATE:20261017
DTSTAMP:20260424T110712
CREATED:20260131T074941Z
LAST-MODIFIED:20260131T074941Z
UID:50372-1792108800-1792195199@www.alltagsklassiker.at
SUMMARY:Kraigerberg GHOST Classic Rallye
DESCRIPTION:Weitere Informationen bzw. die genaue Ausschreibung\, Nennliste und die Möglichkeit zur Anmeldung wird bis Ende Februar auf dieser Seite veröffentlicht. \nMickyGründer von Alltagsklassiker\, mit großer Schwäche für gut gereifte japanische Fahrzeuge\, Prospekte und Modellautos; Fotograf\, Vitrinist\, buchaffin\, bewegt Mazda MX-5 NA V-Special\, Mazda 818 Sedan de Luxe\, Ford Focus Turnier MK3\, Puch Clubman\, Bianchi Arcadex und Puch Maxi L.
URL:https://www.alltagsklassiker.at/event/kraigerberg-ghost-classic-rallye/
CATEGORIES:Rallye
END:VEVENT
BEGIN:VEVENT
DTSTART;VALUE=DATE:20261016
DTEND;VALUE=DATE:20261019
DTSTAMP:20260424T110712
CREATED:20220219T175919Z
LAST-MODIFIED:20260118T173308Z
UID:33201-1792108800-1792367999@www.alltagsklassiker.at
SUMMARY:Classic Expo Salzburg
DESCRIPTION:Internationale Oldtimermesse in Salzbur \nDer Tacho der Classic Expo zählt bereits 21 Jahre\, in denen sie sich zum beliebten Branchentreffpunkt entwickelt hat. Vom 16. bis zum 18. Oktober 2026 öffnet sie ihre Garagentore und lädt ein\, Automobilgeschichte aus den verschiedensten Jahrzehnten zu erleben. \nMarktplatz für Oldtimerfreunde – Ob Zweirad oder Vierrad\, für’s Gelände oder für die Straße. Auf der Classic Expo in Salzburg trifft sich alles\, was in der Oldtimerszene Rang und Namen hat\, Fahrzeuge wie Händler. Drei benzingeladene Messetage\, die mit jeder Menge Chrom & Glanz für Staunen sorgen und Fans der nostalgischen Gefährte zusammenbringen. \n  \nMickyGründer von Alltagsklassiker\, mit großer Schwäche für gut gereifte japanische Fahrzeuge\, Prospekte und Modellautos; Fotograf\, Vitrinist\, buchaffin\, bewegt Mazda MX-5 NA V-Special\, Mazda 818 Sedan de Luxe\, Ford Focus Turnier MK3\, Puch Clubman\, Bianchi Arcadex und Puch Maxi L.
URL:https://www.alltagsklassiker.at/event/classic-expo-salzburg/
CATEGORIES:Messe
ATTACH;FMTTYPE=image/jpeg:https://www.alltagsklassiker.at/wp-content/uploads/2022/02/classic_expo_logo.jpg
END:VEVENT
BEGIN:VEVENT
DTSTART;VALUE=DATE:20261016
DTEND;VALUE=DATE:20261026
DTSTAMP:20260424T110713
CREATED:20260213T173003Z
LAST-MODIFIED:20260213T173003Z
UID:50650-1792108800-1792972799@www.alltagsklassiker.at
SUMMARY:winelands classic - cape edition
DESCRIPTION:Erlebt Südafrika in seiner elegantesten Form: ein handverlesener Roadtrip durch die Western Cape Region – im stilvollen Mercedes-Oldtimer\, in einer kleinen Gruppe und persönlich begleitet. Diese Reise verbindet kurvige Traumstraßen\, große Landschaften und echte Begegnungen mit Genussmomenten\, die bleiben: Boutique-Lodges\, ausgesuchte Weingüter\, außergewöhnliche Stopps und genug Zeit für Fotospots\, Pausen und das typische „Roadtrip-Gefühl“. \nWestern Cape Oldtimer-Roadtrip – Kapstadt\, Winelands & Garden Route in 10 Tagen \nMickyGründer von Alltagsklassiker\, mit großer Schwäche für gut gereifte japanische Fahrzeuge\, Prospekte und Modellautos; Fotograf\, Vitrinist\, buchaffin\, bewegt Mazda MX-5 NA V-Special\, Mazda 818 Sedan de Luxe\, Ford Focus Turnier MK3\, Puch Clubman\, Bianchi Arcadex und Puch Maxi L.
URL:https://www.alltagsklassiker.at/event/winelands-classic-cape-edition/
CATEGORIES:Funrallye
END:VEVENT
BEGIN:VEVENT
DTSTART;VALUE=DATE:20261018
DTEND;VALUE=DATE:20261019
DTSTAMP:20260424T110713
CREATED:20220402T070252Z
LAST-MODIFIED:20260118T185237Z
UID:33688-1792281600-1792367999@www.alltagsklassiker.at
SUMMARY:Bergrallye Markt Hartmannsdorf
DESCRIPTION:Bergrallye Markt Hartmannsdorf \nMickyGründer von Alltagsklassiker\, mit großer Schwäche für gut gereifte japanische Fahrzeuge\, Prospekte und Modellautos; Fotograf\, Vitrinist\, buchaffin\, bewegt Mazda MX-5 NA V-Special\, Mazda 818 Sedan de Luxe\, Ford Focus Turnier MK3\, Puch Clubman\, Bianchi Arcadex und Puch Maxi L.
URL:https://www.alltagsklassiker.at/event/bergrallye-poellauberg/
CATEGORIES:Motorsport
END:VEVENT
BEGIN:VEVENT
DTSTART;VALUE=DATE:20261018
DTEND;VALUE=DATE:20261019
DTSTAMP:20260424T110713
CREATED:20230121T171359Z
LAST-MODIFIED:20260128T162952Z
UID:35949-1792281600-1792367999@www.alltagsklassiker.at
SUMMARY:Piston Kings Breakfast
DESCRIPTION:Piston Kings Breakfast \nMickyGründer von Alltagsklassiker\, mit großer Schwäche für gut gereifte japanische Fahrzeuge\, Prospekte und Modellautos; Fotograf\, Vitrinist\, buchaffin\, bewegt Mazda MX-5 NA V-Special\, Mazda 818 Sedan de Luxe\, Ford Focus Turnier MK3\, Puch Clubman\, Bianchi Arcadex und Puch Maxi L.
URL:https://www.alltagsklassiker.at/event/sunday-breakfast-motornights-cafe-9/
CATEGORIES:Treffen
ATTACH;FMTTYPE=image/jpeg:https://www.alltagsklassiker.at/wp-content/uploads/2023/01/pistonkingsbreakfast.jpg
END:VEVENT
BEGIN:VEVENT
DTSTART;VALUE=DATE:20261022
DTEND;VALUE=DATE:20261025
DTSTAMP:20260424T110713
CREATED:20240301T181332Z
LAST-MODIFIED:20260128T175330Z
UID:40910-1792627200-1792886399@www.alltagsklassiker.at
SUMMARY:Classic 1000
DESCRIPTION:🏁 Die legendäre CLASSIC 1000 startet auch in diesem Jahr! 🚗💨\nGenießen Sie eine unvergessliche Oldtimer-Rallye durch die herbstlichen Landschaften Niederösterreichs. 🍂 \n📅 Termin: 22.-24. Oktober 2026\n🛣 Streckenlänge: Ca. 1000 km \nWeitere Infos unter www.classic1000.at \n  \n  \nMickyGründer von Alltagsklassiker\, mit großer Schwäche für gut gereifte japanische Fahrzeuge\, Prospekte und Modellautos; Fotograf\, Vitrinist\, buchaffin\, bewegt Mazda MX-5 NA V-Special\, Mazda 818 Sedan de Luxe\, Ford Focus Turnier MK3\, Puch Clubman\, Bianchi Arcadex und Puch Maxi L.
URL:https://www.alltagsklassiker.at/event/classic-1000/
CATEGORIES:Rallye
ATTACH;FMTTYPE=image/jpeg:https://www.alltagsklassiker.at/wp-content/uploads/2024/03/Classic1000-2024.jpg
END:VEVENT
BEGIN:VEVENT
DTSTART;VALUE=DATE:20261022
DTEND;VALUE=DATE:20261026
DTSTAMP:20260424T110713
CREATED:20260118T183525Z
LAST-MODIFIED:20260118T184112Z
UID:50088-1792627200-1792972799@www.alltagsklassiker.at
SUMMARY:Auto e Moto d’Epoca Bologna
DESCRIPTION:Auto e Moto d’Epoca ist das pulsierende Herz der Motorenleidenschaft: die größte Messe Europas\, wo sich Geschichte\, Design und Technologie zu einem einzigartigen Erlebnis vereinen. Hier erzählt jedes Modell eine außergewöhnliche Geschichte\, jeder Stand ist ein Stück Kultur\, jedes Detail ist ein Abstecher in die Vergangenheit\, die mit der Gegenwart spricht. Mit über 5000 Autos und Motorrädern jeden Zeitalters\, seltenen Ersatzteilen und authentischen Memorabilien ist die Messe ein Bezugspunkt für Sammler\, Liebhaber und Begeisterte jeden Alters. Es ist ein Ort\, an dem sich Generationen begegnen\, wo Leidenschaft weitergegeben und neu entfacht wird\, wo der Zauber des Klassischen mit dem Staunen über die Zukunft verschmilzt. Es ist nicht nur ein Event. Es ist eine Erfahrung\, die man erlebt\, tief einatmet und nie vergisst. \nMickyGründer von Alltagsklassiker\, mit großer Schwäche für gut gereifte japanische Fahrzeuge\, Prospekte und Modellautos; Fotograf\, Vitrinist\, buchaffin\, bewegt Mazda MX-5 NA V-Special\, Mazda 818 Sedan de Luxe\, Ford Focus Turnier MK3\, Puch Clubman\, Bianchi Arcadex und Puch Maxi L.
URL:https://www.alltagsklassiker.at/event/auto-e-moto-depoca-bologna/
CATEGORIES:Messe
END:VEVENT
BEGIN:VEVENT
DTSTART;VALUE=DATE:20261029
DTEND;VALUE=DATE:20261030
DTSTAMP:20260424T110713
CREATED:20230124T175719Z
LAST-MODIFIED:20260118T200306Z
UID:36009-1793232000-1793318399@www.alltagsklassiker.at
SUMMARY:Friday Night Classic Liezen
DESCRIPTION:Wir treffen uns jeden letzten Freitag im Monat ab 19:00 Uhr beim Burger King in Liezen. \n  \nUS – Cars\, HDs\, Old- und Youngtimer\, sowie alle Autobegeisterte sind herzlich willkommen! \n  \n \nMickyGründer von Alltagsklassiker\, mit großer Schwäche für gut gereifte japanische Fahrzeuge\, Prospekte und Modellautos; Fotograf\, Vitrinist\, buchaffin\, bewegt Mazda MX-5 NA V-Special\, Mazda 818 Sedan de Luxe\, Ford Focus Turnier MK3\, Puch Clubman\, Bianchi Arcadex und Puch Maxi L.
URL:https://www.alltagsklassiker.at/event/friday-night-classic-liezen-9/
LOCATION:Burger King Liezen\, Gesäusestraße 15\, Liezen\, 8940\, Österreich
CATEGORIES:Treffen
ATTACH;FMTTYPE=image/jpeg:https://www.alltagsklassiker.at/wp-content/uploads/2023/01/friday-night-classic.jpg
END:VEVENT
BEGIN:VEVENT
DTSTART;VALUE=DATE:20261029
DTEND;VALUE=DATE:20261030
DTSTAMP:20260424T110714
CREATED:20260205T162608Z
LAST-MODIFIED:20260205T162608Z
UID:50529-1793232000-1793318399@www.alltagsklassiker.at
SUMMARY:Old School Donnerstag Treffen
DESCRIPTION:Old School Donnerstag Treffen am 29.10. 2026 im Café Okay in Kalsdorf/Graz ab 18h \nMickyGründer von Alltagsklassiker\, mit großer Schwäche für gut gereifte japanische Fahrzeuge\, Prospekte und Modellautos; Fotograf\, Vitrinist\, buchaffin\, bewegt Mazda MX-5 NA V-Special\, Mazda 818 Sedan de Luxe\, Ford Focus Turnier MK3\, Puch Clubman\, Bianchi Arcadex und Puch Maxi L.
URL:https://www.alltagsklassiker.at/event/old-school-donnerstag-treffen-5/
CATEGORIES:Treffen
ATTACH;FMTTYPE=image/jpeg:https://www.alltagsklassiker.at/wp-content/uploads/2026/02/3951646F-AB08-426A-AE4A-1337826B6986.jpg
END:VEVENT
BEGIN:VEVENT
DTSTART;VALUE=DATE:20261031
DTEND;VALUE=DATE:20261101
DTSTAMP:20260424T110714
CREATED:20221002T135349Z
LAST-MODIFIED:20260118T184512Z
UID:35321-1793404800-1793491199@www.alltagsklassiker.at
SUMMARY:Halloween Cruise Night
DESCRIPTION:Halloween Cruise Night am 31.10.2026  (Ort wird noch bekannt gegeben). \n  \n„Auch heuer findet wieder eine Kundenausfahrt von Franz Josef Enterprises Oldtimerservice zu Halloween statt.“ \n  \n \n  \n  \nBilder von vergangenen Halloween Cruise Nights findest du im Archiv. \nMickyGründer von Alltagsklassiker\, mit großer Schwäche für gut gereifte japanische Fahrzeuge\, Prospekte und Modellautos; Fotograf\, Vitrinist\, buchaffin\, bewegt Mazda MX-5 NA V-Special\, Mazda 818 Sedan de Luxe\, Ford Focus Turnier MK3\, Puch Clubman\, Bianchi Arcadex und Puch Maxi L.
URL:https://www.alltagsklassiker.at/event/halloween-cruise-night/
CATEGORIES:Treffen
ATTACH;FMTTYPE=image/jpeg:https://www.alltagsklassiker.at/wp-content/uploads/2019/11/IMG_6624halloween-cruise-night-2019.jpg
END:VEVENT
END:VCALENDAR