BEGIN:VCALENDAR
VERSION:2.0
PRODID:-//Alltagsklassiker | IG zum Erhalt und Förderung der Fahrzeugkultur und Fahrzeuggeschichte - ECPv6.15.20//NONSGML v1.0//EN
CALSCALE:GREGORIAN
METHOD:PUBLISH
X-ORIGINAL-URL:https://www.alltagsklassiker.at
X-WR-CALDESC:Veranstaltungen für Alltagsklassiker | IG zum Erhalt und Förderung der Fahrzeugkultur und Fahrzeuggeschichte
REFRESH-INTERVAL;VALUE=DURATION:PT1H
X-Robots-Tag:noindex
X-PUBLISHED-TTL:PT1H
BEGIN:VTIMEZONE
TZID:Europe/Berlin
BEGIN:DAYLIGHT
TZOFFSETFROM:+0100
TZOFFSETTO:+0200
TZNAME:CEST
DTSTART:20260329T010000
END:DAYLIGHT
BEGIN:STANDARD
TZOFFSETFROM:+0200
TZOFFSETTO:+0100
TZNAME:CET
DTSTART:20261025T010000
END:STANDARD
BEGIN:DAYLIGHT
TZOFFSETFROM:+0100
TZOFFSETTO:+0200
TZNAME:CEST
DTSTART:20270328T010000
END:DAYLIGHT
BEGIN:STANDARD
TZOFFSETFROM:+0200
TZOFFSETTO:+0100
TZNAME:CET
DTSTART:20271031T010000
END:STANDARD
BEGIN:DAYLIGHT
TZOFFSETFROM:+0100
TZOFFSETTO:+0200
TZNAME:CEST
DTSTART:20280326T010000
END:DAYLIGHT
BEGIN:STANDARD
TZOFFSETFROM:+0200
TZOFFSETTO:+0100
TZNAME:CET
DTSTART:20281029T010000
END:STANDARD
END:VTIMEZONE
BEGIN:VEVENT
DTSTART;VALUE=DATE:20270228
DTEND;VALUE=DATE:20270301
DTSTAMP:20260425T145122
CREATED:20260213T173155Z
LAST-MODIFIED:20260213T173155Z
UID:50652-1803772800-1803859199@www.alltagsklassiker.at
SUMMARY:winelands classic - cape edition
DESCRIPTION:Erlebt Südafrika in seiner elegantesten Form: ein handverlesener Roadtrip durch die Western Cape Region – im stilvollen Mercedes-Oldtimer\, in einer kleinen Gruppe und persönlich begleitet. Diese Reise verbindet kurvige Traumstraßen\, große Landschaften und echte Begegnungen mit Genussmomenten\, die bleiben: Boutique-Lodges\, ausgesuchte Weingüter\, außergewöhnliche Stopps und genug Zeit für Fotospots\, Pausen und das typische „Roadtrip-Gefühl“. \nWestern Cape Oldtimer-Roadtrip – Kapstadt\, Winelands & Garden Route in 10 Tagen \nMickyGründer von Alltagsklassiker\, mit großer Schwäche für gut gereifte japanische Fahrzeuge\, Prospekte und Modellautos; Fotograf\, Vitrinist\, buchaffin\, bewegt Mazda MX-5 NA V-Special\, Mazda 818 Sedan de Luxe\, Ford Focus Turnier MK3\, Puch Clubman\, Bianchi Arcadex und Puch Maxi L.
URL:https://www.alltagsklassiker.at/event/winelands-classic-cape-edition-2/
CATEGORIES:Funrallye
END:VEVENT
BEGIN:VEVENT
DTSTART;VALUE=DATE:20270517
DTEND;VALUE=DATE:20270527
DTSTAMP:20260425T145122
CREATED:20230127T085214Z
LAST-MODIFIED:20260129T183743Z
UID:36196-1810512000-1811375999@www.alltagsklassiker.at
SUMMARY:Knights of the Island
DESCRIPTION:Knights of the Island – der atemberaubendste Rallye Roadtrip durch das Vereinigte Königreich. \nDie Rallyeroute führt Euch von den schroffen Steilküsten Südenglands über die höchsten Gipfel Snowdonias in Wales bis in die sagenumwobenen Highlands nach Schottland. \nEntdecke die britischen Metropolen Liverpool\, Manchester und Glasgow sowie die einzigartigen Landschaften des Lake Distrikts und den nördlichsten Punkt Schottlands\, John O’Groats. Entspanne abends beim Whisky-Tasting in der Speyside oder beim Lagerfeuer auf der Isle of Skye. Bei den gemeinsamen Rallye-Events und Action Stations zwischen Keltischer See und den schottischen Highlands zelebrieren wir zusammen dieses einzigartige Abenteuer durch Großbritannien. \nWir navigieren klassisch mit Karte und Kompass über die geschlängelten und versteckten Backroads der Insel. Für welches Rallye Fahrzeug entscheidest du dich? \n2027 feiert die legendäre Knights of the Island Abenteuer Rallye ihre 10. Ausgabe – verpasse also nicht deine Chance dabei zu sein! \nMickyGründer von Alltagsklassiker\, mit großer Schwäche für gut gereifte japanische Fahrzeuge\, Prospekte und Modellautos; Fotograf\, Vitrinist\, buchaffin\, bewegt Mazda MX-5 NA V-Special\, Mazda 818 Sedan de Luxe\, Ford Focus Turnier MK3\, Puch Clubman\, Bianchi Arcadex und Puch Maxi L.
URL:https://www.alltagsklassiker.at/event/knights-of-the-island/
CATEGORIES:Funrallye
END:VEVENT
BEGIN:VEVENT
DTSTART;VALUE=DATE:20270620
DTEND;VALUE=DATE:20270625
DTSTAMP:20260425T145123
CREATED:20260201T192007Z
LAST-MODIFIED:20260201T192101Z
UID:50478-1813449600-1813881599@www.alltagsklassiker.at
SUMMARY:Carbage Run Summer Edition Helsinki
DESCRIPTION:Die Herausforderung besteht darin\, mit einer alten Rostlaube eine unvergessliche 5-tägige Tour durch Schweden & Finnland über rund 2.500 Kilometer zu absolvieren. Beim Carbage run geht es nicht um Geschwindigkeit und/oder Zeit\, sondern um Kreativität\, Verrücktheit\, Abenteuer und Spaß! Es geht nicht darum\, wer als Erster ankommt\, natürlich gibt es aber ein Spielelement. Jeden Tag bekommst du Challenges\, mit denen du Punkte sammeln kannst\, und das Team mit den meisten Punkten am Ende der Woche gewinnt. Diese Aufgaben bringen dich in bizarre Situationen\, über die du noch lange sprechen wirst. Natürlich gibt es jeden Abend Geselligkeit und du wirst viel Spaß mit deinen Mitrunnern haben.\nAber mit einer alten Schrottkiste ist die Wahrscheinlichkeit natürlich groß\, dass du unterwegs eine Panne hast. Und genau das ist auch die Absicht! Du bist kein echter Carbage runner\, wenn dein Auto nicht den Geist aufgibt. Der Carbage run hat keinen Abschleppwagen\, keinen Pannendienst und keinen technischen Service\, aber du bist ganz sicher nicht auf dich allein gestellt. Auf deine Mitrunner kommt es an\, und das hat sich in den vergangenen Jahren gezeigt: Runner helfen sich gegenseitig – immer! Und genau das ist die Stärke einer großen Gruppe: Du musst nie lange auf Hilfe warten und triffst überall auf andere Teilnehmer. Es ist eine große Familie\, zu der du gehörst. \nMickyGründer von Alltagsklassiker\, mit großer Schwäche für gut gereifte japanische Fahrzeuge\, Prospekte und Modellautos; Fotograf\, Vitrinist\, buchaffin\, bewegt Mazda MX-5 NA V-Special\, Mazda 818 Sedan de Luxe\, Ford Focus Turnier MK3\, Puch Clubman\, Bianchi Arcadex und Puch Maxi L.
URL:https://www.alltagsklassiker.at/event/carbage-run/
CATEGORIES:Funrallye
END:VEVENT
BEGIN:VEVENT
DTSTART;VALUE=DATE:20270801
DTEND;VALUE=DATE:20270802
DTSTAMP:20260425T145123
CREATED:20220306T104527Z
LAST-MODIFIED:20250801T182409Z
UID:33258-1817078400-1817164799@www.alltagsklassiker.at
SUMMARY:Oldtimertreffen Graggerer
DESCRIPTION:Oldtimertreffen in Graggerer in St. Josef/Weststeiermark \n  \nMickyGründer von Alltagsklassiker\, mit großer Schwäche für gut gereifte japanische Fahrzeuge\, Prospekte und Modellautos; Fotograf\, Vitrinist\, buchaffin\, bewegt Mazda MX-5 NA V-Special\, Mazda 818 Sedan de Luxe\, Ford Focus Turnier MK3\, Puch Clubman\, Bianchi Arcadex und Puch Maxi L.
URL:https://www.alltagsklassiker.at/event/oldtimertreffen-graggerer/
CATEGORIES:Treffen
END:VEVENT
BEGIN:VEVENT
DTSTART;VALUE=DATE:20270820
DTEND;VALUE=DATE:20270823
DTSTAMP:20260425T145123
CREATED:20230219T092214Z
LAST-MODIFIED:20260204T185733Z
UID:36283-1818720000-1818979199@www.alltagsklassiker.at
SUMMARY:Cadillac Big Meet
DESCRIPTION:Cadillac Big Meet vom 20. -bis zum 22.08.2027 in Kremsmünster \n  \n  \nMickyGründer von Alltagsklassiker\, mit großer Schwäche für gut gereifte japanische Fahrzeuge\, Prospekte und Modellautos; Fotograf\, Vitrinist\, buchaffin\, bewegt Mazda MX-5 NA V-Special\, Mazda 818 Sedan de Luxe\, Ford Focus Turnier MK3\, Puch Clubman\, Bianchi Arcadex und Puch Maxi L.
URL:https://www.alltagsklassiker.at/event/cadillac-big-meet/
CATEGORIES:Treffen
END:VEVENT
BEGIN:VEVENT
DTSTART;VALUE=DATE:20270902
DTEND;VALUE=DATE:20270903
DTSTAMP:20260425T145123
CREATED:20260201T192220Z
LAST-MODIFIED:20260201T192220Z
UID:50481-1819843200-1819929599@www.alltagsklassiker.at
SUMMARY:Carbage Run - 15 Länder in 5 Tagen
DESCRIPTION:Die Herausforderung besteht darin\, mit einem alten Klapperkasten eine unvergessliche 5-tägige Tour durch 15 Länder über ca. 2.000 Kilometer zu meistern. Der Carbage run geht nicht um Geschwindigkeit oder Zeit\, sondern um Kreativität\, Verrücktheit\, Abenteuer und Spaß!\nEs geht nicht darum\, wer zuerst ankommt\, aber natürlich gibt es ein Spielelement: Jeden Tag bekommst du Challenges\, mit denen du Punkte sammeln kannst\, und das Team mit den meisten Punkten am Ende der Woche gewinnt. Diese Aufgaben bringen dich in bizarr-komische Situationen\, über die du noch lange sprechen wirst.\nNatürlich gibt es jeden Abend Geselligkeit und viel Spaß mit deinen Mitrunnern. Mit einem alten Klapperkasten ist es jedoch sehr wahrscheinlich\, dass du unterwegs eine Panne haben wirst – und genau das ist der Sinn der Sache! Du bist kein echter Carbage runner\, wenn dein Auto nicht einmal den Geist aufgibt.\nDer Carbage run verfügt über keinen Abschleppwagen\, Pannendienst oder technische Unterstützung\, aber du bist nie allein: Deine Mitrunner helfen immer\, das hat sich in den letzten Jahren gezeigt. Und das ist die Stärke einer großen Gruppe: Du musst nie lange auf Hilfe warten und triffst überall auf andere Teilnehmer. Es ist eine große Familie\, der du angehörst. \nMickyGründer von Alltagsklassiker\, mit großer Schwäche für gut gereifte japanische Fahrzeuge\, Prospekte und Modellautos; Fotograf\, Vitrinist\, buchaffin\, bewegt Mazda MX-5 NA V-Special\, Mazda 818 Sedan de Luxe\, Ford Focus Turnier MK3\, Puch Clubman\, Bianchi Arcadex und Puch Maxi L.
URL:https://www.alltagsklassiker.at/event/carbage-run-15-laender-in-5-tagen/
CATEGORIES:Funrallye
END:VEVENT
END:VCALENDAR