BEGIN:VCALENDAR
VERSION:2.0
PRODID:-//Alltagsklassiker | IG zum Erhalt und Förderung der Fahrzeugkultur und Fahrzeuggeschichte - ECPv6.15.20//NONSGML v1.0//EN
CALSCALE:GREGORIAN
METHOD:PUBLISH
X-ORIGINAL-URL:https://www.alltagsklassiker.at
X-WR-CALDESC:Veranstaltungen für Alltagsklassiker | IG zum Erhalt und Förderung der Fahrzeugkultur und Fahrzeuggeschichte
REFRESH-INTERVAL;VALUE=DURATION:PT1H
X-Robots-Tag:noindex
X-PUBLISHED-TTL:PT1H
BEGIN:VTIMEZONE
TZID:Europe/Berlin
BEGIN:DAYLIGHT
TZOFFSETFROM:+0100
TZOFFSETTO:+0200
TZNAME:CEST
DTSTART:20260329T010000
END:DAYLIGHT
BEGIN:STANDARD
TZOFFSETFROM:+0200
TZOFFSETTO:+0100
TZNAME:CET
DTSTART:20261025T010000
END:STANDARD
BEGIN:DAYLIGHT
TZOFFSETFROM:+0100
TZOFFSETTO:+0200
TZNAME:CEST
DTSTART:20270328T010000
END:DAYLIGHT
BEGIN:STANDARD
TZOFFSETFROM:+0200
TZOFFSETTO:+0100
TZNAME:CET
DTSTART:20271031T010000
END:STANDARD
BEGIN:DAYLIGHT
TZOFFSETFROM:+0100
TZOFFSETTO:+0200
TZNAME:CEST
DTSTART:20280326T010000
END:DAYLIGHT
BEGIN:STANDARD
TZOFFSETFROM:+0200
TZOFFSETTO:+0100
TZNAME:CET
DTSTART:20281029T010000
END:STANDARD
END:VTIMEZONE
BEGIN:VEVENT
DTSTART;VALUE=DATE:20270110
DTEND;VALUE=DATE:20270116
DTSTAMP:20260424T175332
CREATED:20260201T191642Z
LAST-MODIFIED:20260201T191644Z
UID:50474-1799539200-1800057599@www.alltagsklassiker.at
SUMMARY:Carbage Run Winter Edition Helsinki
DESCRIPTION:Dies ist mit Abstand die herausforderndste Edition des Carbage run: In 6 Tagen geht es in einer alten Rostlaube über den Polarkreis nach Helsinki.\nAn dieser Edition nehmen nicht nur deutsche Teilnehmer teil. Es ist eine internationale Edition\, an der Carbage Runner aus Deutschland\, Belgien\, Frankreich\, Schweden\, Norwegen\, Dänemark und den Niederlanden teilnehmen.\nEigentlich spielt es keine Rolle\, woher die Carbage Runner kommen. Sie ähneln sich sehr\, sprechen aber manchmal eine andere Sprache. So kannst du deinen Freundeskreis auch über die Landesgrenzen hinaus erweitern.\nNatürlich erhältst du deine Routenbeschreibungen und Aufgaben ganz normal auf Deutsch\, und ein Teil der mitreisenden Crew wird ebenfalls deutschsprachig sein. \nMickyGründer von Alltagsklassiker\, mit großer Schwäche für gut gereifte japanische Fahrzeuge\, Prospekte und Modellautos; Fotograf\, Vitrinist\, buchaffin\, bewegt Mazda MX-5 NA V-Special\, Mazda 818 Sedan de Luxe\, Ford Focus Turnier MK3\, Puch Clubman\, Bianchi Arcadex und Puch Maxi L.
URL:https://www.alltagsklassiker.at/event/carbage-run-winter-edition-helsinki-2/
CATEGORIES:Funrallye
END:VEVENT
END:VCALENDAR