BEGIN:VCALENDAR
VERSION:2.0
PRODID:-//Alltagsklassiker | IG zum Erhalt und Förderung der Fahrzeugkultur und Fahrzeuggeschichte - ECPv6.15.20//NONSGML v1.0//EN
CALSCALE:GREGORIAN
METHOD:PUBLISH
X-ORIGINAL-URL:https://www.alltagsklassiker.at
X-WR-CALDESC:Veranstaltungen für Alltagsklassiker | IG zum Erhalt und Förderung der Fahrzeugkultur und Fahrzeuggeschichte
REFRESH-INTERVAL;VALUE=DURATION:PT1H
X-Robots-Tag:noindex
X-PUBLISHED-TTL:PT1H
BEGIN:VTIMEZONE
TZID:Europe/Berlin
BEGIN:DAYLIGHT
TZOFFSETFROM:+0100
TZOFFSETTO:+0200
TZNAME:CEST
DTSTART:20250330T010000
END:DAYLIGHT
BEGIN:STANDARD
TZOFFSETFROM:+0200
TZOFFSETTO:+0100
TZNAME:CET
DTSTART:20251026T010000
END:STANDARD
BEGIN:DAYLIGHT
TZOFFSETFROM:+0100
TZOFFSETTO:+0200
TZNAME:CEST
DTSTART:20260329T010000
END:DAYLIGHT
BEGIN:STANDARD
TZOFFSETFROM:+0200
TZOFFSETTO:+0100
TZNAME:CET
DTSTART:20261025T010000
END:STANDARD
BEGIN:DAYLIGHT
TZOFFSETFROM:+0100
TZOFFSETTO:+0200
TZNAME:CEST
DTSTART:20270328T010000
END:DAYLIGHT
BEGIN:STANDARD
TZOFFSETFROM:+0200
TZOFFSETTO:+0100
TZNAME:CET
DTSTART:20271031T010000
END:STANDARD
END:VTIMEZONE
BEGIN:VEVENT
DTSTART;VALUE=DATE:20260924
DTEND;VALUE=DATE:20260929
DTSTAMP:20260424T110815
CREATED:20240327T094253Z
LAST-MODIFIED:20260129T163148Z
UID:41110-1790208000-1790639999@www.alltagsklassiker.at
SUMMARY:Funrally Offroad-Tour Westalpen
DESCRIPTION:5 Tage echtes Offroad-Abenteuer! \n24. – 28. 8. 2026 \n(Anreisetag\, Treffen&Kennenlernen:  \nMo\, 24.8.2026) \nDie FUNRALLY Offroad-Tour endet am Freitag Abend\, 28. Aug. 2026. \nAnschließend kannst du das Flair Liguriens genießen\, am Meer entspannen und deine Heimreise individuell gestalten. \nMickyGründer von Alltagsklassiker\, mit großer Schwäche für gut gereifte japanische Fahrzeuge\, Prospekte und Modellautos; Fotograf\, Vitrinist\, buchaffin\, bewegt Mazda MX-5 NA V-Special\, Mazda 818 Sedan de Luxe\, Ford Focus Turnier MK3\, Puch Clubman\, Bianchi Arcadex und Puch Maxi L.
URL:https://www.alltagsklassiker.at/event/funrallye-offroad-tour-westalpen/
CATEGORIES:Funrallye
END:VEVENT
END:VCALENDAR