BEGIN:VCALENDAR
VERSION:2.0
PRODID:-//Alltagsklassiker | IG zum Erhalt und Förderung der Fahrzeugkultur und Fahrzeuggeschichte - ECPv6.15.20//NONSGML v1.0//EN
CALSCALE:GREGORIAN
METHOD:PUBLISH
X-WR-CALNAME:Alltagsklassiker | IG zum Erhalt und Förderung der Fahrzeugkultur und Fahrzeuggeschichte
X-ORIGINAL-URL:https://www.alltagsklassiker.at
X-WR-CALDESC:Veranstaltungen für Alltagsklassiker | IG zum Erhalt und Förderung der Fahrzeugkultur und Fahrzeuggeschichte
REFRESH-INTERVAL;VALUE=DURATION:PT1H
X-Robots-Tag:noindex
X-PUBLISHED-TTL:PT1H
BEGIN:VTIMEZONE
TZID:Europe/Berlin
BEGIN:DAYLIGHT
TZOFFSETFROM:+0100
TZOFFSETTO:+0200
TZNAME:CEST
DTSTART:20250330T010000
END:DAYLIGHT
BEGIN:STANDARD
TZOFFSETFROM:+0200
TZOFFSETTO:+0100
TZNAME:CET
DTSTART:20251026T010000
END:STANDARD
BEGIN:DAYLIGHT
TZOFFSETFROM:+0100
TZOFFSETTO:+0200
TZNAME:CEST
DTSTART:20260329T010000
END:DAYLIGHT
BEGIN:STANDARD
TZOFFSETFROM:+0200
TZOFFSETTO:+0100
TZNAME:CET
DTSTART:20261025T010000
END:STANDARD
BEGIN:DAYLIGHT
TZOFFSETFROM:+0100
TZOFFSETTO:+0200
TZNAME:CEST
DTSTART:20270328T010000
END:DAYLIGHT
BEGIN:STANDARD
TZOFFSETFROM:+0200
TZOFFSETTO:+0100
TZNAME:CET
DTSTART:20271031T010000
END:STANDARD
END:VTIMEZONE
BEGIN:VEVENT
DTSTART;VALUE=DATE:20260917
DTEND;VALUE=DATE:20260921
DTSTAMP:20260424T105247
CREATED:20220402T053508Z
LAST-MODIFIED:20260204T180304Z
UID:33645-1789603200-1789948799@www.alltagsklassiker.at
SUMMARY:Oldtimer Traktor WM
DESCRIPTION:24. Oldtimer Traktor WM 2026\n\n\n  \n\n\nMickyGründer von Alltagsklassiker\, mit großer Schwäche für gut gereifte japanische Fahrzeuge\, Prospekte und Modellautos; Fotograf\, Vitrinist\, buchaffin\, bewegt Mazda MX-5 NA V-Special\, Mazda 818 Sedan de Luxe\, Ford Focus Turnier MK3\, Puch Clubman\, Bianchi Arcadex und Puch Maxi L.
URL:https://www.alltagsklassiker.at/event/oldtimer-traktor-wm/
CATEGORIES:Treffen
END:VEVENT
BEGIN:VEVENT
DTSTART;VALUE=DATE:20260918
DTEND;VALUE=DATE:20260921
DTSTAMP:20260424T105247
CREATED:20220322T170921Z
LAST-MODIFIED:20260118T190721Z
UID:33537-1789689600-1789948799@www.alltagsklassiker.at
SUMMARY:Histo Cup Salzburgring
DESCRIPTION:Salzburgring – Heimrennen des Histo Cup 2026! \nVom 18. bis 20. September 2026 kehrt der Histo Cup zum Salzburgring nach Österreich zurück. Die schnelle Hochgeschwindigkeitsstrecke vor beeindruckender Alpenkulisse zählt zu den traditionellen Fixpunkten der Saison. \nAlle Serien des Histo Cup sind vor Ort – Motorsport-Heimspiel mit großem Publikum garantiert. \nMickyGründer von Alltagsklassiker\, mit großer Schwäche für gut gereifte japanische Fahrzeuge\, Prospekte und Modellautos; Fotograf\, Vitrinist\, buchaffin\, bewegt Mazda MX-5 NA V-Special\, Mazda 818 Sedan de Luxe\, Ford Focus Turnier MK3\, Puch Clubman\, Bianchi Arcadex und Puch Maxi L.
URL:https://www.alltagsklassiker.at/event/histo-cup-salzburgring-2/
CATEGORIES:Motorsport
END:VEVENT
BEGIN:VEVENT
DTSTART;VALUE=DATE:20260918
DTEND;VALUE=DATE:20260921
DTSTAMP:20260424T105247
CREATED:20230204T102026Z
LAST-MODIFIED:20260130T175536Z
UID:36215-1789689600-1789948799@www.alltagsklassiker.at
SUMMARY:Nippon Classics Deutschland
DESCRIPTION:NIPPON CLASSICS 2026 – Das Highlight für Fans japanischer Klassiker!  ​ \nBist du bereit für das ultimative Wochenende voller Nostalgie\, Benzingespräche und kurviger Straßen? Vom 18. bis 20. September 2026 verwandelt sich 83404 Ainring im wunderschönen Berchtesgadener Land zum Epizentrum für japanische Old- und Youngtimer! ​Egal ob Datsun Z\, Mazda RX-7\, Toyota FJ oder Honda NSX – wir feiern die Ikonen der japanischen Ingenieurskunst.  ​ \nDas erwartet dich: \n​Freitag (18.09.): Ankommen\, Durchatmen und gemeinsames Kennenlernen bei einem gemütlichen Abendessen. ​ \nSamstag (19.09.): Das Herzstück! Eine große gemeinsame Ausfahrt durch die atemberaubende Alpenkulisse. Für das leibliche Wohl ist gesorgt: Mittagstisch\, Kaffee & Kuchen sowie ein gemeinsames Abendessen sind inklusive! ​ \nSonntag (20.09.): Gemeinsame Unternehmung und das große offene Parkplatztreffen für alle japanischen Klassiker. ​ \nRundum-Sorglos-Paket ​Das Startgeld beträgt 65\,– € pro Person. Der Clou: Damit sind am Samstag (19.09.) alle Mahlzeiten bereits abgedeckt – du zahlst lediglich deine Getränke! Ein unschlagbarer Deal für ein volles Programm. ​ \n Wichtige Infos auf einen Blick: \n​Wo: 83404 Ainring (Berchtesgadener Land) ​ \nWann: 18. – 20. September 2026 ​ \nAnmeldeschluss: 31.07.2026 ​ \nAnmeldung: Schreib uns einfach eine E-Mail an: nipponclassics.treffen@gmail.com ​ \nSichere dir jetzt deinen Platz! Die Teilnehmerzahl ist begrenzt\, und wir wollen gemeinsam mit dir Geschichte schreiben. Schnapp dir deinen Schlüssel\, polier den Lack und sei dabei\, wenn das Berchtesgadener Land im Zeichen der aufgehenden Sonne steht.  \nMickyGründer von Alltagsklassiker\, mit großer Schwäche für gut gereifte japanische Fahrzeuge\, Prospekte und Modellautos; Fotograf\, Vitrinist\, buchaffin\, bewegt Mazda MX-5 NA V-Special\, Mazda 818 Sedan de Luxe\, Ford Focus Turnier MK3\, Puch Clubman\, Bianchi Arcadex und Puch Maxi L.
URL:https://www.alltagsklassiker.at/event/nippon-classics-deutschland/
CATEGORIES:Treffen
ATTACH;FMTTYPE=image/jpeg:https://www.alltagsklassiker.at/wp-content/uploads/2023/02/att.6uqrI05VMq0fPwfUy0C2SqDwV1-20qwVx-hQQ4HdzbQ.jpg
END:VEVENT
BEGIN:VEVENT
DTSTART;VALUE=DATE:20260920
DTEND;VALUE=DATE:20260921
DTSTAMP:20260424T105247
CREATED:20230121T171247Z
LAST-MODIFIED:20260128T162904Z
UID:35947-1789862400-1789948799@www.alltagsklassiker.at
SUMMARY:Piston Kings Breakfast
DESCRIPTION:Piston Kings Breakfast \n  \n  \nMickyGründer von Alltagsklassiker\, mit großer Schwäche für gut gereifte japanische Fahrzeuge\, Prospekte und Modellautos; Fotograf\, Vitrinist\, buchaffin\, bewegt Mazda MX-5 NA V-Special\, Mazda 818 Sedan de Luxe\, Ford Focus Turnier MK3\, Puch Clubman\, Bianchi Arcadex und Puch Maxi L.
URL:https://www.alltagsklassiker.at/event/sunday-breakfast-motornights-cafe-8/
CATEGORIES:Treffen
ATTACH;FMTTYPE=image/jpeg:https://www.alltagsklassiker.at/wp-content/uploads/2023/01/pistonkingsbreakfast.jpg
END:VEVENT
BEGIN:VEVENT
DTSTART;VALUE=DATE:20260920
DTEND;VALUE=DATE:20260921
DTSTAMP:20260424T105248
CREATED:20230219T091904Z
LAST-MODIFIED:20260129T185730Z
UID:36281-1789862400-1789948799@www.alltagsklassiker.at
SUMMARY:MVC Graz Herbstausfahrt
DESCRIPTION:MVC Graz Herbstausfahrt am 20.09.2026 \nMickyGründer von Alltagsklassiker\, mit großer Schwäche für gut gereifte japanische Fahrzeuge\, Prospekte und Modellautos; Fotograf\, Vitrinist\, buchaffin\, bewegt Mazda MX-5 NA V-Special\, Mazda 818 Sedan de Luxe\, Ford Focus Turnier MK3\, Puch Clubman\, Bianchi Arcadex und Puch Maxi L.
URL:https://www.alltagsklassiker.at/event/mvc-graz-herbstausfahrt/
CATEGORIES:Ausfahrt
END:VEVENT
BEGIN:VEVENT
DTSTART;VALUE=DATE:20260920
DTEND;VALUE=DATE:20260921
DTSTAMP:20260424T105248
CREATED:20260128T174332Z
LAST-MODIFIED:20260128T174332Z
UID:50253-1789862400-1789948799@www.alltagsklassiker.at
SUMMARY:Oldtimertreffen Laßnitzhöhe
DESCRIPTION:Oldtimertreffen Laßnitzhöhe am 20.09.2026 ab 10h mit anschließender Ausfahrt \nMickyGründer von Alltagsklassiker\, mit großer Schwäche für gut gereifte japanische Fahrzeuge\, Prospekte und Modellautos; Fotograf\, Vitrinist\, buchaffin\, bewegt Mazda MX-5 NA V-Special\, Mazda 818 Sedan de Luxe\, Ford Focus Turnier MK3\, Puch Clubman\, Bianchi Arcadex und Puch Maxi L.
URL:https://www.alltagsklassiker.at/event/oldtimertreffen-lassnitzhoehe/
CATEGORIES:Ausfahrt,Treffen
END:VEVENT
BEGIN:VEVENT
DTSTART;VALUE=DATE:20260920
DTEND;VALUE=DATE:20260921
DTSTAMP:20260424T105248
CREATED:20260130T181931Z
LAST-MODIFIED:20260130T181931Z
UID:50368-1789862400-1789948799@www.alltagsklassiker.at
SUMMARY:Luftgekühlt am Teich
DESCRIPTION:Alle zwei Jahre laden die Freund luftgekühlter Volkswagen ein zum Verweilen\, Freunde treffen und entspannen am Ebersdorfer See. Gern gesehen sind alle luftgekühlten Fahrzeuge aus dem Hause Volkswagen und alle Sondermodelle auf Volkswagen-Basis.\nMitte September 2026 wird der Ebersdorfer See das nächste Mal zum Zentrum der Käfer -und Volkswagen-Szene. \nMickyGründer von Alltagsklassiker\, mit großer Schwäche für gut gereifte japanische Fahrzeuge\, Prospekte und Modellautos; Fotograf\, Vitrinist\, buchaffin\, bewegt Mazda MX-5 NA V-Special\, Mazda 818 Sedan de Luxe\, Ford Focus Turnier MK3\, Puch Clubman\, Bianchi Arcadex und Puch Maxi L.
URL:https://www.alltagsklassiker.at/event/luftgekuehlt-am-teich/
CATEGORIES:Treffen
END:VEVENT
END:VCALENDAR