BEGIN:VCALENDAR
VERSION:2.0
PRODID:-//Alltagsklassiker | IG zum Erhalt und Förderung der Fahrzeugkultur und Fahrzeuggeschichte - ECPv6.15.20//NONSGML v1.0//EN
CALSCALE:GREGORIAN
METHOD:PUBLISH
X-WR-CALNAME:Alltagsklassiker | IG zum Erhalt und Förderung der Fahrzeugkultur und Fahrzeuggeschichte
X-ORIGINAL-URL:https://www.alltagsklassiker.at
X-WR-CALDESC:Veranstaltungen für Alltagsklassiker | IG zum Erhalt und Förderung der Fahrzeugkultur und Fahrzeuggeschichte
REFRESH-INTERVAL;VALUE=DURATION:PT1H
X-Robots-Tag:noindex
X-PUBLISHED-TTL:PT1H
BEGIN:VTIMEZONE
TZID:Europe/Berlin
BEGIN:DAYLIGHT
TZOFFSETFROM:+0100
TZOFFSETTO:+0200
TZNAME:CEST
DTSTART:20250330T010000
END:DAYLIGHT
BEGIN:STANDARD
TZOFFSETFROM:+0200
TZOFFSETTO:+0100
TZNAME:CET
DTSTART:20251026T010000
END:STANDARD
BEGIN:DAYLIGHT
TZOFFSETFROM:+0100
TZOFFSETTO:+0200
TZNAME:CEST
DTSTART:20260329T010000
END:DAYLIGHT
BEGIN:STANDARD
TZOFFSETFROM:+0200
TZOFFSETTO:+0100
TZNAME:CET
DTSTART:20261025T010000
END:STANDARD
BEGIN:DAYLIGHT
TZOFFSETFROM:+0100
TZOFFSETTO:+0200
TZNAME:CEST
DTSTART:20270328T010000
END:DAYLIGHT
BEGIN:STANDARD
TZOFFSETFROM:+0200
TZOFFSETTO:+0100
TZNAME:CET
DTSTART:20271031T010000
END:STANDARD
END:VTIMEZONE
BEGIN:VEVENT
DTSTART;VALUE=DATE:20260904
DTEND;VALUE=DATE:20260918
DTSTAMP:20260424T105240
CREATED:20260129T163759Z
LAST-MODIFIED:20260129T163759Z
UID:50312-1788480000-1789689599@www.alltagsklassiker.at
SUMMARY:European 5000
DESCRIPTION:Vom Meeresspiegel auf über 3.000 Meter Höhe. Von -5 bis +35 Grad. Vom Ski-Overall zum Bikini. Die European 5000 Rallye – das sind schneebedeckte Berggipfel\, staubiger Wüstensand\, türkisfarbene Brandung auf abgelegenen Pisten des alten Europas. \nStarte im September bei der vielfältigsten und intensivsten Abenteuer Rallye des alten Kontinents – European 5000 – vom Alpenvorland durch ganz Europa bis nach Nordfrankreich. Mehr Abwechslung geht nicht! \nErobere das alte Europa auf ganz neuen Wegen bei dem ursprünglichsten Roadtrip Deines Lebens. Nimm Dir ein Gefährt\, das Dich auf altbewährte Art und Weise auf den vergessenen Pfaden Europas begleitet. GPS und Navi bleiben zuhause\, lass Dich von Deinen Sinnen und guten alten Hilfsmitteln wie Karte und Kompass über 5.000 km einmal durch das Herz Europas leiten. \nDas ist die European 5000 Rallye!\nDie Zeit ist reif für das nächste Abenteuer. \nMickyGründer von Alltagsklassiker\, mit großer Schwäche für gut gereifte japanische Fahrzeuge\, Prospekte und Modellautos; Fotograf\, Vitrinist\, buchaffin\, bewegt Mazda MX-5 NA V-Special\, Mazda 818 Sedan de Luxe\, Ford Focus Turnier MK3\, Puch Clubman\, Bianchi Arcadex und Puch Maxi L.
URL:https://www.alltagsklassiker.at/event/european-5000/
CATEGORIES:Funrallye
END:VEVENT
BEGIN:VEVENT
DTSTART;VALUE=DATE:20260911
DTEND;VALUE=DATE:20260914
DTSTAMP:20260424T105240
CREATED:20220322T151340Z
LAST-MODIFIED:20260130T180518Z
UID:33465-1789084800-1789343999@www.alltagsklassiker.at
SUMMARY:Hochsteiermark Classic
DESCRIPTION:Dreitägige Oldtimerrallye in der Hochsteiermark \nMickyGründer von Alltagsklassiker\, mit großer Schwäche für gut gereifte japanische Fahrzeuge\, Prospekte und Modellautos; Fotograf\, Vitrinist\, buchaffin\, bewegt Mazda MX-5 NA V-Special\, Mazda 818 Sedan de Luxe\, Ford Focus Turnier MK3\, Puch Clubman\, Bianchi Arcadex und Puch Maxi L.
URL:https://www.alltagsklassiker.at/event/hochsteiermark-classic/
CATEGORIES:Rallye
END:VEVENT
BEGIN:VEVENT
DTSTART;VALUE=DATE:20260912
DTEND;VALUE=DATE:20260914
DTSTAMP:20260424T105240
CREATED:20250108T135146Z
LAST-MODIFIED:20260205T165126Z
UID:45282-1789171200-1789343999@www.alltagsklassiker.at
SUMMARY:Austrian Motor Show
DESCRIPTION:Austrian Motor Show in Wieselsburg \nFür die Austrian Motorshow am 12. und 13. September 2026 in der Messe Wieselburg haben wir die Ausstellungshallen erstmals klar nach verschiedenen Themenwelten gestaltet. Jede Halle steht für ein eigenes Erlebnis und bietet den Besuchern die Möglichkeit\, gezielt in jene Bereiche einzutauchen\, die sie besonders interessieren. Insgesamt erwarten euch sieben Hallen\, jede mit einem individuellen Schwerpunkt. \nEin besonderes Highlight ist die Halle 3 – „Hall of Fame“. Hier präsentieren wir bekannte Fahrzeuge aus Film\, Medien\, YouTube und der Szene\, ergänzt durch namhafte Aussteller\, Clubs und Persönlichkeiten aus der Automobilwelt. Legendäre Fahrzeuge und außergewöhnliche Projekte stehen hier im Mittelpunkt und machen diese Halle zu einem echten Publikumsmagneten. \nNeu im Programm ist Halle 9 mit dem Thema „Bikes & More“. Diese Halle wurde auf ausdrücklichen Wunsch unserer Besucher der Motorshow 2025 umgesetzt. Motorräder\, Roller\, Custom Bikes\, Quads sowie Händler und Aussteller rund um das Thema Zweirad finden hier ihre Bühne. Damit erweitern wir die Motorshow gezielt um einen weiteren wichtigen Bereich der Fahrzeugkultur. \nIn der Halle 11 – „Classics“ dreht sich alles um Oldtimer\, US-Cars\, Hot Rods und klassische Fahrzeuge. Neben ausgewählten Händlerfahrzeugen werden auch private Klassiker ausgestellt\, deren Besitzer ihre Fahrzeuge und deren Geschichte persönlich präsentieren. \nAuch die übrigen Hallen folgen klar definierten Themen – von privaten Showcars über Car-HiFi\, Händlerbereiche bis hin zu Firmen- und Dienstleistungs-Ausstellern. So entsteht ein übersichtliches\, abwechslungsreiches Messekonzept\, das für jeden Besucher etwas zu bieten hat. \nWir freuen uns darauf\, euch die thematisch gestalteten Hallen der Austrian Motorshow 2026 präsentieren zu dürfen! \n  \nMickyGründer von Alltagsklassiker\, mit großer Schwäche für gut gereifte japanische Fahrzeuge\, Prospekte und Modellautos; Fotograf\, Vitrinist\, buchaffin\, bewegt Mazda MX-5 NA V-Special\, Mazda 818 Sedan de Luxe\, Ford Focus Turnier MK3\, Puch Clubman\, Bianchi Arcadex und Puch Maxi L.
URL:https://www.alltagsklassiker.at/event/austrian-motor-show/
CATEGORIES:Messe
END:VEVENT
BEGIN:VEVENT
DTSTART;VALUE=DATE:20260913
DTEND;VALUE=DATE:20260914
DTSTAMP:20260424T105240
CREATED:20220322T101559Z
LAST-MODIFIED:20260128T174024Z
UID:33457-1789257600-1789343999@www.alltagsklassiker.at
SUMMARY:Oldtimertreffen Vorau
DESCRIPTION:Oldtimertreffen in Vorau ab 10h\, NMS\, nähe Stift Vorau \nMickyGründer von Alltagsklassiker\, mit großer Schwäche für gut gereifte japanische Fahrzeuge\, Prospekte und Modellautos; Fotograf\, Vitrinist\, buchaffin\, bewegt Mazda MX-5 NA V-Special\, Mazda 818 Sedan de Luxe\, Ford Focus Turnier MK3\, Puch Clubman\, Bianchi Arcadex und Puch Maxi L.
URL:https://www.alltagsklassiker.at/event/oldtimertreffen-vorau/
CATEGORIES:Treffen
END:VEVENT
BEGIN:VEVENT
DTSTART;VALUE=DATE:20260913
DTEND;VALUE=DATE:20260914
DTSTAMP:20260424T105240
CREATED:20220402T071021Z
LAST-MODIFIED:20260118T185123Z
UID:33703-1789257600-1789343999@www.alltagsklassiker.at
SUMMARY:Bergrallye Marktl bei Straden
DESCRIPTION:Bergrallye Marktl bei Straden \nMickyGründer von Alltagsklassiker\, mit großer Schwäche für gut gereifte japanische Fahrzeuge\, Prospekte und Modellautos; Fotograf\, Vitrinist\, buchaffin\, bewegt Mazda MX-5 NA V-Special\, Mazda 818 Sedan de Luxe\, Ford Focus Turnier MK3\, Puch Clubman\, Bianchi Arcadex und Puch Maxi L.
URL:https://www.alltagsklassiker.at/event/bergrallye-marktl-bei-straden/
CATEGORIES:Motorsport
END:VEVENT
END:VCALENDAR