BEGIN:VCALENDAR
VERSION:2.0
PRODID:-//Alltagsklassiker | IG zum Erhalt und Förderung der Fahrzeugkultur und Fahrzeuggeschichte - ECPv6.15.20//NONSGML v1.0//EN
CALSCALE:GREGORIAN
METHOD:PUBLISH
X-WR-CALNAME:Alltagsklassiker | IG zum Erhalt und Förderung der Fahrzeugkultur und Fahrzeuggeschichte
X-ORIGINAL-URL:https://www.alltagsklassiker.at
X-WR-CALDESC:Veranstaltungen für Alltagsklassiker | IG zum Erhalt und Förderung der Fahrzeugkultur und Fahrzeuggeschichte
REFRESH-INTERVAL;VALUE=DURATION:PT1H
X-Robots-Tag:noindex
X-PUBLISHED-TTL:PT1H
BEGIN:VTIMEZONE
TZID:Europe/Berlin
BEGIN:DAYLIGHT
TZOFFSETFROM:+0100
TZOFFSETTO:+0200
TZNAME:CEST
DTSTART:20250330T010000
END:DAYLIGHT
BEGIN:STANDARD
TZOFFSETFROM:+0200
TZOFFSETTO:+0100
TZNAME:CET
DTSTART:20251026T010000
END:STANDARD
BEGIN:DAYLIGHT
TZOFFSETFROM:+0100
TZOFFSETTO:+0200
TZNAME:CEST
DTSTART:20260329T010000
END:DAYLIGHT
BEGIN:STANDARD
TZOFFSETFROM:+0200
TZOFFSETTO:+0100
TZNAME:CET
DTSTART:20261025T010000
END:STANDARD
BEGIN:DAYLIGHT
TZOFFSETFROM:+0100
TZOFFSETTO:+0200
TZNAME:CEST
DTSTART:20270328T010000
END:DAYLIGHT
BEGIN:STANDARD
TZOFFSETFROM:+0200
TZOFFSETTO:+0100
TZNAME:CET
DTSTART:20271031T010000
END:STANDARD
END:VTIMEZONE
BEGIN:VEVENT
DTSTART;VALUE=DATE:20260829
DTEND;VALUE=DATE:20260905
DTSTAMP:20260422T110301
CREATED:20230126T195423Z
LAST-MODIFIED:20260131T080237Z
UID:36176-1787961600-1788566399@www.alltagsklassiker.at
SUMMARY:Moped Rodeo Balkan
DESCRIPTION:In 7 Tagen\, über 1.000 Kilometer mit dem Moped durch 5 Länder. \nAuf dem Weg zur Adria in Kroatien bezwingen wir atemberaubende Bergpässe\, cruisen über enge Straßen an Seen und unglaublich schönen Landschaften vorbei. Vermutlich wird dein Brommer hier erstmals Meeresluft in den Vergaser ziehen. Wir bewegen unsere geschundenen Bikes über kroatische Küstenstraßen und traumhafte Inseln um anschließend unser Ziel anzusteuern. \nWir wollen\, dass das Moped Rodeo zu deinem persönlichen Abenteuer wird. Ob du lieber in der Gruppe unterwegs bist\, möglichst viele Pässe abfährst oder mit Einheimischen einen trinken gehst\, überlassen wir ganz dir. Von uns erhältst du Routenvorschläge\, die an besonders interessanten Orten vorbeiführen und Checkpoint Fixpunkte am Morgen zu Beginn jeder Etappe. \nDas Moped Rodeo Balkan ist mit nichts zu vergleichen. Begleitfahrzeuge oder Serviceteams sind nicht erlaubt. Es geht dabei niemals um die Geschwindigkeit! Das Ziel ist es gemeinsam anzukommen! \nMickyGründer von Alltagsklassiker\, mit großer Schwäche für gut gereifte japanische Fahrzeuge\, Prospekte und Modellautos; Fotograf\, Vitrinist\, buchaffin\, bewegt Mazda MX-5 NA V-Special\, Mazda 818 Sedan de Luxe\, Ford Focus Turnier MK3\, Puch Clubman\, Bianchi Arcadex und Puch Maxi L.
URL:https://www.alltagsklassiker.at/event/moped-rodeo-balkan/
CATEGORIES:Funrallye
END:VEVENT
BEGIN:VEVENT
DTSTART;VALUE=DATE:20260830
DTEND;VALUE=DATE:20260905
DTSTAMP:20260422T110302
CREATED:20230126T194117Z
LAST-MODIFIED:20260130T175956Z
UID:36161-1788048000-1788566399@www.alltagsklassiker.at
SUMMARY:Alpen Rodeo
DESCRIPTION:DER GENIALSTE ROADTRIP QUER ÜBER DIE EUROPÄISCHEN ALPEN. SEIT 2015! \nBist du bereit? Bereit für 6 Tage Roadtrip\, Action und Abenteuer? Bereit für 3000km Traumstrassen und 50.000 Höhenmeter über 30 der schönsten Bergpässe Europas? Bereit in einem Klassiker bei einem unvergesslichen Roadtrip quer über die europäischen Alpen ans Mittelmeer zu düsen? Sounds good? Dann sei dabei! \nAuf dem Weg über die Alpen ans Mittelmeer wird du mit deinem Team auf herrliche Landschaften\, extrem enge Kehren\, grenzgeniale Passstraßen\, kristallklare Bergseen und atemberaubende Abfahrten treffen. Vorbei an weltbekannten Skiorten\, über die legendärsten Pässe der europäischen Alpen bis hin zu mondänen Badeorten an der Mittelmeerküste führt dich das Alpen Rodeo an einige der schönste Plätze Europas! . \nMit dabei natürlich sämtliche Klassiker der europäischen Alpen wie die hohen Tauern\, die Dolomiten\, das Piemont\, die Schweizer Bergwelt\, sowie die legendäre Route Des Grandes Alpes und die Region Alpes Maritimes! \nWas braucht man um in den Bergen Spaß zu haben? Ganz klar\, ein Auto mit Stil und ordentlich Dampf unter der Haube. Besorg dir also deinen Traumwagen für diesen Roadtrip um stilvoll über die Traumstraßen der Alpen an die Mittelmeerküste zu cruisen. Erlebe Geschichten die du später gern erzählst! \nDas Alpen Rodeo Europe 2025 findet von 31. August bis 05. September statt. \nMickyGründer von Alltagsklassiker\, mit großer Schwäche für gut gereifte japanische Fahrzeuge\, Prospekte und Modellautos; Fotograf\, Vitrinist\, buchaffin\, bewegt Mazda MX-5 NA V-Special\, Mazda 818 Sedan de Luxe\, Ford Focus Turnier MK3\, Puch Clubman\, Bianchi Arcadex und Puch Maxi L.
URL:https://www.alltagsklassiker.at/event/alpen-rodeo/
CATEGORIES:Funrallye
ATTACH;FMTTYPE=image/jpeg:https://www.alltagsklassiker.at/wp-content/uploads/2023/01/AR-Europe-Poster-A2-1448x2048-1.jpg
END:VEVENT
BEGIN:VEVENT
DTSTART;VALUE=DATE:20260830
DTEND;VALUE=DATE:20260911
DTSTAMP:20260422T110302
CREATED:20260213T171756Z
LAST-MODIFIED:20260213T171756Z
UID:50642-1788048000-1789084799@www.alltagsklassiker.at
SUMMARY:Baja Balkana
DESCRIPTION:Mit der BAJA BALKANA 2026 wagen wir den Versuch einer kompletten Overland-Balkan-Passage. Starten werden wir in Venedig. Von dort geht es zunächst mit der Fähre nach Griechenland\, um uns anschließend einen Weg durch alle Balkan-Staaten hindurch zurück nach Italien zu bahnen. \nDas Besondere\, wir versuchen ausschließlich Nebenstraße und unbefestigte Wege zu nehmen.\n​\nDank den Dudes of Dust können wir auf sehr viele und sehr spannende 2-Rad-Tracks zurückgreifen\, deren Befahrbarkeit auf vier Rädern zu testen ist. Modern mit 4×4? Nein. Das kann jeder. Wir schnappen uns unsere mindestens 30 Jahren alten Nostalgiker und fahren einfach los. \nMickyGründer von Alltagsklassiker\, mit großer Schwäche für gut gereifte japanische Fahrzeuge\, Prospekte und Modellautos; Fotograf\, Vitrinist\, buchaffin\, bewegt Mazda MX-5 NA V-Special\, Mazda 818 Sedan de Luxe\, Ford Focus Turnier MK3\, Puch Clubman\, Bianchi Arcadex und Puch Maxi L.
URL:https://www.alltagsklassiker.at/event/baja-balkana/
CATEGORIES:Funrallye
END:VEVENT
BEGIN:VEVENT
DTSTART;VALUE=DATE:20260904
DTEND;VALUE=DATE:20260905
DTSTAMP:20260422T110302
CREATED:20240216T155442Z
LAST-MODIFIED:20260118T165707Z
UID:40695-1788480000-1788566399@www.alltagsklassiker.at
SUMMARY:Steel and Wheels Nights Classics
DESCRIPTION:Offener Fahrzeugstammtisch für Oldtimer & Youngtimer Autos bis Baujahr 1995\, US.Cars\, Motorräder\, Motorroller\, Mopeds \nImmer am 1. Freitag im Monat von Mai bis Oktober bei der Wirterei in Schmidham. \n  \n  \nMickyGründer von Alltagsklassiker\, mit großer Schwäche für gut gereifte japanische Fahrzeuge\, Prospekte und Modellautos; Fotograf\, Vitrinist\, buchaffin\, bewegt Mazda MX-5 NA V-Special\, Mazda 818 Sedan de Luxe\, Ford Focus Turnier MK3\, Puch Clubman\, Bianchi Arcadex und Puch Maxi L.
URL:https://www.alltagsklassiker.at/event/steel-and-wheels-nights-6/
CATEGORIES:Treffen
ATTACH;FMTTYPE=image/jpeg:https://www.alltagsklassiker.at/wp-content/uploads/2024/02/IMG_2531.jpg
END:VEVENT
BEGIN:VEVENT
DTSTART;VALUE=DATE:20260904
DTEND;VALUE=DATE:20260906
DTSTAMP:20260422T110302
CREATED:20250125T100421Z
LAST-MODIFIED:20260204T175632Z
UID:45769-1788480000-1788652799@www.alltagsklassiker.at
SUMMARY:Ferdinand Porsche Landpartie
DESCRIPTION:Eine Ausfahrt mit Automobilen bis Baujahr 1969 \n „Anlässlich des Geburtstages meines Großvaters am 3. September habe ich die FERDINAND PORSCHE LANDPARTIE im Jahr 2016 ins Leben gerufen. Der Erfolg dieser ersten Landpartie hat mich bestärkt diese Veranstaltung jedes Jahr rund um den Geburtstag meines Großvaters stattfinden zu lassen. In den bis zu 100 Jahre alten Automobilen lässt sich der Spätsommer besonders stilvoll genießen und die sanft hügelige Landschaft des Salzburger Seenlands trägt ihres dazu bei.“ \nIng. Ernst Piëch \nBitte beachten Sie\, dass es eine sehr begrenzte Anzahl an Startplätzen gibt. \nMickyGründer von Alltagsklassiker\, mit großer Schwäche für gut gereifte japanische Fahrzeuge\, Prospekte und Modellautos; Fotograf\, Vitrinist\, buchaffin\, bewegt Mazda MX-5 NA V-Special\, Mazda 818 Sedan de Luxe\, Ford Focus Turnier MK3\, Puch Clubman\, Bianchi Arcadex und Puch Maxi L.
URL:https://www.alltagsklassiker.at/event/ferdinand-porsche-landpartie/
CATEGORIES:Ausfahrt
END:VEVENT
BEGIN:VEVENT
DTSTART;VALUE=DATE:20260904
DTEND;VALUE=DATE:20260907
DTSTAMP:20260422T110302
CREATED:20260318T181954Z
LAST-MODIFIED:20260318T181954Z
UID:50756-1788480000-1788739199@www.alltagsklassiker.at
SUMMARY:Käfertreffen Weiz
DESCRIPTION:6. Käfertreffen Weiz vom 4.-6.September 2026 \nMickyGründer von Alltagsklassiker\, mit großer Schwäche für gut gereifte japanische Fahrzeuge\, Prospekte und Modellautos; Fotograf\, Vitrinist\, buchaffin\, bewegt Mazda MX-5 NA V-Special\, Mazda 818 Sedan de Luxe\, Ford Focus Turnier MK3\, Puch Clubman\, Bianchi Arcadex und Puch Maxi L.
URL:https://www.alltagsklassiker.at/event/kaefertreffen-weiz/
CATEGORIES:Treffen
ATTACH;FMTTYPE=image/jpeg:https://www.alltagsklassiker.at/wp-content/uploads/2026/03/kaefertreffen-weiz.jpg
END:VEVENT
BEGIN:VEVENT
DTSTART;VALUE=DATE:20260904
DTEND;VALUE=DATE:20260909
DTSTAMP:20260422T110302
CREATED:20230126T195742Z
LAST-MODIFIED:20260129T164018Z
UID:36180-1788480000-1788911999@www.alltagsklassiker.at
SUMMARY:European Mountain Summit
DESCRIPTION:5 Tage Abenteuer-Rallye – Die spektakulärsten Etappen über die höchsten Bergpässe Europas einmal quer durch die Alpen. \nVerschneite Bergpässe\, rasante Talfahren & Haarnadelkurven en masse – Die European Mountain Summit ist die actiongeladenste Herausforderung der Alpen in schwindelerregenden Höhen – mit 1.500 km hochalpinem Abenteuer durch 5 Länder und Ziel in Südfrankreich. \nErklimme die Bergspitzen der Alpen auf einzigartigen Wegen bei dem steilsten Roadtrip Europas. Wähle ein Rallye-Gefährt – kraftvoll wie eine Berggämse oder gemächlich wie ein Murmeltier: Bei unserer Berg-Rallye ist jedes Fahrzeug willkommen. GPS und Navi bleiben zuhause. Lass Dich von Deinen Sinnen und guten alten Hilfsmitteln wie Karte und Kompass über die hochalpinen Pässe und durch die tiefen Schluchten der Alpen leiten. \nEuropean Mountain Summit – die höchste Abenteurer-Kunst \nMickyGründer von Alltagsklassiker\, mit großer Schwäche für gut gereifte japanische Fahrzeuge\, Prospekte und Modellautos; Fotograf\, Vitrinist\, buchaffin\, bewegt Mazda MX-5 NA V-Special\, Mazda 818 Sedan de Luxe\, Ford Focus Turnier MK3\, Puch Clubman\, Bianchi Arcadex und Puch Maxi L.
URL:https://www.alltagsklassiker.at/event/european-mountain-summit/
CATEGORIES:Funrallye
END:VEVENT
BEGIN:VEVENT
DTSTART;VALUE=DATE:20260904
DTEND;VALUE=DATE:20260918
DTSTAMP:20260422T110302
CREATED:20260129T163759Z
LAST-MODIFIED:20260129T163759Z
UID:50312-1788480000-1789689599@www.alltagsklassiker.at
SUMMARY:European 5000
DESCRIPTION:Vom Meeresspiegel auf über 3.000 Meter Höhe. Von -5 bis +35 Grad. Vom Ski-Overall zum Bikini. Die European 5000 Rallye – das sind schneebedeckte Berggipfel\, staubiger Wüstensand\, türkisfarbene Brandung auf abgelegenen Pisten des alten Europas. \nStarte im September bei der vielfältigsten und intensivsten Abenteuer Rallye des alten Kontinents – European 5000 – vom Alpenvorland durch ganz Europa bis nach Nordfrankreich. Mehr Abwechslung geht nicht! \nErobere das alte Europa auf ganz neuen Wegen bei dem ursprünglichsten Roadtrip Deines Lebens. Nimm Dir ein Gefährt\, das Dich auf altbewährte Art und Weise auf den vergessenen Pfaden Europas begleitet. GPS und Navi bleiben zuhause\, lass Dich von Deinen Sinnen und guten alten Hilfsmitteln wie Karte und Kompass über 5.000 km einmal durch das Herz Europas leiten. \nDas ist die European 5000 Rallye!\nDie Zeit ist reif für das nächste Abenteuer. \nMickyGründer von Alltagsklassiker\, mit großer Schwäche für gut gereifte japanische Fahrzeuge\, Prospekte und Modellautos; Fotograf\, Vitrinist\, buchaffin\, bewegt Mazda MX-5 NA V-Special\, Mazda 818 Sedan de Luxe\, Ford Focus Turnier MK3\, Puch Clubman\, Bianchi Arcadex und Puch Maxi L.
URL:https://www.alltagsklassiker.at/event/european-5000/
CATEGORIES:Funrallye
END:VEVENT
END:VCALENDAR