BEGIN:VCALENDAR
VERSION:2.0
PRODID:-//Alltagsklassiker | IG zum Erhalt und Förderung der Fahrzeugkultur und Fahrzeuggeschichte - ECPv6.15.20//NONSGML v1.0//EN
CALSCALE:GREGORIAN
METHOD:PUBLISH
X-WR-CALNAME:Alltagsklassiker | IG zum Erhalt und Förderung der Fahrzeugkultur und Fahrzeuggeschichte
X-ORIGINAL-URL:https://www.alltagsklassiker.at
X-WR-CALDESC:Veranstaltungen für Alltagsklassiker | IG zum Erhalt und Förderung der Fahrzeugkultur und Fahrzeuggeschichte
REFRESH-INTERVAL;VALUE=DURATION:PT1H
X-Robots-Tag:noindex
X-PUBLISHED-TTL:PT1H
BEGIN:VTIMEZONE
TZID:Europe/Berlin
BEGIN:DAYLIGHT
TZOFFSETFROM:+0100
TZOFFSETTO:+0200
TZNAME:CEST
DTSTART:20250330T010000
END:DAYLIGHT
BEGIN:STANDARD
TZOFFSETFROM:+0200
TZOFFSETTO:+0100
TZNAME:CET
DTSTART:20251026T010000
END:STANDARD
BEGIN:DAYLIGHT
TZOFFSETFROM:+0100
TZOFFSETTO:+0200
TZNAME:CEST
DTSTART:20260329T010000
END:DAYLIGHT
BEGIN:STANDARD
TZOFFSETFROM:+0200
TZOFFSETTO:+0100
TZNAME:CET
DTSTART:20261025T010000
END:STANDARD
BEGIN:DAYLIGHT
TZOFFSETFROM:+0100
TZOFFSETTO:+0200
TZNAME:CEST
DTSTART:20270328T010000
END:DAYLIGHT
BEGIN:STANDARD
TZOFFSETFROM:+0200
TZOFFSETTO:+0100
TZNAME:CET
DTSTART:20271031T010000
END:STANDARD
END:VTIMEZONE
BEGIN:VEVENT
DTSTART;VALUE=DATE:20260828
DTEND;VALUE=DATE:20260830
DTSTAMP:20260422T110317
CREATED:20250819T181354Z
LAST-MODIFIED:20260201T192808Z
UID:48935-1787875200-1788047999@www.alltagsklassiker.at
SUMMARY:Mopedtrophy
DESCRIPTION:Willkommen bei der Mopedtrophy vom 28. -29.08.2026\, DER Ausfahrt für historische Mopeds bis 50 Kubikzentimeter.\nEs erwarten Dich viele Kurven\, tausende Höhenmeter und endlich wieder normale Leute. \nMickyGründer von Alltagsklassiker\, mit großer Schwäche für gut gereifte japanische Fahrzeuge\, Prospekte und Modellautos; Fotograf\, Vitrinist\, buchaffin\, bewegt Mazda MX-5 NA V-Special\, Mazda 818 Sedan de Luxe\, Ford Focus Turnier MK3\, Puch Clubman\, Bianchi Arcadex und Puch Maxi L.
URL:https://www.alltagsklassiker.at/event/mopedtrophy/
CATEGORIES:Rallye
ATTACH;FMTTYPE=image/png:https://www.alltagsklassiker.at/wp-content/uploads/2025/08/MOTRO_2026.png
END:VEVENT
BEGIN:VEVENT
DTSTART;VALUE=DATE:20260829
DTEND;VALUE=DATE:20260830
DTSTAMP:20260422T110317
CREATED:20230108T191024Z
LAST-MODIFIED:20260118T161851Z
UID:35792-1787961600-1788047999@www.alltagsklassiker.at
SUMMARY:Festival Gut Gallmannsegg
DESCRIPTION:Angelehnt an das „Festival of Speed“ in Goodwood bieten wir\, am Gut Gallmannsegg\,  den Rahmen zur schönsten automobilen Sommergartenparty. Autoaffine und deren außergewöhnlichen Automobile\, treffen sich bei uns an einem besonderen Ort mit Gleichgesinnten. Das FGG ist ein für jeden zugängliches Treffen. Eine Anmeldung ist nicht nötig. \n  \n \nMickyGründer von Alltagsklassiker\, mit großer Schwäche für gut gereifte japanische Fahrzeuge\, Prospekte und Modellautos; Fotograf\, Vitrinist\, buchaffin\, bewegt Mazda MX-5 NA V-Special\, Mazda 818 Sedan de Luxe\, Ford Focus Turnier MK3\, Puch Clubman\, Bianchi Arcadex und Puch Maxi L.
URL:https://www.alltagsklassiker.at/event/festival-gut-gallmannsegg/
LOCATION:Gut Gallmannsegg\, Gallmannsegg 6\, Gallmannsegg\, 8573\, Österreich
CATEGORIES:Treffen
ATTACH;FMTTYPE=image/jpeg:https://www.alltagsklassiker.at/wp-content/uploads/2023/01/WhatsApp-Image-2026-01-13-at-18.02.09.jpeg
END:VEVENT
BEGIN:VEVENT
DTSTART;VALUE=DATE:20260829
DTEND;VALUE=DATE:20260830
DTSTAMP:20260422T110317
CREATED:20230120T174650Z
LAST-MODIFIED:20260212T193106Z
UID:35894-1787961600-1788047999@www.alltagsklassiker.at
SUMMARY:Nußdorfer Wertungsfahrt für Oldtimer
DESCRIPTION:Nußdorfer Wertungsfahrt für Oldtimer in Nußdorf am Attersee \nMickyGründer von Alltagsklassiker\, mit großer Schwäche für gut gereifte japanische Fahrzeuge\, Prospekte und Modellautos; Fotograf\, Vitrinist\, buchaffin\, bewegt Mazda MX-5 NA V-Special\, Mazda 818 Sedan de Luxe\, Ford Focus Turnier MK3\, Puch Clubman\, Bianchi Arcadex und Puch Maxi L.
URL:https://www.alltagsklassiker.at/event/nussdorfer-wertungsfahrt-fuer-oldtimer/
CATEGORIES:Rallye
END:VEVENT
BEGIN:VEVENT
DTSTART;VALUE=DATE:20260829
DTEND;VALUE=DATE:20260831
DTSTAMP:20260422T110317
CREATED:20250122T130300Z
LAST-MODIFIED:20260118T191756Z
UID:45612-1787961600-1788134399@www.alltagsklassiker.at
SUMMARY:Red Bull Ring Classics
DESCRIPTION:Das Red Bull Ring Classics zündet jedes Jahr ein Feuerwerk des historischen Motorsports mit sehenswerten Rennserien. Erlebe echte Rennlegenden und eine Armada an spektakulären Fahrzeugen in Aktion. \nDas Red Bull Ring Classics ist deine Chance\, in die faszinierende Geschichte des Motorsports einzutauchen und über die Technik vergangener Ären zu staunen. \nIn den vergangenen Jahren gab es unter anderem Automobile-Klassiker in Fahrzeugausstellungen\, Rallye-Legenden der 80er Jahre\, sowie jede Menge Action auf der Rennstrecke zu sehen. \nMickyGründer von Alltagsklassiker\, mit großer Schwäche für gut gereifte japanische Fahrzeuge\, Prospekte und Modellautos; Fotograf\, Vitrinist\, buchaffin\, bewegt Mazda MX-5 NA V-Special\, Mazda 818 Sedan de Luxe\, Ford Focus Turnier MK3\, Puch Clubman\, Bianchi Arcadex und Puch Maxi L.
URL:https://www.alltagsklassiker.at/event/red-bull-ring-classics-2/
CATEGORIES:Motorsport
END:VEVENT
BEGIN:VEVENT
DTSTART;VALUE=DATE:20260829
DTEND;VALUE=DATE:20260831
DTSTAMP:20260422T110318
CREATED:20260212T190832Z
LAST-MODIFIED:20260212T190832Z
UID:50605-1787961600-1788134399@www.alltagsklassiker.at
SUMMARY:13. INTERNATIONAL SPORTS CAR CLUB WEEKEND IN RUST
DESCRIPTION:026 geht das „International Sports Car Club Weekend“ in Rust bereits in die 13. Runde.\nDas 13. Internationale SportsCar Club Weekend findet 2026 wieder am letzten August-Wochenende in Rust am Neusiedlersee statt.\nBeim Internationalen Sports Car Club Meeting in Rust werden die Fahrzeuge am Rathausplatz in Rust im Burgenland (Österreich) ab 13 Uhr präsentiert\, bevor sie zur Parade losstarten. \nMickyGründer von Alltagsklassiker\, mit großer Schwäche für gut gereifte japanische Fahrzeuge\, Prospekte und Modellautos; Fotograf\, Vitrinist\, buchaffin\, bewegt Mazda MX-5 NA V-Special\, Mazda 818 Sedan de Luxe\, Ford Focus Turnier MK3\, Puch Clubman\, Bianchi Arcadex und Puch Maxi L.
URL:https://www.alltagsklassiker.at/event/13-international-sports-car-club-weekend-in-rust/
CATEGORIES:Treffen
END:VEVENT
BEGIN:VEVENT
DTSTART;VALUE=DATE:20260829
DTEND;VALUE=DATE:20260905
DTSTAMP:20260422T110318
CREATED:20230126T195423Z
LAST-MODIFIED:20260131T080237Z
UID:36176-1787961600-1788566399@www.alltagsklassiker.at
SUMMARY:Moped Rodeo Balkan
DESCRIPTION:In 7 Tagen\, über 1.000 Kilometer mit dem Moped durch 5 Länder. \nAuf dem Weg zur Adria in Kroatien bezwingen wir atemberaubende Bergpässe\, cruisen über enge Straßen an Seen und unglaublich schönen Landschaften vorbei. Vermutlich wird dein Brommer hier erstmals Meeresluft in den Vergaser ziehen. Wir bewegen unsere geschundenen Bikes über kroatische Küstenstraßen und traumhafte Inseln um anschließend unser Ziel anzusteuern. \nWir wollen\, dass das Moped Rodeo zu deinem persönlichen Abenteuer wird. Ob du lieber in der Gruppe unterwegs bist\, möglichst viele Pässe abfährst oder mit Einheimischen einen trinken gehst\, überlassen wir ganz dir. Von uns erhältst du Routenvorschläge\, die an besonders interessanten Orten vorbeiführen und Checkpoint Fixpunkte am Morgen zu Beginn jeder Etappe. \nDas Moped Rodeo Balkan ist mit nichts zu vergleichen. Begleitfahrzeuge oder Serviceteams sind nicht erlaubt. Es geht dabei niemals um die Geschwindigkeit! Das Ziel ist es gemeinsam anzukommen! \nMickyGründer von Alltagsklassiker\, mit großer Schwäche für gut gereifte japanische Fahrzeuge\, Prospekte und Modellautos; Fotograf\, Vitrinist\, buchaffin\, bewegt Mazda MX-5 NA V-Special\, Mazda 818 Sedan de Luxe\, Ford Focus Turnier MK3\, Puch Clubman\, Bianchi Arcadex und Puch Maxi L.
URL:https://www.alltagsklassiker.at/event/moped-rodeo-balkan/
CATEGORIES:Funrallye
END:VEVENT
END:VCALENDAR