BEGIN:VCALENDAR
VERSION:2.0
PRODID:-//Alltagsklassiker | IG zum Erhalt und Förderung der Fahrzeugkultur und Fahrzeuggeschichte - ECPv6.15.20//NONSGML v1.0//EN
CALSCALE:GREGORIAN
METHOD:PUBLISH
X-WR-CALNAME:Alltagsklassiker | IG zum Erhalt und Förderung der Fahrzeugkultur und Fahrzeuggeschichte
X-ORIGINAL-URL:https://www.alltagsklassiker.at
X-WR-CALDESC:Veranstaltungen für Alltagsklassiker | IG zum Erhalt und Förderung der Fahrzeugkultur und Fahrzeuggeschichte
REFRESH-INTERVAL;VALUE=DURATION:PT1H
X-Robots-Tag:noindex
X-PUBLISHED-TTL:PT1H
BEGIN:VTIMEZONE
TZID:Europe/Berlin
BEGIN:DAYLIGHT
TZOFFSETFROM:+0100
TZOFFSETTO:+0200
TZNAME:CEST
DTSTART:20250330T010000
END:DAYLIGHT
BEGIN:STANDARD
TZOFFSETFROM:+0200
TZOFFSETTO:+0100
TZNAME:CET
DTSTART:20251026T010000
END:STANDARD
BEGIN:DAYLIGHT
TZOFFSETFROM:+0100
TZOFFSETTO:+0200
TZNAME:CEST
DTSTART:20260329T010000
END:DAYLIGHT
BEGIN:STANDARD
TZOFFSETFROM:+0200
TZOFFSETTO:+0100
TZNAME:CET
DTSTART:20261025T010000
END:STANDARD
BEGIN:DAYLIGHT
TZOFFSETFROM:+0100
TZOFFSETTO:+0200
TZNAME:CEST
DTSTART:20270328T010000
END:DAYLIGHT
BEGIN:STANDARD
TZOFFSETFROM:+0200
TZOFFSETTO:+0100
TZNAME:CET
DTSTART:20271031T010000
END:STANDARD
END:VTIMEZONE
BEGIN:VEVENT
DTSTART;VALUE=DATE:20260828
DTEND;VALUE=DATE:20260829
DTSTAMP:20260422T110310
CREATED:20230124T175339Z
LAST-MODIFIED:20260118T200532Z
UID:36004-1787875200-1787961599@www.alltagsklassiker.at
SUMMARY:Friday Night Classic Liezen
DESCRIPTION:Wir treffen uns jeden letzten Freitag im Monat ab 19:00 Uhr beim Burger King in Liezen. \n  \nUS – Cars\, HDs\, Old- und Youngtimer\, sowie alle Autobegeisterte sind herzlich willkommen! \n  \n \nMickyGründer von Alltagsklassiker\, mit großer Schwäche für gut gereifte japanische Fahrzeuge\, Prospekte und Modellautos; Fotograf\, Vitrinist\, buchaffin\, bewegt Mazda MX-5 NA V-Special\, Mazda 818 Sedan de Luxe\, Ford Focus Turnier MK3\, Puch Clubman\, Bianchi Arcadex und Puch Maxi L.
URL:https://www.alltagsklassiker.at/event/friday-night-classic-liezen-7/
LOCATION:Burger King Liezen\, Gesäusestraße 15\, Liezen\, 8940\, Österreich
CATEGORIES:Treffen
ATTACH;FMTTYPE=image/jpeg:https://www.alltagsklassiker.at/wp-content/uploads/2023/01/friday-night-classic.jpg
END:VEVENT
BEGIN:VEVENT
DTSTART;VALUE=DATE:20260828
DTEND;VALUE=DATE:20260830
DTSTAMP:20260422T110311
CREATED:20250819T181354Z
LAST-MODIFIED:20260201T192808Z
UID:48935-1787875200-1788047999@www.alltagsklassiker.at
SUMMARY:Mopedtrophy
DESCRIPTION:Willkommen bei der Mopedtrophy vom 28. -29.08.2026\, DER Ausfahrt für historische Mopeds bis 50 Kubikzentimeter.\nEs erwarten Dich viele Kurven\, tausende Höhenmeter und endlich wieder normale Leute. \nMickyGründer von Alltagsklassiker\, mit großer Schwäche für gut gereifte japanische Fahrzeuge\, Prospekte und Modellautos; Fotograf\, Vitrinist\, buchaffin\, bewegt Mazda MX-5 NA V-Special\, Mazda 818 Sedan de Luxe\, Ford Focus Turnier MK3\, Puch Clubman\, Bianchi Arcadex und Puch Maxi L.
URL:https://www.alltagsklassiker.at/event/mopedtrophy/
CATEGORIES:Rallye
ATTACH;FMTTYPE=image/png:https://www.alltagsklassiker.at/wp-content/uploads/2025/08/MOTRO_2026.png
END:VEVENT
END:VCALENDAR