BEGIN:VCALENDAR
VERSION:2.0
PRODID:-//Alltagsklassiker | IG zum Erhalt und Förderung der Fahrzeugkultur und Fahrzeuggeschichte - ECPv6.15.20//NONSGML v1.0//EN
CALSCALE:GREGORIAN
METHOD:PUBLISH
X-WR-CALNAME:Alltagsklassiker | IG zum Erhalt und Förderung der Fahrzeugkultur und Fahrzeuggeschichte
X-ORIGINAL-URL:https://www.alltagsklassiker.at
X-WR-CALDESC:Veranstaltungen für Alltagsklassiker | IG zum Erhalt und Förderung der Fahrzeugkultur und Fahrzeuggeschichte
REFRESH-INTERVAL;VALUE=DURATION:PT1H
X-Robots-Tag:noindex
X-PUBLISHED-TTL:PT1H
BEGIN:VTIMEZONE
TZID:Europe/Berlin
BEGIN:DAYLIGHT
TZOFFSETFROM:+0100
TZOFFSETTO:+0200
TZNAME:CEST
DTSTART:20250330T010000
END:DAYLIGHT
BEGIN:STANDARD
TZOFFSETFROM:+0200
TZOFFSETTO:+0100
TZNAME:CET
DTSTART:20251026T010000
END:STANDARD
BEGIN:DAYLIGHT
TZOFFSETFROM:+0100
TZOFFSETTO:+0200
TZNAME:CEST
DTSTART:20260329T010000
END:DAYLIGHT
BEGIN:STANDARD
TZOFFSETFROM:+0200
TZOFFSETTO:+0100
TZNAME:CET
DTSTART:20261025T010000
END:STANDARD
BEGIN:DAYLIGHT
TZOFFSETFROM:+0100
TZOFFSETTO:+0200
TZNAME:CEST
DTSTART:20270328T010000
END:DAYLIGHT
BEGIN:STANDARD
TZOFFSETFROM:+0200
TZOFFSETTO:+0100
TZNAME:CET
DTSTART:20271031T010000
END:STANDARD
END:VTIMEZONE
BEGIN:VEVENT
DTSTART;VALUE=DATE:20260822
DTEND;VALUE=DATE:20260824
DTSTAMP:20260422T110306
CREATED:20220323T074833Z
LAST-MODIFIED:20251222T191516Z
UID:33546-1787356800-1787529599@www.alltagsklassiker.at
SUMMARY:Vienna Classic Days
DESCRIPTION:Die Vienna Classic Days 22.-23. August 2026\ndas rollende Automobilmuseum mitten in Wien \nSeit fast 40 Jahren sind die Vienna Classic Days\nTradition und mittlerweile zum Kultevent geworden.\nMitten im Herzen einer wunderbaren Stadt wie Wien\nmacht das rollende Museum mit rund 200 Fahrzeugen\nein besonderes Erlebnis und Faszination möglich\nNatürlich gibt es bei den Vienna Classic Days\nwieder Traditionen\, wie die Parade auf\nder Wiener Ringstrasse und das Oldtimer-Picknick\nim Donaupark\, ergänzt mit einigen neuen Ideen\nund speziellen Programmpunkten.\nSehr beliebt – das Nenngeld – vor allem bei Teilnehmern\nmit Fahrzeugen aus der Vorkriegszeit.\nJe älter das Fahrzeug desto niedriger – trotz umfangreichem Programm\nDie hohe Wertschätzung für besonders alte Fahrzeuge\, aber\nauch die „Youngsters“ sind natürlich immer herzlich willkommen.\nDas Motor-Mythos-Team als Veranstalter will  auch den\nNachwuchs fördern\, darum gibt es auch wieder dieses Jahr\ndas halbe Nenngeld für Teilnehmer unter 30 Jahren! \nMickyGründer von Alltagsklassiker\, mit großer Schwäche für gut gereifte japanische Fahrzeuge\, Prospekte und Modellautos; Fotograf\, Vitrinist\, buchaffin\, bewegt Mazda MX-5 NA V-Special\, Mazda 818 Sedan de Luxe\, Ford Focus Turnier MK3\, Puch Clubman\, Bianchi Arcadex und Puch Maxi L.
URL:https://www.alltagsklassiker.at/event/vienna-classic-days/
CATEGORIES:Ausfahrt,Treffen
END:VEVENT
BEGIN:VEVENT
DTSTART;VALUE=DATE:20260823
DTEND;VALUE=DATE:20260824
DTSTAMP:20260422T110307
CREATED:20220322T082039Z
LAST-MODIFIED:20260127T201747Z
UID:33432-1787443200-1787529599@www.alltagsklassiker.at
SUMMARY:STOF Sommer Ausfahrt
DESCRIPTION:STOF Sommerausfahrt \n  \nMickyGründer von Alltagsklassiker\, mit großer Schwäche für gut gereifte japanische Fahrzeuge\, Prospekte und Modellautos; Fotograf\, Vitrinist\, buchaffin\, bewegt Mazda MX-5 NA V-Special\, Mazda 818 Sedan de Luxe\, Ford Focus Turnier MK3\, Puch Clubman\, Bianchi Arcadex und Puch Maxi L.
URL:https://www.alltagsklassiker.at/event/stof-sommer-ausfahrt/
CATEGORIES:Ausfahrt
END:VEVENT
BEGIN:VEVENT
DTSTART;VALUE=DATE:20260823
DTEND;VALUE=DATE:20260824
DTSTAMP:20260422T110307
CREATED:20220402T070822Z
LAST-MODIFIED:20260118T185201Z
UID:33699-1787443200-1787529599@www.alltagsklassiker.at
SUMMARY:Bergrallye Voitsberg Lobming
DESCRIPTION:Bergrallye Voitsberg Lobming \nMickyGründer von Alltagsklassiker\, mit großer Schwäche für gut gereifte japanische Fahrzeuge\, Prospekte und Modellautos; Fotograf\, Vitrinist\, buchaffin\, bewegt Mazda MX-5 NA V-Special\, Mazda 818 Sedan de Luxe\, Ford Focus Turnier MK3\, Puch Clubman\, Bianchi Arcadex und Puch Maxi L.
URL:https://www.alltagsklassiker.at/event/bergrallye-lobming/
CATEGORIES:Motorsport
END:VEVENT
BEGIN:VEVENT
DTSTART;VALUE=DATE:20260823
DTEND;VALUE=DATE:20260824
DTSTAMP:20260422T110307
CREATED:20240416T142840Z
LAST-MODIFIED:20260212T193612Z
UID:41184-1787443200-1787529599@www.alltagsklassiker.at
SUMMARY:Oldtimertreffen am Landler Kirtag
DESCRIPTION:Ob LKW\, PKW\, Traktor\, Motorrad oder Moped etc. – viele dieser Raritäten werden mit Leidenschaft restauriert\, liebevoll gepflegt und stehen doch zu oft ungenutzt in der Garage.\nBeim Landler Kirtag bieten wir euch die perfekte Bühne: Zeigt eure Schätze\, bewegt sie bei einer gemeinsamen Oldtimer-Ausfahrt und präsentiert sie den begeisterten Besuchern unserer Veranstaltung.\nHighlights:\nTeilnahme für Oldtimer aller Kategorien (LKW\, PKW\, Traktoren\, Motorräder\, Mopeds …)\nPräsentation der Fahrzeuge vor großem Publikum\nGemütliche Ausfahrt durch die malerische Region rund um Landl und das Gesäuse\nGelegenheit zum Austausch mit anderen Oldtimer-Liebhabern\nOb als stolzer Besitzer oder interessierter Besucher – das Oldtimertreffen ist jedes Mal ein besonderes Highlight beim Landler Kirtag. Seid dabei\, wenn Tradition auf Leidenschaft trifft! \nTreffpunkt beim Parkplatz Schulgelände\, Kirchenlandl\nAusgabe der Startnummern und Aufstellung der Fahrzeuge\nGemütliche Ausfahrt – entspannte Ausfahrt durch das Gesäuse\nStrecke lang: ca. 70 km\nStrecke kurz: ca. 28 km\nStrecke für Traktor\nOldtimer-Frühschoppen mit Die Edlseer im Festzelt und gemütliches Beisammensein \nMickyGründer von Alltagsklassiker\, mit großer Schwäche für gut gereifte japanische Fahrzeuge\, Prospekte und Modellautos; Fotograf\, Vitrinist\, buchaffin\, bewegt Mazda MX-5 NA V-Special\, Mazda 818 Sedan de Luxe\, Ford Focus Turnier MK3\, Puch Clubman\, Bianchi Arcadex und Puch Maxi L.
URL:https://www.alltagsklassiker.at/event/oldtimertreffen-am-landler-kirtag/
CATEGORIES:Treffen
END:VEVENT
END:VCALENDAR