BEGIN:VCALENDAR
VERSION:2.0
PRODID:-//Alltagsklassiker | IG zum Erhalt und Förderung der Fahrzeugkultur und Fahrzeuggeschichte - ECPv6.15.20//NONSGML v1.0//EN
CALSCALE:GREGORIAN
METHOD:PUBLISH
X-ORIGINAL-URL:https://www.alltagsklassiker.at
X-WR-CALDESC:Veranstaltungen für Alltagsklassiker | IG zum Erhalt und Förderung der Fahrzeugkultur und Fahrzeuggeschichte
REFRESH-INTERVAL;VALUE=DURATION:PT1H
X-Robots-Tag:noindex
X-PUBLISHED-TTL:PT1H
BEGIN:VTIMEZONE
TZID:Europe/Berlin
BEGIN:DAYLIGHT
TZOFFSETFROM:+0100
TZOFFSETTO:+0200
TZNAME:CEST
DTSTART:20250330T010000
END:DAYLIGHT
BEGIN:STANDARD
TZOFFSETFROM:+0200
TZOFFSETTO:+0100
TZNAME:CET
DTSTART:20251026T010000
END:STANDARD
BEGIN:DAYLIGHT
TZOFFSETFROM:+0100
TZOFFSETTO:+0200
TZNAME:CEST
DTSTART:20260329T010000
END:DAYLIGHT
BEGIN:STANDARD
TZOFFSETFROM:+0200
TZOFFSETTO:+0100
TZNAME:CET
DTSTART:20261025T010000
END:STANDARD
BEGIN:DAYLIGHT
TZOFFSETFROM:+0100
TZOFFSETTO:+0200
TZNAME:CEST
DTSTART:20270328T010000
END:DAYLIGHT
BEGIN:STANDARD
TZOFFSETFROM:+0200
TZOFFSETTO:+0100
TZNAME:CET
DTSTART:20271031T010000
END:STANDARD
END:VTIMEZONE
BEGIN:VEVENT
DTSTART;VALUE=DATE:20260815
DTEND;VALUE=DATE:20260816
DTSTAMP:20260422T123608
CREATED:20260118T171040Z
LAST-MODIFIED:20260118T194116Z
UID:50048-1786752000-1786838399@www.alltagsklassiker.at
SUMMARY:Alltagsklassiker Cruise'n'Grill 8.0
DESCRIPTION:Infos folgen. \nMickyGründer von Alltagsklassiker\, mit großer Schwäche für gut gereifte japanische Fahrzeuge\, Prospekte und Modellautos; Fotograf\, Vitrinist\, buchaffin\, bewegt Mazda MX-5 NA V-Special\, Mazda 818 Sedan de Luxe\, Ford Focus Turnier MK3\, Puch Clubman\, Bianchi Arcadex und Puch Maxi L.
URL:https://www.alltagsklassiker.at/event/alltagsklassiker-cruisengrill-8-0/
CATEGORIES:Alltagsklassiker
END:VEVENT
BEGIN:VEVENT
DTSTART;VALUE=DATE:20260815
DTEND;VALUE=DATE:20260816
DTSTAMP:20260422T123608
CREATED:20260204T185026Z
LAST-MODIFIED:20260204T185027Z
UID:50502-1786752000-1786838399@www.alltagsklassiker.at
SUMMARY:St.Pölten Classic
DESCRIPTION:Die 6. Auflage der St. Pölten Classic geht am 15.8.2026 über die Bühne! \nDIE Rallye für alle Autos – also alle Oldtimer\, Youngtimer\, Jungwagen\, Neuwagen und Mazda MX-5! \nMickyGründer von Alltagsklassiker\, mit großer Schwäche für gut gereifte japanische Fahrzeuge\, Prospekte und Modellautos; Fotograf\, Vitrinist\, buchaffin\, bewegt Mazda MX-5 NA V-Special\, Mazda 818 Sedan de Luxe\, Ford Focus Turnier MK3\, Puch Clubman\, Bianchi Arcadex und Puch Maxi L.
URL:https://www.alltagsklassiker.at/event/st-poelten-classic-2/
CATEGORIES:Rallye
END:VEVENT
BEGIN:VEVENT
DTSTART;VALUE=DATE:20260815
DTEND;VALUE=DATE:20260816
DTSTAMP:20260422T123608
CREATED:20260318T182849Z
LAST-MODIFIED:20260318T182850Z
UID:50763-1786752000-1786838399@www.alltagsklassiker.at
SUMMARY:Blechkistn just fitted II
DESCRIPTION:Blechkistn just fitted II – Car meet 2026 am 15.August 2026 in Wildon \nDiscover the art of cars \n  \nMickyGründer von Alltagsklassiker\, mit großer Schwäche für gut gereifte japanische Fahrzeuge\, Prospekte und Modellautos; Fotograf\, Vitrinist\, buchaffin\, bewegt Mazda MX-5 NA V-Special\, Mazda 818 Sedan de Luxe\, Ford Focus Turnier MK3\, Puch Clubman\, Bianchi Arcadex und Puch Maxi L.
URL:https://www.alltagsklassiker.at/event/blechkistn-just-fitted-ii/
CATEGORIES:Treffen
ATTACH;FMTTYPE=image/jpeg:https://www.alltagsklassiker.at/wp-content/uploads/2026/03/blechkistn-2026.jpg
END:VEVENT
BEGIN:VEVENT
DTSTART;VALUE=DATE:20260815
DTEND;VALUE=DATE:20260817
DTSTAMP:20260422T123608
CREATED:20220402T052711Z
LAST-MODIFIED:20260212T194427Z
UID:33639-1786752000-1786924799@www.alltagsklassiker.at
SUMMARY:Goisern Classic
DESCRIPTION:DIE OLDTIMER RALLYE IM SALZKAMMERGUT \nNach diesem Motto werden im August eine Vielzahl von Oldtimerbegeisterten den Predigstuhl erobern. Gefahren werden\, wie die Jahre davor\, ein Besichtigungslauf und anschließend die beiden Wertungsläufe. Die Wertungsläufe müssen so absolviert werden\, dass nach Möglichkeit zweimal die exakt gleiche Laufzeit erreicht wird. \nMickyGründer von Alltagsklassiker\, mit großer Schwäche für gut gereifte japanische Fahrzeuge\, Prospekte und Modellautos; Fotograf\, Vitrinist\, buchaffin\, bewegt Mazda MX-5 NA V-Special\, Mazda 818 Sedan de Luxe\, Ford Focus Turnier MK3\, Puch Clubman\, Bianchi Arcadex und Puch Maxi L.
URL:https://www.alltagsklassiker.at/event/goisern-classic/
CATEGORIES:Rallye
END:VEVENT
END:VCALENDAR