BEGIN:VCALENDAR
VERSION:2.0
PRODID:-//Alltagsklassiker | IG zum Erhalt und Förderung der Fahrzeugkultur und Fahrzeuggeschichte - ECPv6.15.20//NONSGML v1.0//EN
CALSCALE:GREGORIAN
METHOD:PUBLISH
X-WR-CALNAME:Alltagsklassiker | IG zum Erhalt und Förderung der Fahrzeugkultur und Fahrzeuggeschichte
X-ORIGINAL-URL:https://www.alltagsklassiker.at
X-WR-CALDESC:Veranstaltungen für Alltagsklassiker | IG zum Erhalt und Förderung der Fahrzeugkultur und Fahrzeuggeschichte
REFRESH-INTERVAL;VALUE=DURATION:PT1H
X-Robots-Tag:noindex
X-PUBLISHED-TTL:PT1H
BEGIN:VTIMEZONE
TZID:Europe/Berlin
BEGIN:DAYLIGHT
TZOFFSETFROM:+0100
TZOFFSETTO:+0200
TZNAME:CEST
DTSTART:20250330T010000
END:DAYLIGHT
BEGIN:STANDARD
TZOFFSETFROM:+0200
TZOFFSETTO:+0100
TZNAME:CET
DTSTART:20251026T010000
END:STANDARD
BEGIN:DAYLIGHT
TZOFFSETFROM:+0100
TZOFFSETTO:+0200
TZNAME:CEST
DTSTART:20260329T010000
END:DAYLIGHT
BEGIN:STANDARD
TZOFFSETFROM:+0200
TZOFFSETTO:+0100
TZNAME:CET
DTSTART:20261025T010000
END:STANDARD
BEGIN:DAYLIGHT
TZOFFSETFROM:+0100
TZOFFSETTO:+0200
TZNAME:CEST
DTSTART:20270328T010000
END:DAYLIGHT
BEGIN:STANDARD
TZOFFSETFROM:+0200
TZOFFSETTO:+0100
TZNAME:CET
DTSTART:20271031T010000
END:STANDARD
END:VTIMEZONE
BEGIN:VEVENT
DTSTART;VALUE=DATE:20260802
DTEND;VALUE=DATE:20260803
DTSTAMP:20260422T092658
CREATED:20230108T185748Z
LAST-MODIFIED:20260131T212817Z
UID:35782-1785628800-1785715199@www.alltagsklassiker.at
SUMMARY:Cafe Gasolini
DESCRIPTION:CAFE GASOLINI  ist der österreichische Blechfrühschoppen für epochenverschleppende Automobilfreunde. \nEin Aufeinandertreffen von Cars & Coffee\, bei dem nichts zu Bruch geht und alle eine Hetz haben. Sagen wir so: Es ist ein Erntedankfest von Ventilspielern und Freunden der mechanischen Welt. \nBei CAFE GASOLINI sind alle Fahrzeuge bis zum Erscheinungsbaujahr 1970 mehr als erwünscht. \nAm Parkplatz von Josef – AUTO METZKER \nJeden ersten Sonntag im Monat. \nvon 9 – 11h25 – also 12x jährlich. \n(Terminänderungen werden bekanntgegeben) \nSchlechtwetter ist genauso erwünscht wie 2lagiges Toilettenpapier. \nMickyGründer von Alltagsklassiker\, mit großer Schwäche für gut gereifte japanische Fahrzeuge\, Prospekte und Modellautos; Fotograf\, Vitrinist\, buchaffin\, bewegt Mazda MX-5 NA V-Special\, Mazda 818 Sedan de Luxe\, Ford Focus Turnier MK3\, Puch Clubman\, Bianchi Arcadex und Puch Maxi L.
URL:https://www.alltagsklassiker.at/event/cafe-gasolini-6/
LOCATION:Auto Metzker\, Lokalbahnweg 6\, Vösendorf\, 2334\, Österreich
CATEGORIES:Cafe Gasolini
END:VEVENT
BEGIN:VEVENT
DTSTART;VALUE=DATE:20260802
DTEND;VALUE=DATE:20260803
DTSTAMP:20260422T092658
CREATED:20240331T183346Z
LAST-MODIFIED:20260204T190109Z
UID:41141-1785628800-1785715199@www.alltagsklassiker.at
SUMMARY:Youngtimertreffen Krems
DESCRIPTION:Youngtimertreffen Krems am 2. August 2026 am Hornbachparkplatz \nMickyGründer von Alltagsklassiker\, mit großer Schwäche für gut gereifte japanische Fahrzeuge\, Prospekte und Modellautos; Fotograf\, Vitrinist\, buchaffin\, bewegt Mazda MX-5 NA V-Special\, Mazda 818 Sedan de Luxe\, Ford Focus Turnier MK3\, Puch Clubman\, Bianchi Arcadex und Puch Maxi L.
URL:https://www.alltagsklassiker.at/event/youngtimertreffen-krems/
CATEGORIES:Treffen
END:VEVENT
BEGIN:VEVENT
DTSTART;VALUE=DATE:20260802
DTEND;VALUE=DATE:20260803
DTSTAMP:20260422T092658
CREATED:20260305T190159Z
LAST-MODIFIED:20260305T190159Z
UID:50725-1785628800-1785715199@www.alltagsklassiker.at
SUMMARY:Frühschoppen mit Puch & KTM Treffen Großweifendorf
DESCRIPTION:Frühschoppen mit Puch & KTM Treffen Großweifendorf am 02.08.2026 in Großweifendorf/Mettmach im Innviertel der FF Großweifendorf \nMickyGründer von Alltagsklassiker\, mit großer Schwäche für gut gereifte japanische Fahrzeuge\, Prospekte und Modellautos; Fotograf\, Vitrinist\, buchaffin\, bewegt Mazda MX-5 NA V-Special\, Mazda 818 Sedan de Luxe\, Ford Focus Turnier MK3\, Puch Clubman\, Bianchi Arcadex und Puch Maxi L.
URL:https://www.alltagsklassiker.at/event/fruehschoppen-mit-puch-ktm-treffen-grossweifendorf/
CATEGORIES:Treffen
END:VEVENT
BEGIN:VEVENT
DTSTART;VALUE=DATE:20260802
DTEND;VALUE=DATE:20260809
DTSTAMP:20260422T092658
CREATED:20230126T193339Z
LAST-MODIFIED:20260129T185101Z
UID:36153-1785628800-1786233599@www.alltagsklassiker.at
SUMMARY:Pothole Rodeo Baltic
DESCRIPTION:BBQ und Sauna gehören zum guten Ton in den baltischen Staaten\, genauso wie Wildcampen in der freien Natur. Man könnte schon fast sagen\, dass man dazu aufgefordert wird\, Litauen\, Lettland und Estland auf diesem Weg zu erkunden. Das einmalige Gefühl der Freiheit bei einem Lagerfeuer am Strand kann man nicht überall in Europa spüren\, und Gastfreundschaft beherrschen die Balten genauso wie die Ost-Europäer. Gut\, dass hier also eine gesunde Mischung aus Nord-Ost herrscht. \nAbgesehen von vielen Seen\, weitläufigen Landschaften und Tankstellen\, die an Fastfood Läden erinnern\, besticht das Baltikum aber durch seine Straßen. Der Pauschaltourist schlägt hier vielleicht seine Hände über dem Kopf zusammen\, doch für echte Potholer ist das ein Sterne-Menü. Unzählige Straßen abseits der Autobahn\, sehr viele davon geschottert!  Hier kann man seinen fahrbaren Untersatz auf jedem Meter spüren. Man sollte nur aufpassen\, dass man auch rechtzeitig vor einem 5-Ender Elchbremsen kann\, falls so ein Prachtexemplar einmal über die Straße tanzt. \n\nDer Wandel des Baltikums ist zwar schon lange erfolgt\, trotzdem findet man hier viele einzigartige Lost Places und Relikte abseits des Bustourismus\, die einem die vergangene Geschichte der Baltischen Länder hautnah erzählen.\nVon den Masuren in Polen bis zum Finnischen Meerbusen und entlang der Ostsee. Lost Places\, einsame Landschaften\, Wildcampen\, Relikte aus der Sowjetzeit und offene\, freundliche Menschen. Genau das ist das Pothole Rodeo Baltikum\, alles andere als langweilig!\nMickyGründer von Alltagsklassiker\, mit großer Schwäche für gut gereifte japanische Fahrzeuge\, Prospekte und Modellautos; Fotograf\, Vitrinist\, buchaffin\, bewegt Mazda MX-5 NA V-Special\, Mazda 818 Sedan de Luxe\, Ford Focus Turnier MK3\, Puch Clubman\, Bianchi Arcadex und Puch Maxi L.
URL:https://www.alltagsklassiker.at/event/pothole-rodeo-baltic/
CATEGORIES:Funrallye
END:VEVENT
BEGIN:VEVENT
DTSTART;VALUE=DATE:20260802
DTEND;VALUE=DATE:20260815
DTSTAMP:20260422T092658
CREATED:20260129T163423Z
LAST-MODIFIED:20260129T163423Z
UID:50308-1785628800-1786751999@www.alltagsklassiker.at
SUMMARY:Funrally Adria Odyssee
DESCRIPTION:2. bis 14. August 2026 \nTreffen & Kennenlernen am 1.8.26 ab 17:00 Uhr. \nDiese 13-tägige Rallye\, gemeinsam mit Gleichgesinnten durch 9 Länder wirst du niemals vergessen! \nDie FUNRALLY Adria Odyssee endet am Fr\, 14.8.2026 abends\, voraussichtlich im Südosten Österreichs. \nBis spätestens So\, 16.8.2026 bist Du wieder zu Hause. \n\n\n\nMickyGründer von Alltagsklassiker\, mit großer Schwäche für gut gereifte japanische Fahrzeuge\, Prospekte und Modellautos; Fotograf\, Vitrinist\, buchaffin\, bewegt Mazda MX-5 NA V-Special\, Mazda 818 Sedan de Luxe\, Ford Focus Turnier MK3\, Puch Clubman\, Bianchi Arcadex und Puch Maxi L.
URL:https://www.alltagsklassiker.at/event/funrally-adria-odyssee/
CATEGORIES:Funrallye
ATTACH;FMTTYPE=image/avif:https://www.alltagsklassiker.at/wp-content/uploads/2026/01/Logo-FUNRALLY-Adria-Odyssee.jpg.avif
END:VEVENT
END:VCALENDAR