BEGIN:VCALENDAR
VERSION:2.0
PRODID:-//Alltagsklassiker | IG zum Erhalt und Förderung der Fahrzeugkultur und Fahrzeuggeschichte - ECPv6.15.20//NONSGML v1.0//EN
CALSCALE:GREGORIAN
METHOD:PUBLISH
X-WR-CALNAME:Alltagsklassiker | IG zum Erhalt und Förderung der Fahrzeugkultur und Fahrzeuggeschichte
X-ORIGINAL-URL:https://www.alltagsklassiker.at
X-WR-CALDESC:Veranstaltungen für Alltagsklassiker | IG zum Erhalt und Förderung der Fahrzeugkultur und Fahrzeuggeschichte
REFRESH-INTERVAL;VALUE=DURATION:PT1H
X-Robots-Tag:noindex
X-PUBLISHED-TTL:PT1H
BEGIN:VTIMEZONE
TZID:Europe/Berlin
BEGIN:DAYLIGHT
TZOFFSETFROM:+0100
TZOFFSETTO:+0200
TZNAME:CEST
DTSTART:20250330T010000
END:DAYLIGHT
BEGIN:STANDARD
TZOFFSETFROM:+0200
TZOFFSETTO:+0100
TZNAME:CET
DTSTART:20251026T010000
END:STANDARD
BEGIN:DAYLIGHT
TZOFFSETFROM:+0100
TZOFFSETTO:+0200
TZNAME:CEST
DTSTART:20260329T010000
END:DAYLIGHT
BEGIN:STANDARD
TZOFFSETFROM:+0200
TZOFFSETTO:+0100
TZNAME:CET
DTSTART:20261025T010000
END:STANDARD
BEGIN:DAYLIGHT
TZOFFSETFROM:+0100
TZOFFSETTO:+0200
TZNAME:CEST
DTSTART:20270328T010000
END:DAYLIGHT
BEGIN:STANDARD
TZOFFSETFROM:+0200
TZOFFSETTO:+0100
TZNAME:CET
DTSTART:20271031T010000
END:STANDARD
END:VTIMEZONE
BEGIN:VEVENT
DTSTART;VALUE=DATE:20260724
DTEND;VALUE=DATE:20260727
DTSTAMP:20260422T093436
CREATED:20240211T103822Z
LAST-MODIFIED:20260118T171819Z
UID:40634-1784851200-1785110399@www.alltagsklassiker.at
SUMMARY:Rollin Dudes Festival
DESCRIPTION:Rollin Dudes Festival vom 24. .26. Juli 2026 im Naturparkzentrum Grottenhof \n  \n  \nMickyGründer von Alltagsklassiker\, mit großer Schwäche für gut gereifte japanische Fahrzeuge\, Prospekte und Modellautos; Fotograf\, Vitrinist\, buchaffin\, bewegt Mazda MX-5 NA V-Special\, Mazda 818 Sedan de Luxe\, Ford Focus Turnier MK3\, Puch Clubman\, Bianchi Arcadex und Puch Maxi L.
URL:https://www.alltagsklassiker.at/event/rollin-dudes-festival/
CATEGORIES:Treffen
ATTACH;FMTTYPE=image/jpeg:https://www.alltagsklassiker.at/wp-content/uploads/2024/02/614049360_1500114385454147_2190219691285235003_n.jpg
END:VEVENT
BEGIN:VEVENT
DTSTART;VALUE=DATE:20260725
DTEND;VALUE=DATE:20260727
DTSTAMP:20260422T093436
CREATED:20260128T170344Z
LAST-MODIFIED:20260128T174748Z
UID:50227-1784937600-1785110399@www.alltagsklassiker.at
SUMMARY:Classics in the Mountains
DESCRIPTION:Classics in the Mountains \nTreffen für klassische Fahrzeuge bis Baujahr 1990 im Agrarzentrum Imst (Tirol) vom 25.-26.Juli 2026 veranstaltet vom Simca Automobile Club Tyrol \nMickyGründer von Alltagsklassiker\, mit großer Schwäche für gut gereifte japanische Fahrzeuge\, Prospekte und Modellautos; Fotograf\, Vitrinist\, buchaffin\, bewegt Mazda MX-5 NA V-Special\, Mazda 818 Sedan de Luxe\, Ford Focus Turnier MK3\, Puch Clubman\, Bianchi Arcadex und Puch Maxi L.
URL:https://www.alltagsklassiker.at/event/classics-in-the-mountains/
CATEGORIES:Treffen
ATTACH;FMTTYPE=image/jpeg:https://www.alltagsklassiker.at/wp-content/uploads/2026/01/WhatsApp-Image-2026-01-28-at-17.25.35.jpeg
END:VEVENT
BEGIN:VEVENT
DTSTART;VALUE=DATE:20260726
DTEND;VALUE=DATE:20260727
DTSTAMP:20260422T093436
CREATED:20250122T193048Z
LAST-MODIFIED:20260128T173719Z
UID:45650-1785024000-1785110399@www.alltagsklassiker.at
SUMMARY:Oldtimertreffen Rechnitz
DESCRIPTION:Oldtimertreffen der Diesel Kameraden Rechnitz ab 9h \nMickyGründer von Alltagsklassiker\, mit großer Schwäche für gut gereifte japanische Fahrzeuge\, Prospekte und Modellautos; Fotograf\, Vitrinist\, buchaffin\, bewegt Mazda MX-5 NA V-Special\, Mazda 818 Sedan de Luxe\, Ford Focus Turnier MK3\, Puch Clubman\, Bianchi Arcadex und Puch Maxi L.
URL:https://www.alltagsklassiker.at/event/oldtimertreffen-rechnitz/
CATEGORIES:Treffen
END:VEVENT
BEGIN:VEVENT
DTSTART;VALUE=DATE:20260726
DTEND;VALUE=DATE:20260727
DTSTAMP:20260422T093436
CREATED:20250129T061842Z
LAST-MODIFIED:20260204T184106Z
UID:45896-1785024000-1785110399@www.alltagsklassiker.at
SUMMARY:Spaßrallye Bodensee
DESCRIPTION:An der Spaßrallye können Oldtimer / Youngtimer und „normale“ Autos teilnehmen. Der ideale Ausflug\, um mit der Familie das Hinterland zu erkunden. \nMickyGründer von Alltagsklassiker\, mit großer Schwäche für gut gereifte japanische Fahrzeuge\, Prospekte und Modellautos; Fotograf\, Vitrinist\, buchaffin\, bewegt Mazda MX-5 NA V-Special\, Mazda 818 Sedan de Luxe\, Ford Focus Turnier MK3\, Puch Clubman\, Bianchi Arcadex und Puch Maxi L.
URL:https://www.alltagsklassiker.at/event/spassrallye-bodensee/
CATEGORIES:Rallye
END:VEVENT
BEGIN:VEVENT
DTSTART;VALUE=DATE:20260726
DTEND;VALUE=DATE:20260727
DTSTAMP:20260422T093437
CREATED:20260130T174812Z
LAST-MODIFIED:20260130T174812Z
UID:50348-1785024000-1785110399@www.alltagsklassiker.at
SUMMARY:Rollin Dudes Oldtimertreffen
DESCRIPTION:NEU 2026: Rollin Dudes Sonntag – US-Car Treffen Gute Nachrichten für alle US-Car Fans\, Oldtimer-Liebhaber und Rock’n’Roll-Freunde:Das Rollin Dudes Festival wächst – und 2026 gibt’s erstmals auch am Sonntag volles Programm!Neben Freitag und Samstag erwartet euch ein entspannter\, familienfreundlicher Festival-Sonntag mit Fokus auf US-Cars und klassischer Szene-Atmosphäre.Freut euch auf: US-Cars im Mittelpunkt – Classic\, Custom & Muscle Cars Oldtimer aller Marken willkommen Freier Eintritt am Sonntag Streetfood & Drinks Live Musik Kids Area für unsere kleinen BesucherDer Sonntag ist der perfekte Abschluss für alle\, die es gemütlich\, stilvoll und entspannt mögen – mit Familie\, Freunden\, Fahrzeugen und jeder Menge Cars • Bikes • Rock’n’Roll. \nMickyGründer von Alltagsklassiker\, mit großer Schwäche für gut gereifte japanische Fahrzeuge\, Prospekte und Modellautos; Fotograf\, Vitrinist\, buchaffin\, bewegt Mazda MX-5 NA V-Special\, Mazda 818 Sedan de Luxe\, Ford Focus Turnier MK3\, Puch Clubman\, Bianchi Arcadex und Puch Maxi L.
URL:https://www.alltagsklassiker.at/event/rollin-dudes-oldtimertreffen/
CATEGORIES:Treffen
ATTACH;FMTTYPE=image/jpeg:https://www.alltagsklassiker.at/wp-content/uploads/2026/01/622696008_1515193853946200_3747497893190170822_n.jpg
END:VEVENT
END:VCALENDAR