BEGIN:VCALENDAR
VERSION:2.0
PRODID:-//Alltagsklassiker | IG zum Erhalt und Förderung der Fahrzeugkultur und Fahrzeuggeschichte - ECPv6.15.20//NONSGML v1.0//EN
CALSCALE:GREGORIAN
METHOD:PUBLISH
X-WR-CALNAME:Alltagsklassiker | IG zum Erhalt und Förderung der Fahrzeugkultur und Fahrzeuggeschichte
X-ORIGINAL-URL:https://www.alltagsklassiker.at
X-WR-CALDESC:Veranstaltungen für Alltagsklassiker | IG zum Erhalt und Förderung der Fahrzeugkultur und Fahrzeuggeschichte
REFRESH-INTERVAL;VALUE=DURATION:PT1H
X-Robots-Tag:noindex
X-PUBLISHED-TTL:PT1H
BEGIN:VTIMEZONE
TZID:Europe/Berlin
BEGIN:DAYLIGHT
TZOFFSETFROM:+0100
TZOFFSETTO:+0200
TZNAME:CEST
DTSTART:20250330T010000
END:DAYLIGHT
BEGIN:STANDARD
TZOFFSETFROM:+0200
TZOFFSETTO:+0100
TZNAME:CET
DTSTART:20251026T010000
END:STANDARD
BEGIN:DAYLIGHT
TZOFFSETFROM:+0100
TZOFFSETTO:+0200
TZNAME:CEST
DTSTART:20260329T010000
END:DAYLIGHT
BEGIN:STANDARD
TZOFFSETFROM:+0200
TZOFFSETTO:+0100
TZNAME:CET
DTSTART:20261025T010000
END:STANDARD
BEGIN:DAYLIGHT
TZOFFSETFROM:+0100
TZOFFSETTO:+0200
TZNAME:CEST
DTSTART:20270328T010000
END:DAYLIGHT
BEGIN:STANDARD
TZOFFSETFROM:+0200
TZOFFSETTO:+0100
TZNAME:CET
DTSTART:20271031T010000
END:STANDARD
END:VTIMEZONE
BEGIN:VEVENT
DTSTART;VALUE=DATE:20260713
DTEND;VALUE=DATE:20260725
DTSTAMP:20260422T093432
CREATED:20230126T193019Z
LAST-MODIFIED:20260129T184832Z
UID:36149-1783900800-1784937599@www.alltagsklassiker.at
SUMMARY:Pothole Rodeo Balkan I
DESCRIPTION:Das Abenteuer durch den Balkan beginnt am Tor zum Balkan: in der Südsteiermark. Nach einem kurzen Abstecher nach Slowenien starten wir in Ungarn mit ein paar Lost Places\, um mal in Stimmungen zu kommen. Immer der Donau entlang schlängeln wir uns nach Rumänien bis wir am herausfordernden Balkangebirge ankommen. Die wohl spektakulärste Hochalpenstraße der Welt steht uns nun bevor: Transfagarasan. Von dort aus reiten wir weiter über das bulgarische Hinterland ans Schwarze Meer\, überqueren ein- oder zweimal die Karpaten und statten dem verlassenen Ufo “Buzludzha” einen Besuch ab. Über Griechenlandnehmen wir noch die gigantische Natur Nord-Mazedoniens mit und finden uns in Albanien am Ionischen Meer ein. Weiter geht’s durch den wilden Kosovo\, über die Berge Montenegros\, durch das unbekannte Bosnien und das Hinterland von Kroatien. Irre Bergpässe\, spektakuläre Seen und abenteuerliche Ortsdurchfahrten – es ist alles dabei. Danach nehmen wir Kurs auf unser Ziel – wo das ist\, werden wir dir aber noch nicht verraten… \n\nEs gilt die unterschiedlichsten Typen von Strecken erfolgreich zu bewältigen. Von schön ausgebauten Bundesstraßen über weniger schöne Landstraßen bis hin zu Schotterpisten mit Unmengen an „Potholes“. Na dann\, worauf wartest du noch? Sei dabei und mache es mit deinen Freunden zu eurem  Abenteuer!\nMickyGründer von Alltagsklassiker\, mit großer Schwäche für gut gereifte japanische Fahrzeuge\, Prospekte und Modellautos; Fotograf\, Vitrinist\, buchaffin\, bewegt Mazda MX-5 NA V-Special\, Mazda 818 Sedan de Luxe\, Ford Focus Turnier MK3\, Puch Clubman\, Bianchi Arcadex und Puch Maxi L.
URL:https://www.alltagsklassiker.at/event/pothole-rodeo-balkan-i/
CATEGORIES:Funrallye
END:VEVENT
BEGIN:VEVENT
DTSTART;VALUE=DATE:20260714
DTEND;VALUE=DATE:20260726
DTSTAMP:20260422T093432
CREATED:20230126T193134Z
LAST-MODIFIED:20260129T184945Z
UID:36151-1783987200-1785023999@www.alltagsklassiker.at
SUMMARY:Pothole Rodeo Balkan II
DESCRIPTION:Das Abenteuer durch den Balkan beginnt am Tor zum Balkan: in der Südsteiermark. Nach einem kurzen Abstecher nach Slowenien starten wir in Ungarn mit ein paar Lost Places\, um mal in Stimmungen zu kommen. Immer der Donau entlang schlängeln wir uns nach Rumänien bis wir am herausfordernden Balkangebirge ankommen. Die wohl spektakulärste Hochalpenstraße der Welt steht uns nun bevor: Transfagarasan. Von dort aus reiten wir weiter über das bulgarische Hinterland ans Schwarze Meer\, überqueren ein- oder zweimal die Karpaten und statten dem verlassenen Ufo “Buzludzha” einen Besuch ab. Über Griechenlandnehmen wir noch die gigantische Natur Nord-Mazedoniens mit und finden uns in Albanien am Ionischen Meer ein. Weiter geht’s durch den wilden Kosovo\, über die Berge Montenegros\, durch das unbekannte Bosnien und das Hinterland von Kroatien. Irre Bergpässe\, spektakuläre Seen und abenteuerliche Ortsdurchfahrten – es ist alles dabei. Danach nehmen wir Kurs auf unser Ziel – wo das ist\, werden wir dir aber noch nicht verraten… \n\nEs gilt die unterschiedlichsten Typen von Strecken erfolgreich zu bewältigen. Von schön ausgebauten Bundesstraßen über weniger schöne Landstraßen bis hin zu Schotterpisten mit Unmengen an „Potholes“. Na dann\, worauf wartest du noch? Sei dabei und mache es mit deinen Freunden zu eurem  Abenteuer!\nMickyGründer von Alltagsklassiker\, mit großer Schwäche für gut gereifte japanische Fahrzeuge\, Prospekte und Modellautos; Fotograf\, Vitrinist\, buchaffin\, bewegt Mazda MX-5 NA V-Special\, Mazda 818 Sedan de Luxe\, Ford Focus Turnier MK3\, Puch Clubman\, Bianchi Arcadex und Puch Maxi L.
URL:https://www.alltagsklassiker.at/event/pothole-rodeo-balkan-ii/
CATEGORIES:Funrallye
END:VEVENT
END:VCALENDAR