BEGIN:VCALENDAR
VERSION:2.0
PRODID:-//Alltagsklassiker | IG zum Erhalt und Förderung der Fahrzeugkultur und Fahrzeuggeschichte - ECPv6.15.20//NONSGML v1.0//EN
CALSCALE:GREGORIAN
METHOD:PUBLISH
X-WR-CALNAME:Alltagsklassiker | IG zum Erhalt und Förderung der Fahrzeugkultur und Fahrzeuggeschichte
X-ORIGINAL-URL:https://www.alltagsklassiker.at
X-WR-CALDESC:Veranstaltungen für Alltagsklassiker | IG zum Erhalt und Förderung der Fahrzeugkultur und Fahrzeuggeschichte
REFRESH-INTERVAL;VALUE=DURATION:PT1H
X-Robots-Tag:noindex
X-PUBLISHED-TTL:PT1H
BEGIN:VTIMEZONE
TZID:Europe/Berlin
BEGIN:DAYLIGHT
TZOFFSETFROM:+0100
TZOFFSETTO:+0200
TZNAME:CEST
DTSTART:20250330T010000
END:DAYLIGHT
BEGIN:STANDARD
TZOFFSETFROM:+0200
TZOFFSETTO:+0100
TZNAME:CET
DTSTART:20251026T010000
END:STANDARD
BEGIN:DAYLIGHT
TZOFFSETFROM:+0100
TZOFFSETTO:+0200
TZNAME:CEST
DTSTART:20260329T010000
END:DAYLIGHT
BEGIN:STANDARD
TZOFFSETFROM:+0200
TZOFFSETTO:+0100
TZNAME:CET
DTSTART:20261025T010000
END:STANDARD
BEGIN:DAYLIGHT
TZOFFSETFROM:+0100
TZOFFSETTO:+0200
TZNAME:CEST
DTSTART:20270328T010000
END:DAYLIGHT
BEGIN:STANDARD
TZOFFSETFROM:+0200
TZOFFSETTO:+0100
TZNAME:CET
DTSTART:20271031T010000
END:STANDARD
END:VTIMEZONE
BEGIN:VEVENT
DTSTART;VALUE=DATE:20260708
DTEND;VALUE=DATE:20260712
DTSTAMP:20260422T093451
CREATED:20240305T180133Z
LAST-MODIFIED:20260204T192654Z
UID:40993-1783468800-1783814399@www.alltagsklassiker.at
SUMMARY:Quattrolegende
DESCRIPTION:Quattrolegende 2026 \n  \n  \nMickyGründer von Alltagsklassiker\, mit großer Schwäche für gut gereifte japanische Fahrzeuge\, Prospekte und Modellautos; Fotograf\, Vitrinist\, buchaffin\, bewegt Mazda MX-5 NA V-Special\, Mazda 818 Sedan de Luxe\, Ford Focus Turnier MK3\, Puch Clubman\, Bianchi Arcadex und Puch Maxi L.
URL:https://www.alltagsklassiker.at/event/quattrolegende/
CATEGORIES:Treffen
ATTACH;FMTTYPE=image/webp:https://www.alltagsklassiker.at/wp-content/uploads/2024/03/content_bg.webp
END:VEVENT
BEGIN:VEVENT
DTSTART;VALUE=DATE:20260709
DTEND;VALUE=DATE:20260712
DTSTAMP:20260422T093451
CREATED:20230126T150828Z
LAST-MODIFIED:20260204T192825Z
UID:36096-1783555200-1783814399@www.alltagsklassiker.at
SUMMARY:Silvretta Classic Rallye Montafon
DESCRIPTION:In den Pionierzeiten des Automobils stellten Fahrten über die Alpen eine besondere Herausforderung dar. Die Berge rufen – und die klassischen Automobile kommen. Jahr für Jahr versammeln sich 180 Klassiker der Automobilgeschichte im Montafon. Von dort aus erklimmen die Teilnehmeratemberaubende Passstraßen\, genießen die Panoramen auf ihrer Fahrt sowie die kulinarischen Höhepunkte am Abend. Und wenn abends in der Bergluft knisternd die Motoren abkühlen\, liegen erlebnisreiche Fahrten auf Traumstraßen hinter ihnen. Zugelassen sind historisch wertvolle Automobile bis zum Baujahr 2004. Replikate oder Fahrzeuge mit nicht zeitgenössischen Modifikationen können nicht berücksichtigt werden. Die Teilnahme erfolgt auf Einladung des Veranstalters. \nEine Teilnahme ist ausschließlich in der Sanduhrklasse möglich. \nMickyGründer von Alltagsklassiker\, mit großer Schwäche für gut gereifte japanische Fahrzeuge\, Prospekte und Modellautos; Fotograf\, Vitrinist\, buchaffin\, bewegt Mazda MX-5 NA V-Special\, Mazda 818 Sedan de Luxe\, Ford Focus Turnier MK3\, Puch Clubman\, Bianchi Arcadex und Puch Maxi L.
URL:https://www.alltagsklassiker.at/event/silvretta-classic-rallye-montafon/
CATEGORIES:Rallye
END:VEVENT
BEGIN:VEVENT
DTSTART;VALUE=DATE:20260710
DTEND;VALUE=DATE:20260711
DTSTAMP:20260422T093451
CREATED:20240417T074720Z
LAST-MODIFIED:20260420T163238Z
UID:41220-1783641600-1783727999@www.alltagsklassiker.at
SUMMARY:Hot Summer Nites
DESCRIPTION:Hot Summer Nites – US Car Treffen am Areal der SCS Vösendorf \nMickyGründer von Alltagsklassiker\, mit großer Schwäche für gut gereifte japanische Fahrzeuge\, Prospekte und Modellautos; Fotograf\, Vitrinist\, buchaffin\, bewegt Mazda MX-5 NA V-Special\, Mazda 818 Sedan de Luxe\, Ford Focus Turnier MK3\, Puch Clubman\, Bianchi Arcadex und Puch Maxi L.
URL:https://www.alltagsklassiker.at/event/hot-summer-nites-2/
CATEGORIES:Treffen
ATTACH;FMTTYPE=image/jpeg:https://www.alltagsklassiker.at/wp-content/uploads/2022/04/d43f8761-8d02-4b0a-983c-7f5215b89f20.jpg
END:VEVENT
BEGIN:VEVENT
DTSTART;VALUE=DATE:20260710
DTEND;VALUE=DATE:20260713
DTSTAMP:20260422T093451
CREATED:20220322T170102Z
LAST-MODIFIED:20260118T190335Z
UID:33525-1783641600-1783900799@www.alltagsklassiker.at
SUMMARY:Histo Cup Pannonia
DESCRIPTION:Pannoniaring – Vierte Saisonstation des Histo Cup 2026! \nVom 10. bis 12. Juli 2026 macht der Histo Cup Halt am Pannoniaring in Ungarn. Die flüssige Streckenführung und das weitläufige Fahrerlager bieten optimale Bedingungen für spannende Rennen. \nAlle Serien des Histo Cup gehen an den Start und liefern Motorsport pur. \nMickyGründer von Alltagsklassiker\, mit großer Schwäche für gut gereifte japanische Fahrzeuge\, Prospekte und Modellautos; Fotograf\, Vitrinist\, buchaffin\, bewegt Mazda MX-5 NA V-Special\, Mazda 818 Sedan de Luxe\, Ford Focus Turnier MK3\, Puch Clubman\, Bianchi Arcadex und Puch Maxi L.
URL:https://www.alltagsklassiker.at/event/histo-cup-red-bull-ring/
CATEGORIES:Motorsport
END:VEVENT
END:VCALENDAR