BEGIN:VCALENDAR
VERSION:2.0
PRODID:-//Alltagsklassiker | IG zum Erhalt und Förderung der Fahrzeugkultur und Fahrzeuggeschichte - ECPv6.15.20//NONSGML v1.0//EN
CALSCALE:GREGORIAN
METHOD:PUBLISH
X-ORIGINAL-URL:https://www.alltagsklassiker.at
X-WR-CALDESC:Veranstaltungen für Alltagsklassiker | IG zum Erhalt und Förderung der Fahrzeugkultur und Fahrzeuggeschichte
REFRESH-INTERVAL;VALUE=DURATION:PT1H
X-Robots-Tag:noindex
X-PUBLISHED-TTL:PT1H
BEGIN:VTIMEZONE
TZID:Europe/Berlin
BEGIN:DAYLIGHT
TZOFFSETFROM:+0100
TZOFFSETTO:+0200
TZNAME:CEST
DTSTART:20250330T010000
END:DAYLIGHT
BEGIN:STANDARD
TZOFFSETFROM:+0200
TZOFFSETTO:+0100
TZNAME:CET
DTSTART:20251026T010000
END:STANDARD
BEGIN:DAYLIGHT
TZOFFSETFROM:+0100
TZOFFSETTO:+0200
TZNAME:CEST
DTSTART:20260329T010000
END:DAYLIGHT
BEGIN:STANDARD
TZOFFSETFROM:+0200
TZOFFSETTO:+0100
TZNAME:CET
DTSTART:20261025T010000
END:STANDARD
BEGIN:DAYLIGHT
TZOFFSETFROM:+0100
TZOFFSETTO:+0200
TZNAME:CEST
DTSTART:20270328T010000
END:DAYLIGHT
BEGIN:STANDARD
TZOFFSETFROM:+0200
TZOFFSETTO:+0100
TZNAME:CET
DTSTART:20271031T010000
END:STANDARD
END:VTIMEZONE
BEGIN:VEVENT
DTSTART;VALUE=DATE:20260704
DTEND;VALUE=DATE:20260706
DTSTAMP:20260422T080323
CREATED:20230112T200116Z
LAST-MODIFIED:20260127T200536Z
UID:35806-1783123200-1783295999@www.alltagsklassiker.at
SUMMARY:Weizer Oldtimer Genuss-Tour
DESCRIPTION:Diese Genuss-Tour wird als gesellige und touristische Veranstaltung für klassische Automobile aller Marken bis Baujahr 1997 abgehalten. Zu absolvieren sind zahlreiche Sonderprüfungen mit Wissens- & Schätzaufgaben sowie Geschicklichkeitsübungen mit dem Fahrzeug als auch Zeit- & Passierkontrollen werden durchgeführt. \nAlle Infos findest du auf der Webseite des Veranstalters. \n  \n  \nMickyGründer von Alltagsklassiker\, mit großer Schwäche für gut gereifte japanische Fahrzeuge\, Prospekte und Modellautos; Fotograf\, Vitrinist\, buchaffin\, bewegt Mazda MX-5 NA V-Special\, Mazda 818 Sedan de Luxe\, Ford Focus Turnier MK3\, Puch Clubman\, Bianchi Arcadex und Puch Maxi L.
URL:https://www.alltagsklassiker.at/event/weizer-oldtimer-genuss-tour-2/
CATEGORIES:Rallye
END:VEVENT
BEGIN:VEVENT
DTSTART;VALUE=DATE:20260705
DTEND;VALUE=DATE:20260706
DTSTAMP:20260422T080324
CREATED:20230108T185627Z
LAST-MODIFIED:20260131T212307Z
UID:35780-1783209600-1783295999@www.alltagsklassiker.at
SUMMARY:Cafe Gasolini
DESCRIPTION:CAFE GASOLINI  ist der österreichische Blechfrühschoppen für epochenverschleppende Automobilfreunde. \nEin Aufeinandertreffen von Cars & Coffee\, bei dem nichts zu Bruch geht und alle eine Hetz haben. Sagen wir so: Es ist ein Erntedankfest von Ventilspielern und Freunden der mechanischen Welt. \nBei CAFE GASOLINI sind alle Fahrzeuge bis zum Erscheinungsbaujahr 1970 mehr als erwünscht. \nAm Parkplatz von Josef – AUTO METZKER \nJeden ersten Sonntag im Monat. \nvon 9 – 11h25 – also 12x jährlich. \n(Terminänderungen werden bekanntgegeben) \nSchlechtwetter ist genauso erwünscht wie 2lagiges Toilettenpapier. \nMickyGründer von Alltagsklassiker\, mit großer Schwäche für gut gereifte japanische Fahrzeuge\, Prospekte und Modellautos; Fotograf\, Vitrinist\, buchaffin\, bewegt Mazda MX-5 NA V-Special\, Mazda 818 Sedan de Luxe\, Ford Focus Turnier MK3\, Puch Clubman\, Bianchi Arcadex und Puch Maxi L.
URL:https://www.alltagsklassiker.at/event/cafe-gasolini-5/
LOCATION:Auto Metzker\, Lokalbahnweg 6\, Vösendorf\, 2334\, Österreich
CATEGORIES:Cafe Gasolini
END:VEVENT
BEGIN:VEVENT
DTSTART;VALUE=DATE:20260705
DTEND;VALUE=DATE:20260706
DTSTAMP:20260422T080324
CREATED:20230219T091740Z
LAST-MODIFIED:20260129T185758Z
UID:36279-1783209600-1783295999@www.alltagsklassiker.at
SUMMARY:MVC Graz Sommerausfahrt
DESCRIPTION:MVC Graz Sommerausfahrt am 05.07.2026 \nMickyGründer von Alltagsklassiker\, mit großer Schwäche für gut gereifte japanische Fahrzeuge\, Prospekte und Modellautos; Fotograf\, Vitrinist\, buchaffin\, bewegt Mazda MX-5 NA V-Special\, Mazda 818 Sedan de Luxe\, Ford Focus Turnier MK3\, Puch Clubman\, Bianchi Arcadex und Puch Maxi L.
URL:https://www.alltagsklassiker.at/event/mvc-graz-sommerausfahrt/
CATEGORIES:Ausfahrt
END:VEVENT
BEGIN:VEVENT
DTSTART;VALUE=DATE:20260705
DTEND;VALUE=DATE:20260706
DTSTAMP:20260422T080324
CREATED:20260212T170251Z
LAST-MODIFIED:20260212T170251Z
UID:50561-1783209600-1783295999@www.alltagsklassiker.at
SUMMARY:Austria Historic
DESCRIPTION:!Unser Vizepräsident Kurt veranstaltet wieder eine Ausfahrt vom Standort Grand Hotel Lienz. Der Termin ist so gelegt\, dass gleich im Anschluss eine Teilnahme an der Schenna Classic im Raum Meran möglich ist.\nEine Woche im gleichen Hotel mit Tiefgarage und jeden Tag eine wunderbare Strecke \nKeine Wertungen – Keine Ansprachen – Keine Sponsorenverpflichtungen \nDie pure Freude am Fahren und Erkunden der schönsten Pässe in Österreich und Südtirol. \nDiese AVCA-Tour ist wieder etwas für Teams\, die das Leben\, Fahren\, Erleben mit ihrem Hobby genießen wollen. Durchaus anspruchsvoll unterwegs auf interessanten Straßen\, über Österreichs und Italiens schönste Pässe und durch wunderbare Landschaften\, ist auch genügend Zeit für Sehenswürdigkeiten und kulturelle Highlights. \nNach dem täglichen Drehen am Lenkrad erwartet Sie der Welcome-Drink auf der Terrasse des Grand-Hotel-Lienz. \nDie AUSTRIA Historic ist eine internationale Fahrt für Enthusiasten von Enthusiasten\, die ihr Hobby voll ausleben wollen\, aber auf einem guten Niveau und mit Stil. \nBei Interesse sende ein Mail an k.dichtl(ad)gmail.com und Du bekommst als Erster die laufenden Informationen oder melde gleich. Bedingt durch die benötigten Hotelzimmer ist die Teilnehmeranzahl begrenzt. Wie immer gilt: first come – first served!! \nMickyGründer von Alltagsklassiker\, mit großer Schwäche für gut gereifte japanische Fahrzeuge\, Prospekte und Modellautos; Fotograf\, Vitrinist\, buchaffin\, bewegt Mazda MX-5 NA V-Special\, Mazda 818 Sedan de Luxe\, Ford Focus Turnier MK3\, Puch Clubman\, Bianchi Arcadex und Puch Maxi L.
URL:https://www.alltagsklassiker.at/event/austria-historic/
CATEGORIES:Ausfahrt
END:VEVENT
BEGIN:VEVENT
DTSTART;VALUE=DATE:20260705
DTEND;VALUE=DATE:20260710
DTSTAMP:20260422T080324
CREATED:20230126T191516Z
LAST-MODIFIED:20260129T161751Z
UID:36141-1783209600-1783641599@www.alltagsklassiker.at
SUMMARY:Funrally Österreich Tour
DESCRIPTION:5. – 9. Juli 2026 \nFünf grandiose und unvergessliche Tage gemeinsam durch die schönsten Gegenden\, immer auf der Suche nach Spaß und Abenteuer – so der Plan! \nDie FUNRALLY Österreich-Tour endet am Donnerstag Abend (9.7.2026). \nDeinen weiteren Aufenthalt sowie die Heimreise kannst du frei gestalten. \nMickyGründer von Alltagsklassiker\, mit großer Schwäche für gut gereifte japanische Fahrzeuge\, Prospekte und Modellautos; Fotograf\, Vitrinist\, buchaffin\, bewegt Mazda MX-5 NA V-Special\, Mazda 818 Sedan de Luxe\, Ford Focus Turnier MK3\, Puch Clubman\, Bianchi Arcadex und Puch Maxi L.
URL:https://www.alltagsklassiker.at/event/funrallye-oesterreich-tour/
CATEGORIES:Funrallye
END:VEVENT
END:VCALENDAR