BEGIN:VCALENDAR
VERSION:2.0
PRODID:-//Alltagsklassiker | IG zum Erhalt und Förderung der Fahrzeugkultur und Fahrzeuggeschichte - ECPv6.15.20//NONSGML v1.0//EN
CALSCALE:GREGORIAN
METHOD:PUBLISH
X-WR-CALNAME:Alltagsklassiker | IG zum Erhalt und Förderung der Fahrzeugkultur und Fahrzeuggeschichte
X-ORIGINAL-URL:https://www.alltagsklassiker.at
X-WR-CALDESC:Veranstaltungen für Alltagsklassiker | IG zum Erhalt und Förderung der Fahrzeugkultur und Fahrzeuggeschichte
REFRESH-INTERVAL;VALUE=DURATION:PT1H
X-Robots-Tag:noindex
X-PUBLISHED-TTL:PT1H
BEGIN:VTIMEZONE
TZID:Europe/Berlin
BEGIN:DAYLIGHT
TZOFFSETFROM:+0100
TZOFFSETTO:+0200
TZNAME:CEST
DTSTART:20250330T010000
END:DAYLIGHT
BEGIN:STANDARD
TZOFFSETFROM:+0200
TZOFFSETTO:+0100
TZNAME:CET
DTSTART:20251026T010000
END:STANDARD
BEGIN:DAYLIGHT
TZOFFSETFROM:+0100
TZOFFSETTO:+0200
TZNAME:CEST
DTSTART:20260329T010000
END:DAYLIGHT
BEGIN:STANDARD
TZOFFSETFROM:+0200
TZOFFSETTO:+0100
TZNAME:CET
DTSTART:20261025T010000
END:STANDARD
BEGIN:DAYLIGHT
TZOFFSETFROM:+0100
TZOFFSETTO:+0200
TZNAME:CEST
DTSTART:20270328T010000
END:DAYLIGHT
BEGIN:STANDARD
TZOFFSETFROM:+0200
TZOFFSETTO:+0100
TZNAME:CET
DTSTART:20271031T010000
END:STANDARD
END:VTIMEZONE
BEGIN:VEVENT
DTSTART;VALUE=DATE:20260701
DTEND;VALUE=DATE:20260705
DTSTAMP:20260422T080157
CREATED:20260131T080408Z
LAST-MODIFIED:20260131T080447Z
UID:50388-1782864000-1783209599@www.alltagsklassiker.at
SUMMARY:Moped Rodeo Germany
DESCRIPTION:Startpunkt? Nahe Chemnitz – mitten im Herzen ostdeutscher Zweiradkultur\, wo Zweitakt-Gemisch Alltag ist und Mopeds nicht parken\, sondern jagen.\n\nNördlich der Karl-Marx-City durch Dresdens Speckgürtel: Steinbrüche\, Elbauen\, Nebenstraßen ohne Namen. Weiter Richtung Oberlausitz – Kopfsteinpflaster\, vergessene Feldwege\, kleine Dörfer.\n\nIm Zittauer Gebirge wird’s rau: Pflasterstraßen\, Panzerplatten\, Grenzpfosten. Dann rüber nach Polen und weiter nach Tschechien durchs Egertal\, vorbei an alten Bahnlinien und Bergbauruinen.\n\nNationalpark Böhmische Schweiz: Sandsteinfelsen\, Hohlwege\, Haarnadelkurven statt Insta-Spots. Zum Abschluss zurück ins Erzgebirge – Serpentinen\, Grenzwege\, Schotter und Asphaltreste. Dein Zweirad entscheidet.\n\nMoped Rodeo Germany 2026 – Ride dirty. Ride free. Ride Eastern Highlands. Anmeldung offen. Plätze limitiert.\nMickyGründer von Alltagsklassiker\, mit großer Schwäche für gut gereifte japanische Fahrzeuge\, Prospekte und Modellautos; Fotograf\, Vitrinist\, buchaffin\, bewegt Mazda MX-5 NA V-Special\, Mazda 818 Sedan de Luxe\, Ford Focus Turnier MK3\, Puch Clubman\, Bianchi Arcadex und Puch Maxi L.
URL:https://www.alltagsklassiker.at/event/moped-rodeo-germany/
CATEGORIES:Funrallye
END:VEVENT
BEGIN:VEVENT
DTSTART;VALUE=DATE:20260702
DTEND;VALUE=DATE:20260705
DTSTAMP:20260422T080157
CREATED:20220324T090006Z
LAST-MODIFIED:20260204T192340Z
UID:33564-1782950400-1783209599@www.alltagsklassiker.at
SUMMARY:Arlberg Classic Car Rally
DESCRIPTION:Die Arlberg Classic Car Rally ist bereits in der zweiten Dekade. Den hohen Anspruch einer historischen Rally inmitten einer grandiosen Alpenlandschaft mit einer ganz besonderen\, individuellen Atmosphäre soll auch die 17. ARLBERG CLASSIC Car Rally auszeichnen. \nLech verwandelt sich im  Juni in ein Eldorado für Oldtimerfreunde und Autoliebhaber. Die Vielfalt an Marken und Modellen von damals und nicht zuletzt die Streckenauswahl machen die Arlberg Classic Car Rally zu etwas Besonderem. Auch im Sommer 2026 wird das Team rund um Rennleiter Armin Schwarz für ein abwechslungsreiches Streckenprofil sorgen. Wir freuen uns auf ein buntes Starterfeld und viele Zuschauer entlang der Strecke. \nWie in den Jahren zuvor sorgen wir bei der 17. Auflage für eine entspannte Atmosphäre vom Start bis in Ziel und bleiben dabei unserem Motto treu: „Mit Freunden durch alpine Traumkulissen“. \nMickyGründer von Alltagsklassiker\, mit großer Schwäche für gut gereifte japanische Fahrzeuge\, Prospekte und Modellautos; Fotograf\, Vitrinist\, buchaffin\, bewegt Mazda MX-5 NA V-Special\, Mazda 818 Sedan de Luxe\, Ford Focus Turnier MK3\, Puch Clubman\, Bianchi Arcadex und Puch Maxi L.
URL:https://www.alltagsklassiker.at/event/arlberg-classic-car-rally/
CATEGORIES:Rallye
END:VEVENT
BEGIN:VEVENT
DTSTART;VALUE=DATE:20260703
DTEND;VALUE=DATE:20260705
DTSTAMP:20260422T080157
CREATED:20220322T163121Z
LAST-MODIFIED:20260204T184608Z
UID:33513-1783036800-1783209599@www.alltagsklassiker.at
SUMMARY:Höllental Classic
DESCRIPTION:Die Höllental Classic entführt Sie über zwei faszinierende Tage hinweg auf eine Zeitreise durch die Welt der Oldtimer-Rallyes\, deren anspruchsvolle Prüfungen auf die Kunst der Gleichmäßigkeit setzen.\nDie Strecke erstreckt sich zwischen dem idyllischen Startpunkt und Zielort in 2651 Reichenau an der Rax\, wo eine Vielzahl von Herausforderungen mit Roadbook\, Stoppuhr und Schnitttabelle auf die Teilnehmer wartet. \nDie Präzision der Timingprüfungen wird mittels modernster Technologie wie Lichtschranken oder Messschläuchen gewährleistet\, während bei den Schnittprüfungen die Positionsbestimmung per GPS erfolgt. Diese exakten Messungen verleihen der Höllental Classic eine einzigartige Authentizität im Bereich historischer Fahrzeuge. \nDie malerische Strecke der HTC führt Sie und Ihr Fahrzeug an beiden Tagen auf neuen Pfaden durch die zauberhaften Landschaften von Niederösterreich\, der Steiermark und dem Burgenland.\nNach einem aufregenden Tag auf der Strecke erwartet die Teilnehmer an beiden Abenden eine besondere Atmosphäre bei den Abendveranstaltungen. Hier können sich Enthusiasten in gemütlicher Runde zu Benzingesprächen zusammenfinden\, um ihre Leidenschaft für klassische Fahrzeuge zu teilen. Die Veranstaltungen bieten die perfekte Gelegenheit\, Erfahrungen auszutauschen und die Geschichten hinter den faszinierenden Oldtimern zu entdecken. \nDas Höllental selbst\, ein 16\,5 km langes Tal\, durch das die Schwarza fließt\, erstreckt sich zwischen den majestätischen Gipfeln von Schneeberg und Rax. Als beliebtes Ausflugsziel für Wanderer\, Motorradenthusiasten und Liebhaber klassischer Fahrzeuge dient das Höllental als Namensgeber für die HTC. Am südlichen Ende dieses bezaubernden Tals erwartet Sie Reichenau an der Rax mit seinem prachtvollen Schloss\, das zugleich als Start- und Zielpunkt für das unvergessliche Erlebnis der zweitägigen Höllental Classic fungiert. \nMickyGründer von Alltagsklassiker\, mit großer Schwäche für gut gereifte japanische Fahrzeuge\, Prospekte und Modellautos; Fotograf\, Vitrinist\, buchaffin\, bewegt Mazda MX-5 NA V-Special\, Mazda 818 Sedan de Luxe\, Ford Focus Turnier MK3\, Puch Clubman\, Bianchi Arcadex und Puch Maxi L.
URL:https://www.alltagsklassiker.at/event/hoellental-classic/
CATEGORIES:Rallye
END:VEVENT
BEGIN:VEVENT
DTSTART;VALUE=DATE:20260704
DTEND;VALUE=DATE:20260705
DTSTAMP:20260422T080157
CREATED:20220305T053339Z
LAST-MODIFIED:20260316T165907Z
UID:33245-1783123200-1783209599@www.alltagsklassiker.at
SUMMARY:Alltagsklassiker Saturday Night Cruising
DESCRIPTION:Das Alltagsklassiker Saturday Night Cruising geht 2026 in seine 15. Saison. Auch wenn sich über die vielen Jahre der Ort oder der Wochentag geändert haben\, eines ist immer gleich geblieben: Es erwartet dich ein entspannter Abend mit Freunden des gut gereiften Blechs\, tolle Gesprächen unter Gleichgesinnten und ganz viel Leidenschaft für klassische Fahrzeuge. \nSeit fünf Jahren ist das Center West unser Treffpunkt – eine bestens bewährte Location mit viel Platz und dem Restaurant Sägewerk West direkt vor Ort. Dort gibt’s kühle Drinks\, warme Speisen und einen schattigen Gastgarten mit bestem Blick auf die angereisten Oldies und Youngtimer\, die im milden Abendlicht besonders gut zur Geltung kommen. \nWir treffen uns an einem Samstag im Monat – von April bis Oktober\, ab 18 Uhr am Parkplatz des Center West. Komm vorbei\, mit deinem Youngtimer oder Oldtimer – Hauptsache\, du hast Freude an der Sache! \n  \n \n  \nWer?\nWillkommen sind bei uns alle Fahrzeuge aller Marken (Autos\, Mopeds\, Motorroller\, Motorräder und Fahrräder) bis Baujahr 2000\, egal ob Oldtimer oder Youngtimer\, egal welcher Marke und Type\, US-Cars\, europäische Fahrzeuge\, Nipponklassiker\, im Topzustand\, als Ratte\, zeitgenössisch optimiert oder mit kleinem Budget am Leben erhalten – alle sind gleichwertig und herzlich willkommen! Aber\, wir sind kein Tuningtreffen und folglich die falsche Anlaufstelle. \n  \nWann? \n4. Juli 2026\n18h – 23h \n  \nWo?\nCenter West\nWeblinger Gürtel 25\n8054 Graz \n  \nEintritt:\nWir als Verein freuen uns über eine freiwillige Spende\, die du bei der Einfahrt in die Spendenbox werfen kannst\, am Alltagsklassiker Stehtisch in der Spendenbox deponieren kannst oder direkt hier online erledigen kannst. \n  \nAnfahrt planen:  \n \n  \nGastronomie:\nUm unser leibliches Wohl sorgt sich das Sägewerk West\, ein Lokal\, das uns neben kühlen Drinks und heißen Getränken auch mit allerlei Speisen im Bausatz-Stil versorgt: Aus unzähligen Wahlmöglichkeiten kann man sich dort Burger\, Pizza\, Pfandl\, Salat\, Toast\, Eierspeis\, Nudel und Dessert nach dem ganz eigenen Geschmack zusammenstellen. \n  \nVerhaltensregeln:\nEs war bisher noch nie ein Problem dank eures vorbildhaften Verhaltens\, ich möchte euch trotzdem nochmals in Erinnerung rufen\, dass wir im Center West zu Gast sind und uns auch dort an die StVO halten müssen. Kein unnötiges Gasgeben und Aufheulen lassen des Motors\, kein Gummi Gummi – nehmt Rücksicht auf die Anrainer\, besonders zu nächtlicher Stunde bei der Heimfahrt. \nBesonderes Augenmerk legt bitte auf die Behindertenparkplätze\, die Ladesäulen bzw. Tesla Supercharger: Diese müssen stets frei bleiben. Sollte kein Parkplatz mehr frei sein\, weicht bitte auf den großen Parkplatz im Inneren des Weblinger Verteilerkreises aus. \n  \nFoto- und Filmaufnahmen:\nIm Rahmen Deiner Teilnahme an Veranstaltung von Alltagsklassiker werden möglicherweise Bild- und/oder Videoaufnahmen (gegebenenfalls mit Audioaufnahmen) von Dir und Deinem Fahrzeug erstellt. Diese Aufnahmen können in verschiedenen Medien ( Webseite\, Facebook\, Instagram\, YouTube\, etc) und in Publikationen (Print\, Online\, etc) von Alltagsklassiker und anderen Medien zum Zwecke der Öffentlichkeitsarbeit Verwendung finden. Mit dem Besuch einer unserer Veranstaltung\, stimmst Du dieser Nutzung zu. Darüber hinaus dienen die Aufnahmen Dokumentationszwecken. \nDanke:\nEin herzliches Dankeschön an dieser Stelle an das Center West und das Sägewerk West für die Gastfreundschaft. \nMit freundlicher Unterstützung unserer Sponsoren \n\nFrieko’s Garage\nDer Sachverständige\n Ertler’s Garage\nHotel Kern Buam\nCar Stories\nMotorbiene\n\nHotelpartner:\nDu reist von aus der Ferne zu unserem Treffen an? Wir haben seit 2025 eine Partnerschaft mit dem Hotel Kern Baum\, dass nicht weit von unserem Treffenstandort entfernt liegt. Hier bekommst du alle Infos\, wie du im Hotel Kern Buam günstiger übernachten kannst: \n \nMickyGründer von Alltagsklassiker\, mit großer Schwäche für gut gereifte japanische Fahrzeuge\, Prospekte und Modellautos; Fotograf\, Vitrinist\, buchaffin\, bewegt Mazda MX-5 NA V-Special\, Mazda 818 Sedan de Luxe\, Ford Focus Turnier MK3\, Puch Clubman\, Bianchi Arcadex und Puch Maxi L.
URL:https://www.alltagsklassiker.at/event/alltagsklassiker-saturday-night-cruising-juli/
LOCATION:Center West\, Weblinger Gürtel 25\, Graz\, 8054\, Österreich
CATEGORIES:Alltagsklassiker
ATTACH;FMTTYPE=image/png:https://www.alltagsklassiker.at/wp-content/uploads/2022/03/VA_FB_Juli_2026.png
END:VEVENT
BEGIN:VEVENT
DTSTART;VALUE=DATE:20260704
DTEND;VALUE=DATE:20260705
DTSTAMP:20260422T080158
CREATED:20240310T201554Z
LAST-MODIFIED:20260120T183511Z
UID:41067-1783123200-1783209599@www.alltagsklassiker.at
SUMMARY:MotorNights
DESCRIPTION:Die„MotorNights“ finden in den Sommermonaten Mai – September statt\, jeweils am ersten Samstag im Monat ab 18:00 Uhr\nWir freuen uns wieder sehr auf Euer zahlreiches kommen! \nDie „MotorNights“ sind sozusagen der „Clubabend“ der Friends of „MotorNights“\, wo Freunde alten\, schnellen und raren Blechs einmal im Monat zusammenkommen und einen ruhigen\, netten Abend unter Gleichgesinnten verbringen. Ab dem ersten Freitag im Oktober 2018\, heißt es „MotorNights“ NEU ! nun in Wien FREUDENAU\, direkt hinter dem Lusthaus am großen waldparkplatz. Für Speis\, Trank und Platz zum gemütlichen beisammensitzen sorgt das freundliche Team von „freude now“. Die FREUDENAU somit als Treffpunkt\, wo wir uns zum monatlichen Stelldichein treffen\, zum Freunde treffen\, fachsimpeln\, Auto schaun und um einfach den Abend mit dem gemeinsamen Hobby zu genießen.\nwichtig: nachdem wir unmittelbar neben den Pferdestallungen parken\, bitten wir alle darum\, so wie wir es bisher auch immer gewohnt waren\, um einen ruhigen verlauf des gemeinsamen Abends ! Danke Euch \nUScars – Oldtimer – Youngtimer – Classics – Sportscars – Customs & Bikes -& are welcome! \nMickyGründer von Alltagsklassiker\, mit großer Schwäche für gut gereifte japanische Fahrzeuge\, Prospekte und Modellautos; Fotograf\, Vitrinist\, buchaffin\, bewegt Mazda MX-5 NA V-Special\, Mazda 818 Sedan de Luxe\, Ford Focus Turnier MK3\, Puch Clubman\, Bianchi Arcadex und Puch Maxi L.
URL:https://www.alltagsklassiker.at/event/motor-nights-2/
CATEGORIES:Treffen
END:VEVENT
BEGIN:VEVENT
DTSTART;VALUE=DATE:20260704
DTEND;VALUE=DATE:20260705
DTSTAMP:20260422T080158
CREATED:20260118T170417Z
LAST-MODIFIED:20260118T170528Z
UID:50043-1783123200-1783209599@www.alltagsklassiker.at
SUMMARY:Sprint Race
DESCRIPTION:Die CultFriends – ein Verein zur Förderung von Motorsport und Erhaltung von Oldtimern – veranstaltet bereits zum 6. Mal das beliebte SprintRace. \nEckdaten: \n04.07.2026 \nBeginn: 09:00 Uhr \nBeschleunigungsrennen auf 1/16 Meile \nBracket Race \neigene Oldtimer Wertung \nauch ShowActs möglich \nAbschluss mit beliebter AfterRaceParty \nMickyGründer von Alltagsklassiker\, mit großer Schwäche für gut gereifte japanische Fahrzeuge\, Prospekte und Modellautos; Fotograf\, Vitrinist\, buchaffin\, bewegt Mazda MX-5 NA V-Special\, Mazda 818 Sedan de Luxe\, Ford Focus Turnier MK3\, Puch Clubman\, Bianchi Arcadex und Puch Maxi L.
URL:https://www.alltagsklassiker.at/event/sprint-race/
CATEGORIES:Motorsport
END:VEVENT
BEGIN:VEVENT
DTSTART;VALUE=DATE:20260704
DTEND;VALUE=DATE:20260705
DTSTAMP:20260422T080158
CREATED:20260204T180024Z
LAST-MODIFIED:20260204T180024Z
UID:50493-1783123200-1783209599@www.alltagsklassiker.at
SUMMARY:Linzer Puchtreffen
DESCRIPTION:Am Samstag\, dem 4. Juli 2026 findet das 7. Linzer PUCH-Treffen statt. \nMickyGründer von Alltagsklassiker\, mit großer Schwäche für gut gereifte japanische Fahrzeuge\, Prospekte und Modellautos; Fotograf\, Vitrinist\, buchaffin\, bewegt Mazda MX-5 NA V-Special\, Mazda 818 Sedan de Luxe\, Ford Focus Turnier MK3\, Puch Clubman\, Bianchi Arcadex und Puch Maxi L.
URL:https://www.alltagsklassiker.at/event/linzer-puchtreffen/
CATEGORIES:Treffen
END:VEVENT
BEGIN:VEVENT
DTSTART;VALUE=DATE:20260704
DTEND;VALUE=DATE:20260706
DTSTAMP:20260422T080158
CREATED:20230112T200116Z
LAST-MODIFIED:20260127T200536Z
UID:35806-1783123200-1783295999@www.alltagsklassiker.at
SUMMARY:Weizer Oldtimer Genuss-Tour
DESCRIPTION:Diese Genuss-Tour wird als gesellige und touristische Veranstaltung für klassische Automobile aller Marken bis Baujahr 1997 abgehalten. Zu absolvieren sind zahlreiche Sonderprüfungen mit Wissens- & Schätzaufgaben sowie Geschicklichkeitsübungen mit dem Fahrzeug als auch Zeit- & Passierkontrollen werden durchgeführt. \nAlle Infos findest du auf der Webseite des Veranstalters. \n  \n  \nMickyGründer von Alltagsklassiker\, mit großer Schwäche für gut gereifte japanische Fahrzeuge\, Prospekte und Modellautos; Fotograf\, Vitrinist\, buchaffin\, bewegt Mazda MX-5 NA V-Special\, Mazda 818 Sedan de Luxe\, Ford Focus Turnier MK3\, Puch Clubman\, Bianchi Arcadex und Puch Maxi L.
URL:https://www.alltagsklassiker.at/event/weizer-oldtimer-genuss-tour-2/
CATEGORIES:Rallye
END:VEVENT
END:VCALENDAR