BEGIN:VCALENDAR
VERSION:2.0
PRODID:-//Alltagsklassiker | IG zum Erhalt und Förderung der Fahrzeugkultur und Fahrzeuggeschichte - ECPv6.15.20//NONSGML v1.0//EN
CALSCALE:GREGORIAN
METHOD:PUBLISH
X-WR-CALNAME:Alltagsklassiker | IG zum Erhalt und Förderung der Fahrzeugkultur und Fahrzeuggeschichte
X-ORIGINAL-URL:https://www.alltagsklassiker.at
X-WR-CALDESC:Veranstaltungen für Alltagsklassiker | IG zum Erhalt und Förderung der Fahrzeugkultur und Fahrzeuggeschichte
REFRESH-INTERVAL;VALUE=DURATION:PT1H
X-Robots-Tag:noindex
X-PUBLISHED-TTL:PT1H
BEGIN:VTIMEZONE
TZID:Europe/Berlin
BEGIN:DAYLIGHT
TZOFFSETFROM:+0100
TZOFFSETTO:+0200
TZNAME:CEST
DTSTART:20250330T010000
END:DAYLIGHT
BEGIN:STANDARD
TZOFFSETFROM:+0200
TZOFFSETTO:+0100
TZNAME:CET
DTSTART:20251026T010000
END:STANDARD
BEGIN:DAYLIGHT
TZOFFSETFROM:+0100
TZOFFSETTO:+0200
TZNAME:CEST
DTSTART:20260329T010000
END:DAYLIGHT
BEGIN:STANDARD
TZOFFSETFROM:+0200
TZOFFSETTO:+0100
TZNAME:CET
DTSTART:20261025T010000
END:STANDARD
BEGIN:DAYLIGHT
TZOFFSETFROM:+0100
TZOFFSETTO:+0200
TZNAME:CEST
DTSTART:20270328T010000
END:DAYLIGHT
BEGIN:STANDARD
TZOFFSETFROM:+0200
TZOFFSETTO:+0100
TZNAME:CET
DTSTART:20271031T010000
END:STANDARD
END:VTIMEZONE
BEGIN:VEVENT
DTSTART;VALUE=DATE:20260613
DTEND;VALUE=DATE:20260629
DTSTAMP:20260422T062641
CREATED:20240304T174321Z
LAST-MODIFIED:20260129T183403Z
UID:40980-1781308800-1782691199@www.alltagsklassiker.at
SUMMARY:Baltic Sea Circle Sommer
DESCRIPTION:Du möchtest nächsten Sommer etwas wirklich Außergewöhnliches unternehmen? Du bist auf der Suche nach Abenteuer und neuen Horizonten? Du willst pure Wildnis und den Puls rauer Metropolen spüren? Dann starte bei der nördlichsten Rallye des Erdballs: Dem Baltic Sea Circle. \nEntdecke die nördliche Hemisphäre bei dem ultimativen Road-Trip Deines Lebens. Schnapp Dir das Auto\, welches Du schon immer fahren wolltest. GPS und Navi bleiben zuhause\, lass Dich von Deinen Sinnen und guten alten Hilfsmitteln wie Karte und Kompass über 7.500 km bis zum Polarkreis und um die einzigartige Ostsee leiten. \nDie Zeit ist reif für das nächste Abenteuer. \nMickyGründer von Alltagsklassiker\, mit großer Schwäche für gut gereifte japanische Fahrzeuge\, Prospekte und Modellautos; Fotograf\, Vitrinist\, buchaffin\, bewegt Mazda MX-5 NA V-Special\, Mazda 818 Sedan de Luxe\, Ford Focus Turnier MK3\, Puch Clubman\, Bianchi Arcadex und Puch Maxi L.
URL:https://www.alltagsklassiker.at/event/baltic-sea-circle-sommer-2/
CATEGORIES:Funrallye
END:VEVENT
BEGIN:VEVENT
DTSTART;VALUE=DATE:20260626
DTEND;VALUE=DATE:20260629
DTSTAMP:20260422T062641
CREATED:20230226T191058Z
LAST-MODIFIED:20260129T154736Z
UID:36316-1782432000-1782691199@www.alltagsklassiker.at
SUMMARY:JDM goes IKUNA 2K.26
DESCRIPTION:Die JAPAN SZENE HAUSRUCK lädt euch Fans und Besitzer japanischer Autos recht herzlich zum 8.JDM goes IKUNA ein. Ein japanisch/asiatisches Autotreffen in einer exquisiten Location im wunderschönen Oberösterreich. \nStatt finden wird das ganze Event wieder am Parkplatz beim Naturresort in Natternbach und die angrenzenden Parkplätze werden anhand einer Straßensperre zu einem Areal gefügt. \nIn der gegenüberliegenden Stocksporthalle wird für das leibliche Wohl gesorgt und natürlich am Abend gefeiert. \nMickyGründer von Alltagsklassiker\, mit großer Schwäche für gut gereifte japanische Fahrzeuge\, Prospekte und Modellautos; Fotograf\, Vitrinist\, buchaffin\, bewegt Mazda MX-5 NA V-Special\, Mazda 818 Sedan de Luxe\, Ford Focus Turnier MK3\, Puch Clubman\, Bianchi Arcadex und Puch Maxi L.
URL:https://www.alltagsklassiker.at/event/jdm-goes-ikuna-2k-26/
CATEGORIES:Treffen
END:VEVENT
BEGIN:VEVENT
DTSTART;VALUE=DATE:20260626
DTEND;VALUE=DATE:20260629
DTSTAMP:20260422T062642
CREATED:20260118T191445Z
LAST-MODIFIED:20260118T191445Z
UID:50118-1782432000-1782691199@www.alltagsklassiker.at
SUMMARY:Formula 1 Lenovo Austrian Grand Prix 2026
DESCRIPTION:Erlebe den Holiday Grand Prix – wo Höchstgeschwindigkeit auf atemberaubende Kulisse trifft! Sei hautnah dabei\, wenn die besten Fahrer der Welt um den Sieg kämpfen und die legendäre Rennstrecke in einen Hexenkessel der Emotionen verwandeln. \nDie 4\,326 Kilometer lange Rennstrecke ist seit Jahren die Bühne für unvergessliche Motorsport-Momente. Schnall dich an für das ultimative Formel 1-Erlebnis am Red Bull Ring \nMickyGründer von Alltagsklassiker\, mit großer Schwäche für gut gereifte japanische Fahrzeuge\, Prospekte und Modellautos; Fotograf\, Vitrinist\, buchaffin\, bewegt Mazda MX-5 NA V-Special\, Mazda 818 Sedan de Luxe\, Ford Focus Turnier MK3\, Puch Clubman\, Bianchi Arcadex und Puch Maxi L.
URL:https://www.alltagsklassiker.at/event/formula-1-lenovo-austrian-grand-prix-2026/
CATEGORIES:Motorsport
END:VEVENT
BEGIN:VEVENT
DTSTART;VALUE=DATE:20260628
DTEND;VALUE=DATE:20260629
DTSTAMP:20260422T062642
CREATED:20240228T163057Z
LAST-MODIFIED:20260127T200932Z
UID:40820-1782604800-1782691199@www.alltagsklassiker.at
SUMMARY:Oldtimertreffen Gerersdorf
DESCRIPTION:Südburgenländisches Allgemeines Oldtimertreffen in Gerersdorf mit Ausfahrt und Prämierung \n  \n  \n  \nMickyGründer von Alltagsklassiker\, mit großer Schwäche für gut gereifte japanische Fahrzeuge\, Prospekte und Modellautos; Fotograf\, Vitrinist\, buchaffin\, bewegt Mazda MX-5 NA V-Special\, Mazda 818 Sedan de Luxe\, Ford Focus Turnier MK3\, Puch Clubman\, Bianchi Arcadex und Puch Maxi L.
URL:https://www.alltagsklassiker.at/event/oldtimertreffen-geresdorf/
CATEGORIES:Ausfahrt,Treffen
END:VEVENT
END:VCALENDAR