BEGIN:VCALENDAR
VERSION:2.0
PRODID:-//Alltagsklassiker | IG zum Erhalt und Förderung der Fahrzeugkultur und Fahrzeuggeschichte - ECPv6.15.20//NONSGML v1.0//EN
CALSCALE:GREGORIAN
METHOD:PUBLISH
X-ORIGINAL-URL:https://www.alltagsklassiker.at
X-WR-CALDESC:Veranstaltungen für Alltagsklassiker | IG zum Erhalt und Förderung der Fahrzeugkultur und Fahrzeuggeschichte
REFRESH-INTERVAL;VALUE=DURATION:PT1H
X-Robots-Tag:noindex
X-PUBLISHED-TTL:PT1H
BEGIN:VTIMEZONE
TZID:Europe/Berlin
BEGIN:DAYLIGHT
TZOFFSETFROM:+0100
TZOFFSETTO:+0200
TZNAME:CEST
DTSTART:20250330T010000
END:DAYLIGHT
BEGIN:STANDARD
TZOFFSETFROM:+0200
TZOFFSETTO:+0100
TZNAME:CET
DTSTART:20251026T010000
END:STANDARD
BEGIN:DAYLIGHT
TZOFFSETFROM:+0100
TZOFFSETTO:+0200
TZNAME:CEST
DTSTART:20260329T010000
END:DAYLIGHT
BEGIN:STANDARD
TZOFFSETFROM:+0200
TZOFFSETTO:+0100
TZNAME:CET
DTSTART:20261025T010000
END:STANDARD
BEGIN:DAYLIGHT
TZOFFSETFROM:+0100
TZOFFSETTO:+0200
TZNAME:CEST
DTSTART:20270328T010000
END:DAYLIGHT
BEGIN:STANDARD
TZOFFSETFROM:+0200
TZOFFSETTO:+0100
TZNAME:CET
DTSTART:20271031T010000
END:STANDARD
END:VTIMEZONE
BEGIN:VEVENT
DTSTART;VALUE=DATE:20260613
DTEND;VALUE=DATE:20260629
DTSTAMP:20260422T043850
CREATED:20240304T174321Z
LAST-MODIFIED:20260129T183403Z
UID:40980-1781308800-1782691199@www.alltagsklassiker.at
SUMMARY:Baltic Sea Circle Sommer
DESCRIPTION:Du möchtest nächsten Sommer etwas wirklich Außergewöhnliches unternehmen? Du bist auf der Suche nach Abenteuer und neuen Horizonten? Du willst pure Wildnis und den Puls rauer Metropolen spüren? Dann starte bei der nördlichsten Rallye des Erdballs: Dem Baltic Sea Circle. \nEntdecke die nördliche Hemisphäre bei dem ultimativen Road-Trip Deines Lebens. Schnapp Dir das Auto\, welches Du schon immer fahren wolltest. GPS und Navi bleiben zuhause\, lass Dich von Deinen Sinnen und guten alten Hilfsmitteln wie Karte und Kompass über 7.500 km bis zum Polarkreis und um die einzigartige Ostsee leiten. \nDie Zeit ist reif für das nächste Abenteuer. \nMickyGründer von Alltagsklassiker\, mit großer Schwäche für gut gereifte japanische Fahrzeuge\, Prospekte und Modellautos; Fotograf\, Vitrinist\, buchaffin\, bewegt Mazda MX-5 NA V-Special\, Mazda 818 Sedan de Luxe\, Ford Focus Turnier MK3\, Puch Clubman\, Bianchi Arcadex und Puch Maxi L.
URL:https://www.alltagsklassiker.at/event/baltic-sea-circle-sommer-2/
CATEGORIES:Funrallye
END:VEVENT
BEGIN:VEVENT
DTSTART;VALUE=DATE:20260626
DTEND;VALUE=DATE:20260628
DTSTAMP:20260422T043850
CREATED:20230212T082444Z
LAST-MODIFIED:20260212T175719Z
UID:36251-1782432000-1782604799@www.alltagsklassiker.at
SUMMARY:Willis OLDTIMER- und US-Car Treffen Waldneukirchen
DESCRIPTION:Ein Fahrzeugtreffen aller Fahrzeugmarken\, sprich LKW\, PKW\, Motorräder und Mopeds bis Baujahr 1986.\nAmerikanische Fahrzeuge sind von der Baujahrsbegrenzung ausgeschlossen. \nES ERWARTET EUCH:\nEin Wochenende im schönen Steyrtal mit OLDTIMERN\, sprich alter Mercedes-LKW – ein VW-Käfer – eine Citroen-Ente – ein kleines PUCHal-Moped – ein altes BMW-Motorrad – ein STANGL-PUCH und viele andere schöne alte Fahrzeuge bis zum Baujahr 1986 und natürlich die schönen\, außergewöhnlichen amerikanischen Fahrzeuge – Chevrolet CAMARO – BUICK – CHRYSLER – DODGE – CADILLAC – MUSTANG – Corvette – ein KENWORTH – MACK – Harley Davidson – uvm. von ALT bis JUNG\, !! bei den „Amis“ gibt’s keine Baujahrsbeschränkung !! verbringen und macht mit uns eine Reise ZURÜCK in die VERGANGENHEIT \nCAMPINGMÖGLICHKEIT – direkt am Festgelände haben wir für unsere Gäste eine Grünfläche\, wo Oldtimer- und US-Car-Fahrer ab Freitag\, den 26. JUNI 2026 ab 16:00 Uhr einfahren und bis Sonntag die Zelte/Wohnwagen/Wohnmobil platzieren können! Strom ist vorhanden\, aber bitte genug Kabel mitnehmen. Wir haben zwar keine BRAUSE am Platz aber dafür die schöne STEYR\, also „pack die Badehose ein – nimm Dein kleines Schwesterlein“! \nAm FREITAG\, den 26. JUNI 2026 der Einstieg in die Vergangenheit bei der KULTPARTY ab 18:00 Uhr mit Musik der 60er\, 70er und 80er Jahre vom DJ ausgewählt. \nAm SAMSTAG\, den 27. JUNI 2026 beginnen wir offiziell ab 10:00 Uhr mit musikalischer Tagesunterhaltung.\nEs gibt wieder Fahrzeugpräsentationen und Pokalverleihungen und uvm…. Für das leibliche Wohl wird natürlich auch gesorgt! \nSAMSTAG-ABEND geht´s dann weiter mit LIVE-MUSIK mit 70er 80er ROCK-KULTSONGS von Nierosta\,\nwelche uns in eine tolle Feierstimmung bis in den späten Abendstunden schwingt! \nALSO\, notieren: Willis OLDTIMER und US-Car Treffen in\nA-4595 Waldneukirchen – Hörmühle 5\n26. JUNI + 27. JUNI 2026\nEintritt: freiwillige SPENDE! \nMickyGründer von Alltagsklassiker\, mit großer Schwäche für gut gereifte japanische Fahrzeuge\, Prospekte und Modellautos; Fotograf\, Vitrinist\, buchaffin\, bewegt Mazda MX-5 NA V-Special\, Mazda 818 Sedan de Luxe\, Ford Focus Turnier MK3\, Puch Clubman\, Bianchi Arcadex und Puch Maxi L.
URL:https://www.alltagsklassiker.at/event/5-willis-oldtimer-und-us-car-treffen-waldneukirchen/
CATEGORIES:Treffen
ATTACH;FMTTYPE=image/jpeg:https://www.alltagsklassiker.at/wp-content/uploads/2023/02/Facebook-Profilbild2026inkl.ZUG__msi___jpg.jpg
END:VEVENT
BEGIN:VEVENT
DTSTART;VALUE=DATE:20260626
DTEND;VALUE=DATE:20260629
DTSTAMP:20260422T043850
CREATED:20230226T191058Z
LAST-MODIFIED:20260129T154736Z
UID:36316-1782432000-1782691199@www.alltagsklassiker.at
SUMMARY:JDM goes IKUNA 2K.26
DESCRIPTION:Die JAPAN SZENE HAUSRUCK lädt euch Fans und Besitzer japanischer Autos recht herzlich zum 8.JDM goes IKUNA ein. Ein japanisch/asiatisches Autotreffen in einer exquisiten Location im wunderschönen Oberösterreich. \nStatt finden wird das ganze Event wieder am Parkplatz beim Naturresort in Natternbach und die angrenzenden Parkplätze werden anhand einer Straßensperre zu einem Areal gefügt. \nIn der gegenüberliegenden Stocksporthalle wird für das leibliche Wohl gesorgt und natürlich am Abend gefeiert. \nMickyGründer von Alltagsklassiker\, mit großer Schwäche für gut gereifte japanische Fahrzeuge\, Prospekte und Modellautos; Fotograf\, Vitrinist\, buchaffin\, bewegt Mazda MX-5 NA V-Special\, Mazda 818 Sedan de Luxe\, Ford Focus Turnier MK3\, Puch Clubman\, Bianchi Arcadex und Puch Maxi L.
URL:https://www.alltagsklassiker.at/event/jdm-goes-ikuna-2k-26/
CATEGORIES:Treffen
END:VEVENT
BEGIN:VEVENT
DTSTART;VALUE=DATE:20260626
DTEND;VALUE=DATE:20260629
DTSTAMP:20260422T043850
CREATED:20260118T191445Z
LAST-MODIFIED:20260118T191445Z
UID:50118-1782432000-1782691199@www.alltagsklassiker.at
SUMMARY:Formula 1 Lenovo Austrian Grand Prix 2026
DESCRIPTION:Erlebe den Holiday Grand Prix – wo Höchstgeschwindigkeit auf atemberaubende Kulisse trifft! Sei hautnah dabei\, wenn die besten Fahrer der Welt um den Sieg kämpfen und die legendäre Rennstrecke in einen Hexenkessel der Emotionen verwandeln. \nDie 4\,326 Kilometer lange Rennstrecke ist seit Jahren die Bühne für unvergessliche Motorsport-Momente. Schnall dich an für das ultimative Formel 1-Erlebnis am Red Bull Ring \nMickyGründer von Alltagsklassiker\, mit großer Schwäche für gut gereifte japanische Fahrzeuge\, Prospekte und Modellautos; Fotograf\, Vitrinist\, buchaffin\, bewegt Mazda MX-5 NA V-Special\, Mazda 818 Sedan de Luxe\, Ford Focus Turnier MK3\, Puch Clubman\, Bianchi Arcadex und Puch Maxi L.
URL:https://www.alltagsklassiker.at/event/formula-1-lenovo-austrian-grand-prix-2026/
CATEGORIES:Motorsport
END:VEVENT
BEGIN:VEVENT
DTSTART;VALUE=DATE:20260627
DTEND;VALUE=DATE:20260628
DTSTAMP:20260422T043850
CREATED:20220323T080930Z
LAST-MODIFIED:20251222T191122Z
UID:33562-1782518400-1782604799@www.alltagsklassiker.at
SUMMARY:Vienna Höhenstrasse Classic
DESCRIPTION:2. Vienna Höhenstrasse Classic\nAm Samstag den 27. Juni 2026 \nStart am 27.6. um 09:01 Uhr \nDie Vienna Höhenstrasse Classic hat eine lange Tradition und wird 2026 zum 29. Mal durchgeführt. \nDetails siehe auch in der Ausschreibung! \nDiese Veranstaltung zählt zur ÖMVV – Staatsmeisterschaft 2026. \nNeu: Eigene Wertung für Gäste und Liebhaberfahrzeuge bis Baujahr 2021! \nMickyGründer von Alltagsklassiker\, mit großer Schwäche für gut gereifte japanische Fahrzeuge\, Prospekte und Modellautos; Fotograf\, Vitrinist\, buchaffin\, bewegt Mazda MX-5 NA V-Special\, Mazda 818 Sedan de Luxe\, Ford Focus Turnier MK3\, Puch Clubman\, Bianchi Arcadex und Puch Maxi L.
URL:https://www.alltagsklassiker.at/event/25-vienna-hoehenstrasse-classic/
CATEGORIES:Rallye
END:VEVENT
BEGIN:VEVENT
DTSTART;VALUE=DATE:20260627
DTEND;VALUE=DATE:20260628
DTSTAMP:20260422T043850
CREATED:20220402T064637Z
LAST-MODIFIED:20260205T164113Z
UID:33672-1782518400-1782604799@www.alltagsklassiker.at
SUMMARY:PruMi Classic
DESCRIPTION:5. PruMi Classic \n  \n  \nMickyGründer von Alltagsklassiker\, mit großer Schwäche für gut gereifte japanische Fahrzeuge\, Prospekte und Modellautos; Fotograf\, Vitrinist\, buchaffin\, bewegt Mazda MX-5 NA V-Special\, Mazda 818 Sedan de Luxe\, Ford Focus Turnier MK3\, Puch Clubman\, Bianchi Arcadex und Puch Maxi L.
URL:https://www.alltagsklassiker.at/event/prumi-classic/
CATEGORIES:Motorsport
END:VEVENT
BEGIN:VEVENT
DTSTART;VALUE=DATE:20260627
DTEND;VALUE=DATE:20260628
DTSTAMP:20260422T043851
CREATED:20240228T161759Z
LAST-MODIFIED:20260127T165239Z
UID:40809-1782518400-1782604799@www.alltagsklassiker.at
SUMMARY:Mazda MX-5 Treffen Augsburg
DESCRIPTION:Am Samstag\, 27. Juni 2026\, trifft sich die MX-5 Community traditionell wieder rund um das Mazda Classic – Automobil Museum Frey in Augsburg zum großen Mazda MX-5 Treffen mit bis zu 350 Fahrzeugen. Ein Tag voller Leidenschaft für die Roadster-Legende  – jetzt schon im Kalender vormerken! \nMickyGründer von Alltagsklassiker\, mit großer Schwäche für gut gereifte japanische Fahrzeuge\, Prospekte und Modellautos; Fotograf\, Vitrinist\, buchaffin\, bewegt Mazda MX-5 NA V-Special\, Mazda 818 Sedan de Luxe\, Ford Focus Turnier MK3\, Puch Clubman\, Bianchi Arcadex und Puch Maxi L.
URL:https://www.alltagsklassiker.at/event/mazda-mx-5-treffen-augsburg/
CATEGORIES:Treffen
END:VEVENT
END:VCALENDAR