BEGIN:VCALENDAR
VERSION:2.0
PRODID:-//Alltagsklassiker | IG zum Erhalt und Förderung der Fahrzeugkultur und Fahrzeuggeschichte - ECPv6.15.20//NONSGML v1.0//EN
CALSCALE:GREGORIAN
METHOD:PUBLISH
X-WR-CALNAME:Alltagsklassiker | IG zum Erhalt und Förderung der Fahrzeugkultur und Fahrzeuggeschichte
X-ORIGINAL-URL:https://www.alltagsklassiker.at
X-WR-CALDESC:Veranstaltungen für Alltagsklassiker | IG zum Erhalt und Förderung der Fahrzeugkultur und Fahrzeuggeschichte
REFRESH-INTERVAL;VALUE=DURATION:PT1H
X-Robots-Tag:noindex
X-PUBLISHED-TTL:PT1H
BEGIN:VTIMEZONE
TZID:Europe/Berlin
BEGIN:DAYLIGHT
TZOFFSETFROM:+0100
TZOFFSETTO:+0200
TZNAME:CEST
DTSTART:20250330T010000
END:DAYLIGHT
BEGIN:STANDARD
TZOFFSETFROM:+0200
TZOFFSETTO:+0100
TZNAME:CET
DTSTART:20251026T010000
END:STANDARD
BEGIN:DAYLIGHT
TZOFFSETFROM:+0100
TZOFFSETTO:+0200
TZNAME:CEST
DTSTART:20260329T010000
END:DAYLIGHT
BEGIN:STANDARD
TZOFFSETFROM:+0200
TZOFFSETTO:+0100
TZNAME:CET
DTSTART:20261025T010000
END:STANDARD
BEGIN:DAYLIGHT
TZOFFSETFROM:+0100
TZOFFSETTO:+0200
TZNAME:CEST
DTSTART:20270328T010000
END:DAYLIGHT
BEGIN:STANDARD
TZOFFSETFROM:+0200
TZOFFSETTO:+0100
TZNAME:CET
DTSTART:20271031T010000
END:STANDARD
END:VTIMEZONE
BEGIN:VEVENT
DTSTART;VALUE=DATE:20260610
DTEND;VALUE=DATE:20260614
DTSTAMP:20260422T080225
CREATED:20220402T053102Z
LAST-MODIFIED:20260201T192459Z
UID:33641-1781049600-1781395199@www.alltagsklassiker.at
SUMMARY:Kitzbüheler Alpenrallye
DESCRIPTION:Kitzbüheler Alpenrallye\nTRÄUME ERLEBEN. TRÄUME ERFAHREN.\nKitzbüheler Alpenrallye: 10. bis 13. Juni 2026 \nMickyGründer von Alltagsklassiker\, mit großer Schwäche für gut gereifte japanische Fahrzeuge\, Prospekte und Modellautos; Fotograf\, Vitrinist\, buchaffin\, bewegt Mazda MX-5 NA V-Special\, Mazda 818 Sedan de Luxe\, Ford Focus Turnier MK3\, Puch Clubman\, Bianchi Arcadex und Puch Maxi L.
URL:https://www.alltagsklassiker.at/event/kitzbueheler-alpenrallye/
CATEGORIES:Rallye
END:VEVENT
BEGIN:VEVENT
DTSTART;VALUE=DATE:20260612
DTEND;VALUE=DATE:20260613
DTSTAMP:20260422T080225
CREATED:20240417T074533Z
LAST-MODIFIED:20260420T163154Z
UID:41218-1781222400-1781308799@www.alltagsklassiker.at
SUMMARY:Hot Summer Nites
DESCRIPTION:Hot Summer Nites – US Car Treffen am Areal der SCS Vösendorf \nMickyGründer von Alltagsklassiker\, mit großer Schwäche für gut gereifte japanische Fahrzeuge\, Prospekte und Modellautos; Fotograf\, Vitrinist\, buchaffin\, bewegt Mazda MX-5 NA V-Special\, Mazda 818 Sedan de Luxe\, Ford Focus Turnier MK3\, Puch Clubman\, Bianchi Arcadex und Puch Maxi L.
URL:https://www.alltagsklassiker.at/event/hot-summer-nites/
CATEGORIES:Treffen
ATTACH;FMTTYPE=image/jpeg:https://www.alltagsklassiker.at/wp-content/uploads/2022/04/d43f8761-8d02-4b0a-983c-7f5215b89f20.jpg
END:VEVENT
BEGIN:VEVENT
DTSTART;VALUE=DATE:20260612
DTEND;VALUE=DATE:20260615
DTSTAMP:20260422T080225
CREATED:20260118T181539Z
LAST-MODIFIED:20260118T181540Z
UID:50082-1781222400-1781481599@www.alltagsklassiker.at
SUMMARY:Klassikwelt Bodensee
DESCRIPTION:Drehmoment trifft Dolce Vita \nDie KLASSIKWELT BODENSEE ist mehr als eine Messe – sie ist ein Rendezvous für alle\, die den Charme vergangener Mobilität leben. Ob auf Rädern\, mit Flügeln oder auf dem Wasser – hier treffen sich Enthusiasten\, Schrauber und Genießer zum stilvollen Zeitsprung mit Nostalgie-Garantie.\nMickyGründer von Alltagsklassiker\, mit großer Schwäche für gut gereifte japanische Fahrzeuge\, Prospekte und Modellautos; Fotograf\, Vitrinist\, buchaffin\, bewegt Mazda MX-5 NA V-Special\, Mazda 818 Sedan de Luxe\, Ford Focus Turnier MK3\, Puch Clubman\, Bianchi Arcadex und Puch Maxi L.
URL:https://www.alltagsklassiker.at/event/klassikwelt-bodensee/
CATEGORIES:Messe
END:VEVENT
END:VCALENDAR