BEGIN:VCALENDAR
VERSION:2.0
PRODID:-//Alltagsklassiker | IG zum Erhalt und Förderung der Fahrzeugkultur und Fahrzeuggeschichte - ECPv6.15.20//NONSGML v1.0//EN
CALSCALE:GREGORIAN
METHOD:PUBLISH
X-ORIGINAL-URL:https://www.alltagsklassiker.at
X-WR-CALDESC:Veranstaltungen für Alltagsklassiker | IG zum Erhalt und Förderung der Fahrzeugkultur und Fahrzeuggeschichte
REFRESH-INTERVAL;VALUE=DURATION:PT1H
X-Robots-Tag:noindex
X-PUBLISHED-TTL:PT1H
BEGIN:VTIMEZONE
TZID:Europe/Berlin
BEGIN:DAYLIGHT
TZOFFSETFROM:+0100
TZOFFSETTO:+0200
TZNAME:CEST
DTSTART:20250330T010000
END:DAYLIGHT
BEGIN:STANDARD
TZOFFSETFROM:+0200
TZOFFSETTO:+0100
TZNAME:CET
DTSTART:20251026T010000
END:STANDARD
BEGIN:DAYLIGHT
TZOFFSETFROM:+0100
TZOFFSETTO:+0200
TZNAME:CEST
DTSTART:20260329T010000
END:DAYLIGHT
BEGIN:STANDARD
TZOFFSETFROM:+0200
TZOFFSETTO:+0100
TZNAME:CET
DTSTART:20261025T010000
END:STANDARD
BEGIN:DAYLIGHT
TZOFFSETFROM:+0100
TZOFFSETTO:+0200
TZNAME:CEST
DTSTART:20270328T010000
END:DAYLIGHT
BEGIN:STANDARD
TZOFFSETFROM:+0200
TZOFFSETTO:+0100
TZNAME:CET
DTSTART:20271031T010000
END:STANDARD
END:VTIMEZONE
BEGIN:VEVENT
DTSTART;VALUE=DATE:20260602
DTEND;VALUE=DATE:20260612
DTSTAMP:20260422T043843
CREATED:20240304T170412Z
LAST-MODIFIED:20260129T184224Z
UID:40970-1780358400-1781222399@www.alltagsklassiker.at
SUMMARY:Pothole Rodeo Celtic
DESCRIPTION:Du beginnst an der Südküste Englands und fährst dann weiter nach Westen\, auch ein Stück weit nach Wales\, wo Du mit etwas Glück Teil einer TV-Serie werden könntest. Weiter im Nordwesten Englands\, an der Merseyside\, wandelst du auf den Spuren von Paul McCartney und den Beatles. Manchester ist von hier aus auch nicht mehr weit weg. Spektakuläre Landschaften\, unzählige Seen und enge Straßen erwarten dich im Lake District Nationalpark\, wo an jeder Ecke flauschige Schafe herumlungern. \nBevor es in den hohen Norden geht\, kannst du in Edinburgh noch schottischen Whisky verkosten. Nach ein paar Gläsern erblickst du (vielleicht) das Monster von Loch Ness\, bevor du vor einer Entscheidung stehst: Willst du ordentlich Kilometer schrubben und die Schönheit der schottischen Highlands erleben und oder ganz entspannt die Westküste mit der Isle of Skye erforschen? Egal für welche Option Du dich entscheidest\, dein Zelt kannst du neben jeder Schafherde aufschlagen\, denn in Schottland ist Wildcampen ausdrücklich erlaubt. Aber aufgepasst: Verpenn nicht die Fähre nach Nordirland! \nIn Belfast angekommen geht es vorbei an Elfen\, Gnomen\, Einhörnern und Goldtöpfen\, bevor du in Dublin Münzen und Einhorn-Strähnen gegen Stout und Ale eintauschst. Bei den aufregenden kleinen Straßen und unglaublichen Panoramastraßen im wilden Südwesten Irlands\, wirst du dir ein wildes “Mäh” kaum noch verkneifen können. Im Südosten Irlands angekommen\, hast du schließlich dein Ziel erreicht. Ein neuer Pothole Rodeo Veteran ist geboren! Das wird ordentlich gefeiert! \nMickyGründer von Alltagsklassiker\, mit großer Schwäche für gut gereifte japanische Fahrzeuge\, Prospekte und Modellautos; Fotograf\, Vitrinist\, buchaffin\, bewegt Mazda MX-5 NA V-Special\, Mazda 818 Sedan de Luxe\, Ford Focus Turnier MK3\, Puch Clubman\, Bianchi Arcadex und Puch Maxi L.
URL:https://www.alltagsklassiker.at/event/pothole-rodeo-celtic/
CATEGORIES:Funrallye
END:VEVENT
END:VCALENDAR