BEGIN:VCALENDAR
VERSION:2.0
PRODID:-//Alltagsklassiker | IG zum Erhalt und Förderung der Fahrzeugkultur und Fahrzeuggeschichte - ECPv6.15.20//NONSGML v1.0//EN
CALSCALE:GREGORIAN
METHOD:PUBLISH
X-WR-CALNAME:Alltagsklassiker | IG zum Erhalt und Förderung der Fahrzeugkultur und Fahrzeuggeschichte
X-ORIGINAL-URL:https://www.alltagsklassiker.at
X-WR-CALDESC:Veranstaltungen für Alltagsklassiker | IG zum Erhalt und Förderung der Fahrzeugkultur und Fahrzeuggeschichte
REFRESH-INTERVAL;VALUE=DURATION:PT1H
X-Robots-Tag:noindex
X-PUBLISHED-TTL:PT1H
BEGIN:VTIMEZONE
TZID:Europe/Berlin
BEGIN:DAYLIGHT
TZOFFSETFROM:+0100
TZOFFSETTO:+0200
TZNAME:CEST
DTSTART:20250330T010000
END:DAYLIGHT
BEGIN:STANDARD
TZOFFSETFROM:+0200
TZOFFSETTO:+0100
TZNAME:CET
DTSTART:20251026T010000
END:STANDARD
BEGIN:DAYLIGHT
TZOFFSETFROM:+0100
TZOFFSETTO:+0200
TZNAME:CEST
DTSTART:20260329T010000
END:DAYLIGHT
BEGIN:STANDARD
TZOFFSETFROM:+0200
TZOFFSETTO:+0100
TZNAME:CET
DTSTART:20261025T010000
END:STANDARD
BEGIN:DAYLIGHT
TZOFFSETFROM:+0100
TZOFFSETTO:+0200
TZNAME:CEST
DTSTART:20270328T010000
END:DAYLIGHT
BEGIN:STANDARD
TZOFFSETFROM:+0200
TZOFFSETTO:+0100
TZNAME:CET
DTSTART:20271031T010000
END:STANDARD
END:VTIMEZONE
BEGIN:VEVENT
DTSTART;VALUE=DATE:20260525
DTEND;VALUE=DATE:20260526
DTSTAMP:20260422T064355
CREATED:20220220T062853Z
LAST-MODIFIED:20260130T181200Z
UID:33212-1779667200-1779753599@www.alltagsklassiker.at
SUMMARY:Oldtimertreffen Weinberg
DESCRIPTION:Oldtimertreffen Weinberg an der Raab ab 10:00 Uhr am Sportgelände in Weinberg a.d. Raab\nVeranstalter: Sportler Stammtisch Weinberg\nEintritt frei\, Preisverlosung um 13:45 Uhr \n  \n  \nMickyGründer von Alltagsklassiker\, mit großer Schwäche für gut gereifte japanische Fahrzeuge\, Prospekte und Modellautos; Fotograf\, Vitrinist\, buchaffin\, bewegt Mazda MX-5 NA V-Special\, Mazda 818 Sedan de Luxe\, Ford Focus Turnier MK3\, Puch Clubman\, Bianchi Arcadex und Puch Maxi L.
URL:https://www.alltagsklassiker.at/event/12-oldtimertreffen-weinberg/
CATEGORIES:Treffen
END:VEVENT
END:VCALENDAR