BEGIN:VCALENDAR
VERSION:2.0
PRODID:-//Alltagsklassiker | IG zum Erhalt und Förderung der Fahrzeugkultur und Fahrzeuggeschichte - ECPv6.15.20//NONSGML v1.0//EN
CALSCALE:GREGORIAN
METHOD:PUBLISH
X-ORIGINAL-URL:https://www.alltagsklassiker.at
X-WR-CALDESC:Veranstaltungen für Alltagsklassiker | IG zum Erhalt und Förderung der Fahrzeugkultur und Fahrzeuggeschichte
REFRESH-INTERVAL;VALUE=DURATION:PT1H
X-Robots-Tag:noindex
X-PUBLISHED-TTL:PT1H
BEGIN:VTIMEZONE
TZID:Europe/Berlin
BEGIN:DAYLIGHT
TZOFFSETFROM:+0100
TZOFFSETTO:+0200
TZNAME:CEST
DTSTART:20250330T010000
END:DAYLIGHT
BEGIN:STANDARD
TZOFFSETFROM:+0200
TZOFFSETTO:+0100
TZNAME:CET
DTSTART:20251026T010000
END:STANDARD
BEGIN:DAYLIGHT
TZOFFSETFROM:+0100
TZOFFSETTO:+0200
TZNAME:CEST
DTSTART:20260329T010000
END:DAYLIGHT
BEGIN:STANDARD
TZOFFSETFROM:+0200
TZOFFSETTO:+0100
TZNAME:CET
DTSTART:20261025T010000
END:STANDARD
BEGIN:DAYLIGHT
TZOFFSETFROM:+0100
TZOFFSETTO:+0200
TZNAME:CEST
DTSTART:20270328T010000
END:DAYLIGHT
BEGIN:STANDARD
TZOFFSETFROM:+0200
TZOFFSETTO:+0100
TZNAME:CET
DTSTART:20271031T010000
END:STANDARD
END:VTIMEZONE
BEGIN:VEVENT
DTSTART;VALUE=DATE:20260522
DTEND;VALUE=DATE:20260525
DTSTAMP:20260421T173547
CREATED:20220402T063227Z
LAST-MODIFIED:20260213T173601Z
UID:33668-1779408000-1779667199@www.alltagsklassiker.at
SUMMARY:Murtal Classic
DESCRIPTION:Die Murtal Classic geht 2026 in ihre 26. Auflage – mit neuem Veranstalter und bewährtem Charakter. \nNach 25 erfolgreichen Jahren wird die traditionsreiche Oldtimerrallye ab sofort von der BG Sportpromotion GmbH organisiert. Die offizielle Vertragsunterzeichnung erfolgte kürzlich in Spielberg. Im Anhang dürfen wir die offizielle Pressemitteilung anhängen. \nBewährte DNA – behutsam weiterentwickelt\nDie Murtal Classic steht seit jeher für:\n• sehenswerte Oldtimer auf zwei und vier Rädern\n• eine leistbare\, hochwertige Oldtimerrallye\n• beeindruckende Routen durch das Mur- und Mürztal\n• und den traditionellen Pfingst-Termin \nMickyGründer von Alltagsklassiker\, mit großer Schwäche für gut gereifte japanische Fahrzeuge\, Prospekte und Modellautos; Fotograf\, Vitrinist\, buchaffin\, bewegt Mazda MX-5 NA V-Special\, Mazda 818 Sedan de Luxe\, Ford Focus Turnier MK3\, Puch Clubman\, Bianchi Arcadex und Puch Maxi L.
URL:https://www.alltagsklassiker.at/event/murtal-classic/
CATEGORIES:Rallye
END:VEVENT
BEGIN:VEVENT
DTSTART;VALUE=DATE:20260522
DTEND;VALUE=DATE:20260525
DTSTAMP:20260421T173547
CREATED:20250122T195814Z
LAST-MODIFIED:20260212T191043Z
UID:45673-1779408000-1779667199@www.alltagsklassiker.at
SUMMARY:Volvomania Friesach
DESCRIPTION:XX. Volvo-Mania Friesach 22.-24. Mai 2026 mit mittelalterlich gegrilltem Spanferkel und anderen Köstlichkeiten \nMickyGründer von Alltagsklassiker\, mit großer Schwäche für gut gereifte japanische Fahrzeuge\, Prospekte und Modellautos; Fotograf\, Vitrinist\, buchaffin\, bewegt Mazda MX-5 NA V-Special\, Mazda 818 Sedan de Luxe\, Ford Focus Turnier MK3\, Puch Clubman\, Bianchi Arcadex und Puch Maxi L.
URL:https://www.alltagsklassiker.at/event/volvomania-friesach/
CATEGORIES:Treffen
END:VEVENT
END:VCALENDAR