BEGIN:VCALENDAR
VERSION:2.0
PRODID:-//Alltagsklassiker | IG zum Erhalt und Förderung der Fahrzeugkultur und Fahrzeuggeschichte - ECPv6.15.20//NONSGML v1.0//EN
CALSCALE:GREGORIAN
METHOD:PUBLISH
X-ORIGINAL-URL:https://www.alltagsklassiker.at
X-WR-CALDESC:Veranstaltungen für Alltagsklassiker | IG zum Erhalt und Förderung der Fahrzeugkultur und Fahrzeuggeschichte
REFRESH-INTERVAL;VALUE=DURATION:PT1H
X-Robots-Tag:noindex
X-PUBLISHED-TTL:PT1H
BEGIN:VTIMEZONE
TZID:Europe/Berlin
BEGIN:DAYLIGHT
TZOFFSETFROM:+0100
TZOFFSETTO:+0200
TZNAME:CEST
DTSTART:20250330T010000
END:DAYLIGHT
BEGIN:STANDARD
TZOFFSETFROM:+0200
TZOFFSETTO:+0100
TZNAME:CET
DTSTART:20251026T010000
END:STANDARD
BEGIN:DAYLIGHT
TZOFFSETFROM:+0100
TZOFFSETTO:+0200
TZNAME:CEST
DTSTART:20260329T010000
END:DAYLIGHT
BEGIN:STANDARD
TZOFFSETFROM:+0200
TZOFFSETTO:+0100
TZNAME:CET
DTSTART:20261025T010000
END:STANDARD
BEGIN:DAYLIGHT
TZOFFSETFROM:+0100
TZOFFSETTO:+0200
TZNAME:CEST
DTSTART:20270328T010000
END:DAYLIGHT
BEGIN:STANDARD
TZOFFSETFROM:+0200
TZOFFSETTO:+0100
TZNAME:CET
DTSTART:20271031T010000
END:STANDARD
END:VTIMEZONE
BEGIN:VEVENT
DTSTART;VALUE=DATE:20260516
DTEND;VALUE=DATE:20260521
DTSTAMP:20260421T232412
CREATED:20240327T094419Z
LAST-MODIFIED:20260129T161527Z
UID:41112-1778889600-1779321599@www.alltagsklassiker.at
SUMMARY:Funrally Offroad-Tour Sardinien
DESCRIPTION:5 Tage unvergessliches Offroad-Abenteuer! \n16. – 20. Mai 2026 \n(Anreisetag\, Treffen&Kennenlernen:  \nFr\, 15. Mai 2026) \nDie FUNRALLY Offroad-Tour Sardinienendet am Mittwoch Abend\, 20. Mai 2026. \nDanach kannst du noch Sardinien auf eigene Faust erkunden\, auf der Insel entspannen und deine Heimreise nach Belieben gestalten. \nMickyGründer von Alltagsklassiker\, mit großer Schwäche für gut gereifte japanische Fahrzeuge\, Prospekte und Modellautos; Fotograf\, Vitrinist\, buchaffin\, bewegt Mazda MX-5 NA V-Special\, Mazda 818 Sedan de Luxe\, Ford Focus Turnier MK3\, Puch Clubman\, Bianchi Arcadex und Puch Maxi L.
URL:https://www.alltagsklassiker.at/event/funrallye-offroad-tour-sardinien/
CATEGORIES:Funrallye
ATTACH;FMTTYPE=image/avif:https://www.alltagsklassiker.at/wp-content/uploads/2024/03/Aufkleber-FUNRALLY-Offroad-Tour-SARDINIEN.png.avif
END:VEVENT
END:VCALENDAR