BEGIN:VCALENDAR
VERSION:2.0
PRODID:-//Alltagsklassiker | IG zum Erhalt und Förderung der Fahrzeugkultur und Fahrzeuggeschichte - ECPv6.15.20//NONSGML v1.0//EN
CALSCALE:GREGORIAN
METHOD:PUBLISH
X-ORIGINAL-URL:https://www.alltagsklassiker.at
X-WR-CALDESC:Veranstaltungen für Alltagsklassiker | IG zum Erhalt und Förderung der Fahrzeugkultur und Fahrzeuggeschichte
REFRESH-INTERVAL;VALUE=DURATION:PT1H
X-Robots-Tag:noindex
X-PUBLISHED-TTL:PT1H
BEGIN:VTIMEZONE
TZID:Europe/Berlin
BEGIN:DAYLIGHT
TZOFFSETFROM:+0100
TZOFFSETTO:+0200
TZNAME:CEST
DTSTART:20250330T010000
END:DAYLIGHT
BEGIN:STANDARD
TZOFFSETFROM:+0200
TZOFFSETTO:+0100
TZNAME:CET
DTSTART:20251026T010000
END:STANDARD
BEGIN:DAYLIGHT
TZOFFSETFROM:+0100
TZOFFSETTO:+0200
TZNAME:CEST
DTSTART:20260329T010000
END:DAYLIGHT
BEGIN:STANDARD
TZOFFSETFROM:+0200
TZOFFSETTO:+0100
TZNAME:CET
DTSTART:20261025T010000
END:STANDARD
BEGIN:DAYLIGHT
TZOFFSETFROM:+0100
TZOFFSETTO:+0200
TZNAME:CEST
DTSTART:20270328T010000
END:DAYLIGHT
BEGIN:STANDARD
TZOFFSETFROM:+0200
TZOFFSETTO:+0100
TZNAME:CET
DTSTART:20271031T010000
END:STANDARD
END:VTIMEZONE
BEGIN:VEVENT
DTSTART;VALUE=DATE:20260513
DTEND;VALUE=DATE:20260518
DTSTAMP:20260419T163552
CREATED:20240414T085833Z
LAST-MODIFIED:20260128T171333Z
UID:41177-1778630400-1779062399@www.alltagsklassiker.at
SUMMARY:Internationales Porsche Treffen Fürstenfeld
DESCRIPTION:3. internationales PORSCHE Treffen Fürstenfel \nvom 13. bis 17. Mai 2026 bringt der Porsche Club Steiermark erneut Fahrerinnen und Fahrer aus mehreren Nationen zusammen. \nFür drei Tage wird die Region der Süd- und Weststeiermark rund um die Thermenhauptstadt Fürstenfeld zur Bühne für automobile Faszination\, sportliche Eleganz und gelebte Gemeinschaft. \nAusfahrten durch die steirische Hügellandschaft\, Präsentationen am Hauptplatz\, exklusive Programmpunkte und ein hochwertiges Rahmenprogramm machen das Treffen wieder zu einem Erlebnis. \n\nProgramm\nMittwoch\, 13.05.2026 | Der Auftakt\n„Ignition: Der Startschuss im Thermenland“ \n\nAnkommen\, Einchecken\, Vernetzen.\nAblauf: Empfang im Event-Hauptquartier in Fürstenfeld. Ausgabe der Teilnehmer-Packages und Roadbooks. Erstes lockeres Line-up“ am Hauptplatz bei steirischen Aperitifs und regionalen Schmankerln.\n\n  \nDonnerstag\, 14.05.2026 | Die Genusstour\n„Thermenland-Classic: Kurven\, Kulinarik & Kulturgut“ \n\nFahrkultur und Landschaftserlebnis.\nAblauf: Eine ca. 180 km lange Genussreise durch die sanften Hügel der Südoststeiermark. Boxenstopps bei renommierten Genusshandwerkern (Vulkanland-Spezialitäten).\n\n  \nFreitag\, 15.05.2026 | Der Tag der Kontraste\n„Almen-Rausch & Hangar-Sound“ \n\nAlpine Fahrdynamik und High-Speed-Kulisse.\nAblauf: Vormittags Gipfelsturm durch die Kehren des Naturparks Almenland. Nachmittags Szenenwechsel zum Flugplatz Fürstenfeld: Große Porsche-Parade am Rollfeld mit anschließendem „Hangar Schmankerl-Parade“\n„Sommeralm-Panorama & Herzschlag-Pause“ Emotion\, Panorama\, Charity\, Gruppenfoto.\n„Boxenstopp Teichalm – Boxer-Brotzeit auf 1.200m“Power\, Challenge\, Buffet\, Action. Hier genießen Wir eine Stärkung bei der „Boxer-Brotzeit“ in der Latschenhütte.\nGeschicklichkeitsübungen auf dem Parkplatz\n\n  \nSamstag\, 16.05.2026 | Der Glanzpunkt\n„City-Spirit & Schloss-Eleganz“ \n\nDas Fürstenfeld Hauptplatz‑Event: gemeinsam präsentieren\, genießen und staunen.\nAblauf:\n\nAb 9:00 Uhr: Große Fahrzeugpräsentation\, Charity und Ochsen-Grillen im Stadtzentrum von Fürstenfeld – das „Wohnzimmer“ für Porsche-Enthusiasten und Publikum.\nVormittag (Optional): Exklusives Side-Event im Weinschloss Thaller.\n\n\n\n  \nSonntag\, 17.05.2026 | Der Ausklang\n„Breakfast & Goodbye-Run“ \n\nAbschied unter Freunden.\nAblauf: Gemeinsames Frühstück der Community\, Verabschiedung und individuelle Heimreise.\nSponsoring-Chance: Logo-Präsenz auf den Abschieds-Präsenten.\n\nMickyGründer von Alltagsklassiker\, mit großer Schwäche für gut gereifte japanische Fahrzeuge\, Prospekte und Modellautos; Fotograf\, Vitrinist\, buchaffin\, bewegt Mazda MX-5 NA V-Special\, Mazda 818 Sedan de Luxe\, Ford Focus Turnier MK3\, Puch Clubman\, Bianchi Arcadex und Puch Maxi L.
URL:https://www.alltagsklassiker.at/event/internationales-porsche-treffen/
CATEGORIES:Treffen
ATTACH;FMTTYPE=image/png:https://www.alltagsklassiker.at/wp-content/uploads/2024/04/PCST_Fuerstefeld2026_V4.png
END:VEVENT
BEGIN:VEVENT
DTSTART;VALUE=DATE:20260514
DTEND;VALUE=DATE:20260517
DTSTAMP:20260419T163552
CREATED:20260201T190827Z
LAST-MODIFIED:20260201T190827Z
UID:50466-1778716800-1778975999@www.alltagsklassiker.at
SUMMARY:Baden Classic
DESCRIPTION:Die UNESCO-Weltkulturerbe Stadt Baden bei Wien\, bekannt für ihre majestätische Eleganz vergangener Zeiten mit reichhaltiger Geschichte\, Architektur\, Kunst- sowie Weinkultur\, steht auch für den Erhalt und die Pflege automobiler Kulturgüter. \nMit sportlicher Leidenschaft und majestätischer Eleganz geht vom 14. bis 16. Mai 2026 die BADEN-CLASSIC 2026 über die Bühne und verwandelt die Weltkulturerbe Stadt Baden bei Wien zum Mekka für Liebhaber klassischer Automobile. Die Vielfalt an Marken und Modellen von damals machen die BADEN-CLASSIC 2026 zu einem besonderen Ereignis. \nDas BC-Team rund um Rennleiter Armin Schwarz sorgt für ein abwechslungsreiches und herausforderndes Streckenprofil. Mit atemberaubenden landschaftlichen Highlights wie die einzig- artigen UNESCO-Weltkulturerbe Regionen Wachau und Nationalpark Neusiedler See sowie die legendären Kultur- und Weinorte Österreichs\, zählen hierbei mindestens so viel\, wie jene sportliche Herausforderung\, die sich Teilnehmer von der BADEN-CLASSIC erwarten. \nDen einzigartigen Abschluss der BADEN-CLASSIC bildet am Samstag ein Oldtimer-Treffen der besonderen Art\, der Concours d’Élégance automobile im Park Fermé. In der einzigartigen Parkanlage beim Casino Baden erleben Besuchende eine faszinierende Zeitreise durch die Automobilgeschichte: von historischen Vorkriegsmodellen\, eleganten Klassikern sowie luxuriösen Sportwagen bis hin zu den legendären Ikonen der 50er\, 60er\, 70er und 80er Jahre. \nDie BADEN-CLASSIC ist mehr als ein Wettbewerb – sie ist ein gesellschaftlichesEreignis\, das Automobilkultur\, Kunst und Lebensart vereint. Der CONCOURS bietet die einmalige Gelegen- heit\, automobile Exzellenz im prunkvollen Ambiente der Welt- kulturerbe Stadt Baden bei Wien hautnah zu erleben. \nWir freuen uns auf ein umfangreiches buntes Starterfeld und viele Zuschauer\, entlang der traumhaften Strecken und bei Österreichs einzigartigem CONCOURS in der majestätischen UNESCO-Weltkulturerbe Stadt Baden bei Wien. \nMickyGründer von Alltagsklassiker\, mit großer Schwäche für gut gereifte japanische Fahrzeuge\, Prospekte und Modellautos; Fotograf\, Vitrinist\, buchaffin\, bewegt Mazda MX-5 NA V-Special\, Mazda 818 Sedan de Luxe\, Ford Focus Turnier MK3\, Puch Clubman\, Bianchi Arcadex und Puch Maxi L.
URL:https://www.alltagsklassiker.at/event/baden-classic/
CATEGORIES:Rallye
END:VEVENT
BEGIN:VEVENT
DTSTART;VALUE=DATE:20260514
DTEND;VALUE=DATE:20260518
DTSTAMP:20260419T163553
CREATED:20230120T172600Z
LAST-MODIFIED:20260204T184854Z
UID:35886-1778716800-1779062399@www.alltagsklassiker.at
SUMMARY:Wilder Kaiser Classic
DESCRIPTION:OLDTIMER FLAIR \nStart your Engines! Ein einzigartiges Erlebnis für Oldtimer-Fans mitten im Kaisergebirge. Was für ein passender Schauplatz für die Eleganz\, Technik und Anmut der klassischen Limousinen oder Sportcoupes. Eines Kaisers Ausfahrt würdig! Diesen unvergleichbaren Flair muss man einfach miterleben. \nSERVICE & SICHERHEIT \nSicherheit und Komfort steht dabei an oberster Stelle. Wir sind mit einem Serviceteam vor Ort um mögliche Zwischenfälle zu bereinigen und für einen optimalen Ablauf zu sorgen \n\n\n\n\nDAS KAISERGEBIRGE \nVor Ihnen liegen rund 385 km Strecke durch die einzigartige Natur des Kaisergebirges. Bergpassagen\, grüne Wiesen und Seen – diese Rallye wird unvergesslich. \nRENNDETAILS \nDie Wilder Kaiser Classic ist eine Gleichmäßigkeitsveranstaltung\, bei der diverse Timing-Prüfungen für Abwechslung sorgen. Somit haben wir die perfekte Kombination aus Abenteuer und genießen der Umgebung geschaffen. im Roadbook erhalten Sie alle Infos die Sie für das Rennen benötigen. \n\n\n\n\n\n  \n\n\n\nMickyGründer von Alltagsklassiker\, mit großer Schwäche für gut gereifte japanische Fahrzeuge\, Prospekte und Modellautos; Fotograf\, Vitrinist\, buchaffin\, bewegt Mazda MX-5 NA V-Special\, Mazda 818 Sedan de Luxe\, Ford Focus Turnier MK3\, Puch Clubman\, Bianchi Arcadex und Puch Maxi L.
URL:https://www.alltagsklassiker.at/event/wilder-kaiser-classic/
CATEGORIES:Rallye
END:VEVENT
END:VCALENDAR