BEGIN:VCALENDAR
VERSION:2.0
PRODID:-//Alltagsklassiker | IG zum Erhalt und Förderung der Fahrzeugkultur und Fahrzeuggeschichte - ECPv6.15.20//NONSGML v1.0//EN
CALSCALE:GREGORIAN
METHOD:PUBLISH
X-ORIGINAL-URL:https://www.alltagsklassiker.at
X-WR-CALDESC:Veranstaltungen für Alltagsklassiker | IG zum Erhalt und Förderung der Fahrzeugkultur und Fahrzeuggeschichte
REFRESH-INTERVAL;VALUE=DURATION:PT1H
X-Robots-Tag:noindex
X-PUBLISHED-TTL:PT1H
BEGIN:VTIMEZONE
TZID:Europe/Berlin
BEGIN:DAYLIGHT
TZOFFSETFROM:+0100
TZOFFSETTO:+0200
TZNAME:CEST
DTSTART:20250330T010000
END:DAYLIGHT
BEGIN:STANDARD
TZOFFSETFROM:+0200
TZOFFSETTO:+0100
TZNAME:CET
DTSTART:20251026T010000
END:STANDARD
BEGIN:DAYLIGHT
TZOFFSETFROM:+0100
TZOFFSETTO:+0200
TZNAME:CEST
DTSTART:20260329T010000
END:DAYLIGHT
BEGIN:STANDARD
TZOFFSETFROM:+0200
TZOFFSETTO:+0100
TZNAME:CET
DTSTART:20261025T010000
END:STANDARD
BEGIN:DAYLIGHT
TZOFFSETFROM:+0100
TZOFFSETTO:+0200
TZNAME:CEST
DTSTART:20270328T010000
END:DAYLIGHT
BEGIN:STANDARD
TZOFFSETFROM:+0200
TZOFFSETTO:+0100
TZNAME:CET
DTSTART:20271031T010000
END:STANDARD
END:VTIMEZONE
BEGIN:VEVENT
DTSTART;VALUE=DATE:20260508
DTEND;VALUE=DATE:20260511
DTSTAMP:20260421T191708
CREATED:20220322T170338Z
LAST-MODIFIED:20260118T190012Z
UID:33529-1778198400-1778457599@www.alltagsklassiker.at
SUMMARY:Histo Cup Brünn
DESCRIPTION:Automotodrom Brünn – Zweite Saisonstation des Histo Cup 2026! \nVom 8. bis 10. Mai 2026 gastiert der Histo Cup am Automotodrom Brünn in Tschechien. Die traditionsreiche Rennstrecke überzeugt durch ihre flüssige Streckenführung und gilt als fahrerisches Highlight im Kalender. \nAlle Serien des Histo Cup sind am Start und garantieren spannenden Motorsport auf höchstem Niveau. \nMickyGründer von Alltagsklassiker\, mit großer Schwäche für gut gereifte japanische Fahrzeuge\, Prospekte und Modellautos; Fotograf\, Vitrinist\, buchaffin\, bewegt Mazda MX-5 NA V-Special\, Mazda 818 Sedan de Luxe\, Ford Focus Turnier MK3\, Puch Clubman\, Bianchi Arcadex und Puch Maxi L.
URL:https://www.alltagsklassiker.at/event/histo-cup-bruenn/
CATEGORIES:Motorsport
END:VEVENT
BEGIN:VEVENT
DTSTART;VALUE=DATE:20260508
DTEND;VALUE=DATE:20260511
DTSTAMP:20260421T191708
CREATED:20260128T165922Z
LAST-MODIFIED:20260128T165922Z
UID:50224-1778198400-1778457599@www.alltagsklassiker.at
SUMMARY:Käfertreffen Brienz (CH)
DESCRIPTION:Das Datum unseres nächsten Treffens in Brienz auf dem Campingplatz Aaregg ist bekannt\, es findet von Freitag\, 8. bis Sonntag\, 10. Mai 2026 statt. \n  \nMickyGründer von Alltagsklassiker\, mit großer Schwäche für gut gereifte japanische Fahrzeuge\, Prospekte und Modellautos; Fotograf\, Vitrinist\, buchaffin\, bewegt Mazda MX-5 NA V-Special\, Mazda 818 Sedan de Luxe\, Ford Focus Turnier MK3\, Puch Clubman\, Bianchi Arcadex und Puch Maxi L.
URL:https://www.alltagsklassiker.at/event/kaefertreffen-brienz-ch/
CATEGORIES:Treffen
ATTACH;FMTTYPE=image/jpeg:https://www.alltagsklassiker.at/wp-content/uploads/2026/01/image-1.jpg
END:VEVENT
BEGIN:VEVENT
DTSTART;VALUE=DATE:20260508
DTEND;VALUE=DATE:20260513
DTSTAMP:20260421T191708
CREATED:20260129T164657Z
LAST-MODIFIED:20260129T164658Z
UID:50315-1778198400-1778630399@www.alltagsklassiker.at
SUMMARY:The Deutschland Rally
DESCRIPTION:Ein Land – unendlich viele Abenteuer. 5 Tage – unzählige Erlebnisse. 1.500km – unglaubliche Vielfalt. Von den wilden Meeren im Norden bis auf die höchsten Berggipfel des Südens\, durch die verwunschenen Wäldern des Ostens bis in die Alpen im Süden. The Deutschland Rally ist das ultimative Abenteuer vor Deiner Haustür. \nBei The Deutschland Rally geht es nicht stur geradeaus. Hier wird jede Spannungskurve mitgenommen\, mit allen Höhen und Tiefen. Die „geliebten“ deutschen Autobahnen sind tabu! Du schlägst Deinen eigenen Weg ein auf altehrwürdigen Alleen\, alpinen Panoramastraßen und windigen Küstenwegen. Starte im Mai 2026 bei der abgefahrensten Abenteuer Rallye direkt vor Deiner Haustür und entdecke Deutschland wie Du es noch nie zuvor erlebt hast.\nDein Old/New School Fahrzeug\, kein GPS oder Navi\, über 1.500km in 5 Tagen durch das Land der Vielfalt! \nThe Deutschland Rally!\nDie Zeit ist reif für das nächste Abenteuer. \nMickyGründer von Alltagsklassiker\, mit großer Schwäche für gut gereifte japanische Fahrzeuge\, Prospekte und Modellautos; Fotograf\, Vitrinist\, buchaffin\, bewegt Mazda MX-5 NA V-Special\, Mazda 818 Sedan de Luxe\, Ford Focus Turnier MK3\, Puch Clubman\, Bianchi Arcadex und Puch Maxi L.
URL:https://www.alltagsklassiker.at/event/the-deutschland-rally/
CATEGORIES:Funrallye
END:VEVENT
BEGIN:VEVENT
DTSTART;VALUE=DATE:20260509
DTEND;VALUE=DATE:20260510
DTSTAMP:20260421T191708
CREATED:20220219T175533Z
LAST-MODIFIED:20251030T161726Z
UID:33197-1778284800-1778371199@www.alltagsklassiker.at
SUMMARY:Ventilspiel
DESCRIPTION:Motorsport wie damals am Red Bull Ring \nMickyGründer von Alltagsklassiker\, mit großer Schwäche für gut gereifte japanische Fahrzeuge\, Prospekte und Modellautos; Fotograf\, Vitrinist\, buchaffin\, bewegt Mazda MX-5 NA V-Special\, Mazda 818 Sedan de Luxe\, Ford Focus Turnier MK3\, Puch Clubman\, Bianchi Arcadex und Puch Maxi L.
URL:https://www.alltagsklassiker.at/event/ventilspiel/
LOCATION:Red Bull Ring\, Red Bull Ring Straße 1\, Spielberg\, 8724\, Österreich
CATEGORIES:Motorsport
ATTACH;FMTTYPE=image/jpeg:https://www.alltagsklassiker.at/wp-content/uploads/2024/09/ventilspiel-2024-37-scaled.jpg
END:VEVENT
BEGIN:VEVENT
DTSTART;VALUE=DATE:20260509
DTEND;VALUE=DATE:20260510
DTSTAMP:20260421T191709
CREATED:20230125T161702Z
LAST-MODIFIED:20260127T203927Z
UID:36035-1778284800-1778371199@www.alltagsklassiker.at
SUMMARY:Flohmarkt\, Oldtimer-Teilemarkt und Antiquitätenmesse
DESCRIPTION:Flohmarkt\, Oldtimer-Teilemarkt und Antiquitätenmesse in der Oldtimerhalle in 3372 Blindenmarkt \nMickyGründer von Alltagsklassiker\, mit großer Schwäche für gut gereifte japanische Fahrzeuge\, Prospekte und Modellautos; Fotograf\, Vitrinist\, buchaffin\, bewegt Mazda MX-5 NA V-Special\, Mazda 818 Sedan de Luxe\, Ford Focus Turnier MK3\, Puch Clubman\, Bianchi Arcadex und Puch Maxi L.
URL:https://www.alltagsklassiker.at/event/flohmarkt-oldtimer-teilemarkt-und-antiquitaetenmesse-5/
CATEGORIES:Teilemarkt
END:VEVENT
BEGIN:VEVENT
DTSTART;VALUE=DATE:20260509
DTEND;VALUE=DATE:20260510
DTSTAMP:20260421T191709
CREATED:20240331T183721Z
LAST-MODIFIED:20260212T174721Z
UID:41143-1778284800-1778371199@www.alltagsklassiker.at
SUMMARY:Boxenstop Tuningtreffen Sinabelkirchen
DESCRIPTION:Markenoffenes Tuningtreffen in Sinabelkirchen am 09.05.2026 \nMickyGründer von Alltagsklassiker\, mit großer Schwäche für gut gereifte japanische Fahrzeuge\, Prospekte und Modellautos; Fotograf\, Vitrinist\, buchaffin\, bewegt Mazda MX-5 NA V-Special\, Mazda 818 Sedan de Luxe\, Ford Focus Turnier MK3\, Puch Clubman\, Bianchi Arcadex und Puch Maxi L.
URL:https://www.alltagsklassiker.at/event/boxenstop/
CATEGORIES:Treffen
END:VEVENT
BEGIN:VEVENT
DTSTART;VALUE=DATE:20260509
DTEND;VALUE=DATE:20260510
DTSTAMP:20260421T191709
CREATED:20260129T190759Z
LAST-MODIFIED:20260129T190801Z
UID:50345-1778284800-1778371199@www.alltagsklassiker.at
SUMMARY:Benefiz-Tuning\, Oldtimer und Bikertreffen
DESCRIPTION:Am 9. Mai 2026 wird Spielberg wieder zum Treffpunkt für alle\, die Benzin im Blut\, ein Herz für besondere Fahrzeuge und Freude am gemeinsamen Miteinander haben.Unser Benefiz-Tuning\, Oldtimer und Bikertreffen steht für Leidenschaft\, Zusammenhalt und Hilfsbereitschaft.Ob liebevoll gepflegte Oldtimer\, einzigartige Tuning-Fahrzeuge\, beeindruckende Bikes oder einfach die Begeisterung für alles\, was Räder und Seele hat – bei uns ist jeder herzlich willkommen\, der diesen besonderen Tag mit uns teilen möchte. Eintritt: Tuning-Fahrzeuge: 25 € Biker: freie Spende\, da Bikes in diesem Jahr noch nicht im Bewertungsprogramm enthalten sind VIP- / Fixplätze: Nur 10 exklusive Plätze verfügbar Aufpreis: 5 € pro Platz Vorab-Anmeldung empfohlen\, um entspannt anzureisen Für Essen & Getränke ist bestens gesorgt Eine große Tombola mit tollen Preisen sorgt zusätzlich für Spannung und Freude Familien sind bei uns herzlich willkommenDank der PlayWorld der Ringrast haben auch Kinder jede Menge Platz zum Spielen\, Lachen und Austoben – so wird unser Treffen zu einem perfekten Ausflug für Groß und Klein. Auch Gäste und Besucher sind herzlich willkommen Für Gäste und Besucher stehen kostenlose Gästeparkplätze zur Verfügung. Der Eintritt für Gäste und Besucher erfolgt auf freiwilliger Spendenbasis. Alles zu 100 % ehrenamtlichUnser gesamtes Team arbeitet ohne Bezahlung – aus Überzeugung\, mit viel Herzblut und dem Wunsch\, gemeinsam Gutes zu tun.Wenn du uns unterstützen möchtest\, egal ob beim Aufbau\, während des Events oder bei kleinen Aufgaben: Melde dich gerne per PN – jede Hilfe zählt. Sponsoren & Unterstützer willkommenSachspenden\, Gutscheine oder Aktionen helfen uns enorm.Alle Einnahmen gehen wie jedes Jahr zu 100 % an einen guten Zweck. Lasst uns gemeinsam einen besonderen Tag erleben\, Erinnerungen schaffen und zeigen\, was unsere Community mit Herz bewegen kann. \nMickyGründer von Alltagsklassiker\, mit großer Schwäche für gut gereifte japanische Fahrzeuge\, Prospekte und Modellautos; Fotograf\, Vitrinist\, buchaffin\, bewegt Mazda MX-5 NA V-Special\, Mazda 818 Sedan de Luxe\, Ford Focus Turnier MK3\, Puch Clubman\, Bianchi Arcadex und Puch Maxi L.
URL:https://www.alltagsklassiker.at/event/benefiz-tuning-oldtimer-und-bikertreffen/
CATEGORIES:Treffen
ATTACH;FMTTYPE=image/jpeg:https://www.alltagsklassiker.at/wp-content/uploads/2026/01/619304402_122114924745150918_2096532393300111108_n.jpg
END:VEVENT
BEGIN:VEVENT
DTSTART;VALUE=DATE:20260509
DTEND;VALUE=DATE:20260510
DTSTAMP:20260421T191709
CREATED:20260212T193226Z
LAST-MODIFIED:20260212T193228Z
UID:50621-1778284800-1778371199@www.alltagsklassiker.at
SUMMARY:Oldtimertreffen Nußdorf am Attersee
DESCRIPTION:Oldtimertreffen Nußdorf am Attersee \nMickyGründer von Alltagsklassiker\, mit großer Schwäche für gut gereifte japanische Fahrzeuge\, Prospekte und Modellautos; Fotograf\, Vitrinist\, buchaffin\, bewegt Mazda MX-5 NA V-Special\, Mazda 818 Sedan de Luxe\, Ford Focus Turnier MK3\, Puch Clubman\, Bianchi Arcadex und Puch Maxi L.
URL:https://www.alltagsklassiker.at/event/oldtimertreffen-nussdorf-am-attersee/
CATEGORIES:Treffen
END:VEVENT
BEGIN:VEVENT
DTSTART;VALUE=DATE:20260509
DTEND;VALUE=DATE:20260511
DTSTAMP:20260421T191709
CREATED:20240211T101911Z
LAST-MODIFIED:20260120T183112Z
UID:40626-1778284800-1778457599@www.alltagsklassiker.at
SUMMARY:Custom Car Show Classic
DESCRIPTION:Custom Car Show Classic mit Tuning Cars\, Custom Cars und Lowrider Show im Rahmen der Oldtimermesse Tulln 2026. \n  \n  \nMickyGründer von Alltagsklassiker\, mit großer Schwäche für gut gereifte japanische Fahrzeuge\, Prospekte und Modellautos; Fotograf\, Vitrinist\, buchaffin\, bewegt Mazda MX-5 NA V-Special\, Mazda 818 Sedan de Luxe\, Ford Focus Turnier MK3\, Puch Clubman\, Bianchi Arcadex und Puch Maxi L.
URL:https://www.alltagsklassiker.at/event/custom-car-show-classic/
CATEGORIES:Messe
ATTACH;FMTTYPE=image/jpeg:https://www.alltagsklassiker.at/wp-content/uploads/2024/02/customcarshow2026.jpeg
END:VEVENT
BEGIN:VEVENT
DTSTART;VALUE=DATE:20260509
DTEND;VALUE=DATE:20260511
DTSTAMP:20260421T191709
CREATED:20250520T141042Z
LAST-MODIFIED:20250520T141043Z
UID:47385-1778284800-1778457599@www.alltagsklassiker.at
SUMMARY:Oldtimermesse Tulln
DESCRIPTION:Oldtimermesse Tulln \nMickyGründer von Alltagsklassiker\, mit großer Schwäche für gut gereifte japanische Fahrzeuge\, Prospekte und Modellautos; Fotograf\, Vitrinist\, buchaffin\, bewegt Mazda MX-5 NA V-Special\, Mazda 818 Sedan de Luxe\, Ford Focus Turnier MK3\, Puch Clubman\, Bianchi Arcadex und Puch Maxi L.
URL:https://www.alltagsklassiker.at/event/oldtimermesse-tulln-2/
CATEGORIES:Messe
END:VEVENT
END:VCALENDAR