BEGIN:VCALENDAR
VERSION:2.0
PRODID:-//Alltagsklassiker | IG zum Erhalt und Förderung der Fahrzeugkultur und Fahrzeuggeschichte - ECPv6.15.20//NONSGML v1.0//EN
CALSCALE:GREGORIAN
METHOD:PUBLISH
X-ORIGINAL-URL:https://www.alltagsklassiker.at
X-WR-CALDESC:Veranstaltungen für Alltagsklassiker | IG zum Erhalt und Förderung der Fahrzeugkultur und Fahrzeuggeschichte
REFRESH-INTERVAL;VALUE=DURATION:PT1H
X-Robots-Tag:noindex
X-PUBLISHED-TTL:PT1H
BEGIN:VTIMEZONE
TZID:Europe/Berlin
BEGIN:DAYLIGHT
TZOFFSETFROM:+0100
TZOFFSETTO:+0200
TZNAME:CEST
DTSTART:20250330T010000
END:DAYLIGHT
BEGIN:STANDARD
TZOFFSETFROM:+0200
TZOFFSETTO:+0100
TZNAME:CET
DTSTART:20251026T010000
END:STANDARD
BEGIN:DAYLIGHT
TZOFFSETFROM:+0100
TZOFFSETTO:+0200
TZNAME:CEST
DTSTART:20260329T010000
END:DAYLIGHT
BEGIN:STANDARD
TZOFFSETFROM:+0200
TZOFFSETTO:+0100
TZNAME:CET
DTSTART:20261025T010000
END:STANDARD
BEGIN:DAYLIGHT
TZOFFSETFROM:+0100
TZOFFSETTO:+0200
TZNAME:CEST
DTSTART:20270328T010000
END:DAYLIGHT
BEGIN:STANDARD
TZOFFSETFROM:+0200
TZOFFSETTO:+0100
TZNAME:CET
DTSTART:20271031T010000
END:STANDARD
END:VTIMEZONE
BEGIN:VEVENT
DTSTART;VALUE=DATE:20260502
DTEND;VALUE=DATE:20260503
DTSTAMP:20260421T155122
CREATED:20220305T053104Z
LAST-MODIFIED:20260315T200347Z
UID:33243-1777680000-1777766399@www.alltagsklassiker.at
SUMMARY:Alltagsklassiker Saturday Night Cruising
DESCRIPTION:Das Alltagsklassiker Saturday Night Cruising geht 2026 in seine 15. Saison. Auch wenn sich über die vielen Jahre der Ort oder der Wochentag geändert haben\, eines ist immer gleich geblieben: Es erwartet dich ein entspannter Abend mit Freunden des gut gereiften Blechs\, tolle Gesprächen unter Gleichgesinnten und ganz viel Leidenschaft für klassische Fahrzeuge. \nSeit fünf Jahren ist das Center West unser Treffpunkt – eine bestens bewährte Location mit viel Platz und dem Restaurant Sägewerk West direkt vor Ort. Dort gibt’s kühle Drinks\, warme Speisen und einen schattigen Gastgarten mit bestem Blick auf die angereisten Oldies und Youngtimer\, die im milden Abendlicht besonders gut zur Geltung kommen. \nWir treffen uns an einem Samstag im Monat – von April bis Oktober\, ab 18 Uhr am Parkplatz des Center West. Komm vorbei\, mit deinem Youngtimer oder Oldtimer – Hauptsache\, du hast Freude an der Sache! \n  \n \n  \nWer?\nWillkommen sind bei uns alle Fahrzeuge aller Marken (Autos\, Mopeds\, Motorroller\, Motorräder und Fahrräder) bis Baujahr 2000\, egal ob Oldtimer oder Youngtimer\, egal welcher Marke und Type\, US-Cars\, europäische Fahrzeuge\, Nipponklassiker\, im Topzustand\, als Ratte\, zeitgenössisch optimiert oder mit kleinem Budget am Leben erhalten – alle sind gleichwertig und herzlich willkommen! Aber\, wir sind kein Tuningtreffen und folglich die falsche Anlaufstelle. \n  \nWann? \n02.Mai 2026\n18h – 23h \n  \nWo?\nCenter West\nWeblinger Gürtel 25\n8054 Graz \n  \nEintritt:\nWir als Verein freuen uns über eine freiwillige Spende\, die du bei der Einfahrt in die Spendenbox werfen kannst\, am Alltagsklassiker Stehtisch in der Spendenbox deponieren kannst oder direkt hier online erledigen kannst. \n  \nAnfahrt planen:  \n \n  \nGastronomie:\nUm unser leibliches Wohl sorgt sich das Sägewerk West\, ein Lokal\, das uns neben kühlen Drinks und heißen Getränken auch mit allerlei Speisen im Bausatz-Stil versorgt: Aus unzähligen Wahlmöglichkeiten kann man sich dort Burger\, Pizza\, Pfandl\, Salat\, Toast\, Eierspeis\, Nudel und Dessert nach dem ganz eigenen Geschmack zusammenstellen. \n  \nVerhaltensregeln:\nEs war bisher noch nie ein Problem dank eures vorbildhaften Verhaltens\, ich möchte euch trotzdem nochmals in Erinnerung rufen\, dass wir im Center West zu Gast sind und uns auch dort an die StVO halten müssen. Kein unnötiges Gasgeben und Aufheulen lassen des Motors\, kein Gummi Gummi – nehmt Rücksicht auf die Anrainer\, besonders zu nächtlicher Stunde bei der Heimfahrt. \nBesonderes Augenmerk legt bitte auf die Behindertenparkplätze\, die Ladesäulen bzw. Tesla Supercharger: Diese müssen stets frei bleiben. Sollte kein Parkplatz mehr frei sein\, weicht bitte auf den großen Parkplatz im Inneren des Weblinger Verteilerkreises aus. \n  \nFoto- und Filmaufnahmen:\nIm Rahmen Deiner Teilnahme an Veranstaltung von Alltagsklassiker werden möglicherweise Bild- und/oder Videoaufnahmen (gegebenenfalls mit Audioaufnahmen) von Dir und Deinem Fahrzeug erstellt. Diese Aufnahmen können in verschiedenen Medien ( Webseite\, Facebook\, Instagram\, YouTube\, etc) und in Publikationen (Print\, Online\, etc) von Alltagsklassiker und anderen Medien zum Zwecke der Öffentlichkeitsarbeit Verwendung finden. Mit dem Besuch einer unserer Veranstaltung\, stimmst Du dieser Nutzung zu. Darüber hinaus dienen die Aufnahmen Dokumentationszwecken. \nDanke:\nEin herzliches Dankeschön an dieser Stelle an das Center West und das Sägewerk West für die Gastfreundschaft. \nMit freundlicher Unterstützung unserer Sponsoren \n\nFrieko’s Garage\nDer Sachverständige\n Ertler’s Garage\nHotel Kern Buam\nCar Stories\nMotorbiene\n\nHotelpartner:\nDu reist von aus der Ferne zu unserem Treffen an? Wir haben seit 2025 eine Partnerschaft mit dem Hotel Kern Baum\, dass nicht weit von unserem Treffenstandort entfernt liegt. Hier bekommst du alle Infos\, wie du im Hotel Kern Buam günstiger übernachten kannst: \n \nMickyGründer von Alltagsklassiker\, mit großer Schwäche für gut gereifte japanische Fahrzeuge\, Prospekte und Modellautos; Fotograf\, Vitrinist\, buchaffin\, bewegt Mazda MX-5 NA V-Special\, Mazda 818 Sedan de Luxe\, Ford Focus Turnier MK3\, Puch Clubman\, Bianchi Arcadex und Puch Maxi L.
URL:https://www.alltagsklassiker.at/event/alltagsklassiker-saturday-night-cruising-mai/
LOCATION:Center West\, Weblinger Gürtel 25\, Graz\, 8054\, Österreich
CATEGORIES:Alltagsklassiker
ATTACH;FMTTYPE=image/png:https://www.alltagsklassiker.at/wp-content/uploads/2022/03/VA_FB_Mai_2026.png
END:VEVENT
BEGIN:VEVENT
DTSTART;VALUE=DATE:20260502
DTEND;VALUE=DATE:20260504
DTSTAMP:20260421T155122
CREATED:20220322T154211Z
LAST-MODIFIED:20260213T202634Z
UID:33493-1777680000-1777852799@www.alltagsklassiker.at
SUMMARY:Lions Classic Bad Hall
DESCRIPTION:Lions Classic Bad Hall \n  \n  \nMickyGründer von Alltagsklassiker\, mit großer Schwäche für gut gereifte japanische Fahrzeuge\, Prospekte und Modellautos; Fotograf\, Vitrinist\, buchaffin\, bewegt Mazda MX-5 NA V-Special\, Mazda 818 Sedan de Luxe\, Ford Focus Turnier MK3\, Puch Clubman\, Bianchi Arcadex und Puch Maxi L.
URL:https://www.alltagsklassiker.at/event/lions-classic/
CATEGORIES:Rallye
END:VEVENT
BEGIN:VEVENT
DTSTART;VALUE=DATE:20260502
DTEND;VALUE=DATE:20260503
DTSTAMP:20260421T155122
CREATED:20230121T172516Z
LAST-MODIFIED:20260120T183255Z
UID:35955-1777680000-1777766399@www.alltagsklassiker.at
SUMMARY:MotorNights
DESCRIPTION:Die„MotorNights“ finden in den Sommermonaten Mai – September statt\, jeweils am ersten Samstag im Monat ab 18:00 Uhr\nWir freuen uns wieder sehr auf Euer zahlreiches kommen! \nDie „MotorNights“ sind sozusagen der „Clubabend“ der Friends of „MotorNights“\, wo Freunde alten\, schnellen und raren Blechs einmal im Monat zusammenkommen und einen ruhigen\, netten Abend unter Gleichgesinnten verbringen. Ab dem ersten Freitag im Oktober 2018\, heißt es „MotorNights“ NEU ! nun in Wien FREUDENAU\, direkt hinter dem Lusthaus am großen waldparkplatz. Für Speis\, Trank und Platz zum gemütlichen beisammensitzen sorgt das freundliche Team von „freude now“. Die FREUDENAU somit als Treffpunkt\, wo wir uns zum monatlichen Stelldichein treffen\, zum Freunde treffen\, fachsimpeln\, Auto schaun und um einfach den Abend mit dem gemeinsamen Hobby zu genießen.\nwichtig: nachdem wir unmittelbar neben den Pferdestallungen parken\, bitten wir alle darum\, so wie wir es bisher auch immer gewohnt waren\, um einen ruhigen verlauf des gemeinsamen Abends ! Danke Euch!\nUScars – Oldtimer – Youngtimer – Classics – Sportscars – Customs & Bikes -& are welcome! \n  \nSeason Opening am Samstag 2.Mai. \n  \nMickyGründer von Alltagsklassiker\, mit großer Schwäche für gut gereifte japanische Fahrzeuge\, Prospekte und Modellautos; Fotograf\, Vitrinist\, buchaffin\, bewegt Mazda MX-5 NA V-Special\, Mazda 818 Sedan de Luxe\, Ford Focus Turnier MK3\, Puch Clubman\, Bianchi Arcadex und Puch Maxi L.
URL:https://www.alltagsklassiker.at/event/motornights/
CATEGORIES:Treffen
END:VEVENT
BEGIN:VEVENT
DTSTART;VALUE=DATE:20260502
DTEND;VALUE=DATE:20260503
DTSTAMP:20260421T155122
CREATED:20240217T150317Z
LAST-MODIFIED:20260128T170904Z
UID:40740-1777680000-1777766399@www.alltagsklassiker.at
SUMMARY:Oldtimertreffen Fehring
DESCRIPTION:Oldtimertreffen Fehring des Oldtimerclub Blechmobil in Fehring/ Kultursaal Brunn am 2.Mai 2026 \nAusstellung „Der Kleinwagen-  herzensstark und leistungsschwach“ \nMickyGründer von Alltagsklassiker\, mit großer Schwäche für gut gereifte japanische Fahrzeuge\, Prospekte und Modellautos; Fotograf\, Vitrinist\, buchaffin\, bewegt Mazda MX-5 NA V-Special\, Mazda 818 Sedan de Luxe\, Ford Focus Turnier MK3\, Puch Clubman\, Bianchi Arcadex und Puch Maxi L.
URL:https://www.alltagsklassiker.at/event/oldtimertreffen-fehring/
CATEGORIES:Treffen
ATTACH;FMTTYPE=image/jpeg:https://www.alltagsklassiker.at/wp-content/uploads/2024/02/WhatsApp-Image-2026-01-19-at-16.41.00.jpeg
END:VEVENT
BEGIN:VEVENT
DTSTART;VALUE=DATE:20260502
DTEND;VALUE=DATE:20260504
DTSTAMP:20260421T155122
CREATED:20260118T181108Z
LAST-MODIFIED:20260118T181108Z
UID:50078-1777680000-1777852799@www.alltagsklassiker.at
SUMMARY:Technorama Ulm
DESCRIPTION:Seit 45 Jahren bietet die TECHNORAMA Ulm alles was das Oldtimer-Herz begehrt. Anfang Mai treffen sich Oldtimer- und Youngtimerliebhaber\, Motorradbegeisterte und Freunde historischer Landtechnik aus ganz Europa in Ulm. Ganz gleich ob historische Kulturgüter\, Sammlerstücke\, Sonntagsauto oder Alltagsklassiker allen Oldtimern ist gemein\, dass man sie im Grunde noch selbst reparieren kann. \nFür Schrauber und Sammler ist die Technorama eine verlässliche Bezugsquelle für Ersatzteile. Der Oldtimer-Teile-Markt hält nicht nur ein hochwertiges Angebot an Teilen\, Werkzeug und Zubehör sondern auch den Expertentipp aus 1. Hand bereit. Der Sammlerfahrzeugverkauf präsentiert Oldtimer- und Youngtimerfahrzeuge aller Marken\, Typen und in allen Preisklassen. Das Oldtimertreffen rückt die Fahrzeuge in den Mittelpunkt und zieht die Sympathien der Besucher auf sich. Informative Clubstände sind beliebte Treffpunkte\, um alte und neue Bekanntschaften zu pflegen. \n\n\n\n\n\n\n\nMickyGründer von Alltagsklassiker\, mit großer Schwäche für gut gereifte japanische Fahrzeuge\, Prospekte und Modellautos; Fotograf\, Vitrinist\, buchaffin\, bewegt Mazda MX-5 NA V-Special\, Mazda 818 Sedan de Luxe\, Ford Focus Turnier MK3\, Puch Clubman\, Bianchi Arcadex und Puch Maxi L.
URL:https://www.alltagsklassiker.at/event/technorama-ulm/
CATEGORIES:Teilemarkt
END:VEVENT
END:VCALENDAR