BEGIN:VCALENDAR
VERSION:2.0
PRODID:-//Alltagsklassiker | IG zum Erhalt und Förderung der Fahrzeugkultur und Fahrzeuggeschichte - ECPv6.15.20//NONSGML v1.0//EN
CALSCALE:GREGORIAN
METHOD:PUBLISH
X-WR-CALNAME:Alltagsklassiker | IG zum Erhalt und Förderung der Fahrzeugkultur und Fahrzeuggeschichte
X-ORIGINAL-URL:https://www.alltagsklassiker.at
X-WR-CALDESC:Veranstaltungen für Alltagsklassiker | IG zum Erhalt und Förderung der Fahrzeugkultur und Fahrzeuggeschichte
REFRESH-INTERVAL;VALUE=DURATION:PT1H
X-Robots-Tag:noindex
X-PUBLISHED-TTL:PT1H
BEGIN:VTIMEZONE
TZID:Europe/Berlin
BEGIN:DAYLIGHT
TZOFFSETFROM:+0100
TZOFFSETTO:+0200
TZNAME:CEST
DTSTART:20250330T010000
END:DAYLIGHT
BEGIN:STANDARD
TZOFFSETFROM:+0200
TZOFFSETTO:+0100
TZNAME:CET
DTSTART:20251026T010000
END:STANDARD
BEGIN:DAYLIGHT
TZOFFSETFROM:+0100
TZOFFSETTO:+0200
TZNAME:CEST
DTSTART:20260329T010000
END:DAYLIGHT
BEGIN:STANDARD
TZOFFSETFROM:+0200
TZOFFSETTO:+0100
TZNAME:CET
DTSTART:20261025T010000
END:STANDARD
BEGIN:DAYLIGHT
TZOFFSETFROM:+0100
TZOFFSETTO:+0200
TZNAME:CEST
DTSTART:20270328T010000
END:DAYLIGHT
BEGIN:STANDARD
TZOFFSETFROM:+0200
TZOFFSETTO:+0100
TZNAME:CET
DTSTART:20271031T010000
END:STANDARD
END:VTIMEZONE
BEGIN:VEVENT
DTSTART;VALUE=DATE:20260501
DTEND;VALUE=DATE:20260502
DTSTAMP:20260421T155054
CREATED:20220322T103227Z
LAST-MODIFIED:20260129T190608Z
UID:33463-1777593600-1777679999@www.alltagsklassiker.at
SUMMARY:47. Kärntner Landes-Oldti­mer-Treffen
DESCRIPTION:47. Landestreffen aller Oldtimerbesitzer im Drauhafen Dullach \nAuskünfte unter der Tel. Nr. 0664/5023429\, oder e-mail g.setschnagg@kmvc.at Homepage / Internetseite des KMVC: www.kmvc.at \nWir erwarten Euch wie immer am 1. Mai im Drauhafen Dullach. Auf Euer Kommen freut sich der\nVorstand des KMVC \nMickyGründer von Alltagsklassiker\, mit großer Schwäche für gut gereifte japanische Fahrzeuge\, Prospekte und Modellautos; Fotograf\, Vitrinist\, buchaffin\, bewegt Mazda MX-5 NA V-Special\, Mazda 818 Sedan de Luxe\, Ford Focus Turnier MK3\, Puch Clubman\, Bianchi Arcadex und Puch Maxi L.
URL:https://www.alltagsklassiker.at/event/44-kaerntner-landes-oldtimer-treffen/
CATEGORIES:Treffen
END:VEVENT
BEGIN:VEVENT
DTSTART;VALUE=DATE:20260501
DTEND;VALUE=DATE:20260502
DTSTAMP:20260421T155054
CREATED:20230120T144545Z
LAST-MODIFIED:20260212T174213Z
UID:35838-1777593600-1777679999@www.alltagsklassiker.at
SUMMARY:Oldtimer und Teilemarkt Freistadt
DESCRIPTION:Am Messegelände am Stifterplatz in Freistadt in Oberösterreich findet der Oldtimer- und Teilemarkt mit Oldtimerschau statt. \nVeranstaltet wird der Markt vom 1. Freistädter Oldtimer und Klassiker Verein jedes Jahr am 1. Mai. \nMickyGründer von Alltagsklassiker\, mit großer Schwäche für gut gereifte japanische Fahrzeuge\, Prospekte und Modellautos; Fotograf\, Vitrinist\, buchaffin\, bewegt Mazda MX-5 NA V-Special\, Mazda 818 Sedan de Luxe\, Ford Focus Turnier MK3\, Puch Clubman\, Bianchi Arcadex und Puch Maxi L.
URL:https://www.alltagsklassiker.at/event/oldtimer-und-teilemarkt-freistadt/
CATEGORIES:Teilemarkt
END:VEVENT
BEGIN:VEVENT
DTSTART;VALUE=DATE:20260501
DTEND;VALUE=DATE:20260502
DTSTAMP:20260421T155055
CREATED:20240216T155007Z
LAST-MODIFIED:20260118T164805Z
UID:40687-1777593600-1777679999@www.alltagsklassiker.at
SUMMARY:Steel and Wheels Nights Classics
DESCRIPTION:Offener Fahrzeugstammtisch für Oldtimer & Youngtimer Autos bis Baujahr 1995\, US.Cars\, Motorräder\, Motorroller\, Mopeds \nImmer am 1. Freitag im Monat von Mai bis Oktober bei der Wirterei in Schmidham. \n  \n  \nMickyGründer von Alltagsklassiker\, mit großer Schwäche für gut gereifte japanische Fahrzeuge\, Prospekte und Modellautos; Fotograf\, Vitrinist\, buchaffin\, bewegt Mazda MX-5 NA V-Special\, Mazda 818 Sedan de Luxe\, Ford Focus Turnier MK3\, Puch Clubman\, Bianchi Arcadex und Puch Maxi L.
URL:https://www.alltagsklassiker.at/event/steel-and-wheels-nights-2/
CATEGORIES:Treffen
ATTACH;FMTTYPE=image/jpeg:https://www.alltagsklassiker.at/wp-content/uploads/2024/02/IMG_2531.jpg
END:VEVENT
BEGIN:VEVENT
DTSTART;VALUE=DATE:20260501
DTEND;VALUE=DATE:20260502
DTSTAMP:20260421T155055
CREATED:20250124T180759Z
LAST-MODIFIED:20260204T190535Z
UID:45752-1777593600-1777679999@www.alltagsklassiker.at
SUMMARY:Gablitzer Altblech
DESCRIPTION:Gablitzer Altblech Treffen am 1.Mai 2026 \nMickyGründer von Alltagsklassiker\, mit großer Schwäche für gut gereifte japanische Fahrzeuge\, Prospekte und Modellautos; Fotograf\, Vitrinist\, buchaffin\, bewegt Mazda MX-5 NA V-Special\, Mazda 818 Sedan de Luxe\, Ford Focus Turnier MK3\, Puch Clubman\, Bianchi Arcadex und Puch Maxi L.
URL:https://www.alltagsklassiker.at/event/gablitzer-altblech-2/
CATEGORIES:Treffen
END:VEVENT
BEGIN:VEVENT
DTSTART;VALUE=DATE:20260501
DTEND;VALUE=DATE:20260502
DTSTAMP:20260421T155055
CREATED:20250125T122143Z
LAST-MODIFIED:20260130T181024Z
UID:45875-1777593600-1777679999@www.alltagsklassiker.at
SUMMARY:VW-Käfer-Treffen Eggenburg
DESCRIPTION:33. VW-Käfer-Treffen \nKult-Käfer am 1. Mai in Eggenburg \nDas bestbesuchte und größte VW Käfer-Treffen Österreichs zieht am 1. Mai Eggenburg wieder in seinen Bann. \n  \nMickyGründer von Alltagsklassiker\, mit großer Schwäche für gut gereifte japanische Fahrzeuge\, Prospekte und Modellautos; Fotograf\, Vitrinist\, buchaffin\, bewegt Mazda MX-5 NA V-Special\, Mazda 818 Sedan de Luxe\, Ford Focus Turnier MK3\, Puch Clubman\, Bianchi Arcadex und Puch Maxi L.
URL:https://www.alltagsklassiker.at/event/vw-kaefer-treffen-eggenburg-2/
CATEGORIES:Treffen
END:VEVENT
BEGIN:VEVENT
DTSTART;VALUE=DATE:20260501
DTEND;VALUE=DATE:20260502
DTSTAMP:20260421T155055
CREATED:20260305T185107Z
LAST-MODIFIED:20260305T185107Z
UID:50717-1777593600-1777679999@www.alltagsklassiker.at
SUMMARY:Cars&Coffee Gleisdorf
DESCRIPTION:Cars&Coffee des Oldtimerclub Old Styrian Krumegg am 01.05.2026 in Gamling 16\, Gleisdorf \nAlle Kraftfahrzeuge\, Motorräder Mopeds und Traktoren sind herzlich willkommen. \nMickyGründer von Alltagsklassiker\, mit großer Schwäche für gut gereifte japanische Fahrzeuge\, Prospekte und Modellautos; Fotograf\, Vitrinist\, buchaffin\, bewegt Mazda MX-5 NA V-Special\, Mazda 818 Sedan de Luxe\, Ford Focus Turnier MK3\, Puch Clubman\, Bianchi Arcadex und Puch Maxi L.
URL:https://www.alltagsklassiker.at/event/carscoffee-gleisdorf/
CATEGORIES:Treffen
ATTACH;FMTTYPE=image/jpeg:https://www.alltagsklassiker.at/wp-content/uploads/2026/03/84F43A35-8007-4B2F-A277-A35984BE69F2.jpg
END:VEVENT
BEGIN:VEVENT
DTSTART;VALUE=DATE:20260501
DTEND;VALUE=DATE:20260502
DTSTAMP:20260421T155055
CREATED:20260318T182404Z
LAST-MODIFIED:20260318T182428Z
UID:50759-1777593600-1777679999@www.alltagsklassiker.at
SUMMARY:Oldtimer trifft Sportwagen
DESCRIPTION:Oldtimer trifft Sportwagen Treffen in Mitterdorf an der Raab am 01.Mai 2026 \nMickyGründer von Alltagsklassiker\, mit großer Schwäche für gut gereifte japanische Fahrzeuge\, Prospekte und Modellautos; Fotograf\, Vitrinist\, buchaffin\, bewegt Mazda MX-5 NA V-Special\, Mazda 818 Sedan de Luxe\, Ford Focus Turnier MK3\, Puch Clubman\, Bianchi Arcadex und Puch Maxi L.
URL:https://www.alltagsklassiker.at/event/oldtimer-trifft-sportwagen/
CATEGORIES:Treffen
ATTACH;FMTTYPE=image/jpeg:https://www.alltagsklassiker.at/wp-content/uploads/2026/03/oldtimer-sportwagen.jpg
END:VEVENT
END:VCALENDAR