BEGIN:VCALENDAR
VERSION:2.0
PRODID:-//Alltagsklassiker | IG zum Erhalt und Förderung der Fahrzeugkultur und Fahrzeuggeschichte - ECPv6.15.20//NONSGML v1.0//EN
CALSCALE:GREGORIAN
METHOD:PUBLISH
X-WR-CALNAME:Alltagsklassiker | IG zum Erhalt und Förderung der Fahrzeugkultur und Fahrzeuggeschichte
X-ORIGINAL-URL:https://www.alltagsklassiker.at
X-WR-CALDESC:Veranstaltungen für Alltagsklassiker | IG zum Erhalt und Förderung der Fahrzeugkultur und Fahrzeuggeschichte
REFRESH-INTERVAL;VALUE=DURATION:PT1H
X-Robots-Tag:noindex
X-PUBLISHED-TTL:PT1H
BEGIN:VTIMEZONE
TZID:Europe/Berlin
BEGIN:DAYLIGHT
TZOFFSETFROM:+0100
TZOFFSETTO:+0200
TZNAME:CEST
DTSTART:20250330T010000
END:DAYLIGHT
BEGIN:STANDARD
TZOFFSETFROM:+0200
TZOFFSETTO:+0100
TZNAME:CET
DTSTART:20251026T010000
END:STANDARD
BEGIN:DAYLIGHT
TZOFFSETFROM:+0100
TZOFFSETTO:+0200
TZNAME:CEST
DTSTART:20260329T010000
END:DAYLIGHT
BEGIN:STANDARD
TZOFFSETFROM:+0200
TZOFFSETTO:+0100
TZNAME:CET
DTSTART:20261025T010000
END:STANDARD
BEGIN:DAYLIGHT
TZOFFSETFROM:+0100
TZOFFSETTO:+0200
TZNAME:CEST
DTSTART:20270328T010000
END:DAYLIGHT
BEGIN:STANDARD
TZOFFSETFROM:+0200
TZOFFSETTO:+0100
TZNAME:CET
DTSTART:20271031T010000
END:STANDARD
END:VTIMEZONE
BEGIN:VEVENT
DTSTART;VALUE=DATE:20260423
DTEND;VALUE=DATE:20260427
DTSTAMP:20260421T161123
CREATED:20230127T084943Z
LAST-MODIFIED:20260213T201845Z
UID:36192-1776902400-1777247999@www.alltagsklassiker.at
SUMMARY:London to Lisbon Rally
DESCRIPTION:Die London to Lisbon Rallye ist wie keine andere\, denn es gibt nur ein Fahrzeugmodell das teilnehmen darf\, der Ford KA! Gut\, da kann man immerhin zwischen dem Kleinwagen und dem offenen StreetKA wählen. Auf knapp 3000 Kilometern Fahrtstrecke geht es innerhalb von fünf Tagen von der Rennstrecke Brands Hatch in England bis in die Hauptstadt Portugals nach Lissabon. \nMickyGründer von Alltagsklassiker\, mit großer Schwäche für gut gereifte japanische Fahrzeuge\, Prospekte und Modellautos; Fotograf\, Vitrinist\, buchaffin\, bewegt Mazda MX-5 NA V-Special\, Mazda 818 Sedan de Luxe\, Ford Focus Turnier MK3\, Puch Clubman\, Bianchi Arcadex und Puch Maxi L.
URL:https://www.alltagsklassiker.at/event/london-to-lisbon-rally/
CATEGORIES:Funrallye
END:VEVENT
BEGIN:VEVENT
DTSTART;VALUE=DATE:20260424
DTEND;VALUE=DATE:20260425
DTSTAMP:20260421T161123
CREATED:20230124T174700Z
LAST-MODIFIED:20260118T201032Z
UID:35996-1776988800-1777075199@www.alltagsklassiker.at
SUMMARY:Friday Night Classic Liezen
DESCRIPTION:Wir treffen uns jeden letzten Freitag im Monat ab 19:00 Uhr beim Burger King in Liezen. \n  \nUS – Cars\, HDs\, Old- und Youngtimer\, sowie alle Autobegeisterte sind herzlich willkommen! \n  \n \nMickyGründer von Alltagsklassiker\, mit großer Schwäche für gut gereifte japanische Fahrzeuge\, Prospekte und Modellautos; Fotograf\, Vitrinist\, buchaffin\, bewegt Mazda MX-5 NA V-Special\, Mazda 818 Sedan de Luxe\, Ford Focus Turnier MK3\, Puch Clubman\, Bianchi Arcadex und Puch Maxi L.
URL:https://www.alltagsklassiker.at/event/friday-night-classic-liezen-3/
LOCATION:Burger King Liezen\, Gesäusestraße 15\, Liezen\, 8940\, Österreich
CATEGORIES:Treffen
ATTACH;FMTTYPE=image/jpeg:https://www.alltagsklassiker.at/wp-content/uploads/2023/01/friday-night-classic.jpg
END:VEVENT
BEGIN:VEVENT
DTSTART;VALUE=DATE:20260424
DTEND;VALUE=DATE:20260427
DTSTAMP:20260421T161123
CREATED:20230219T092737Z
LAST-MODIFIED:20260213T202106Z
UID:36288-1776988800-1777247999@www.alltagsklassiker.at
SUMMARY:Rechbergrennen
DESCRIPTION:Der einzige Berg-Europameisterschaftslauf in Österreich am Rechberg findet wieder statt! \nNach einem erfolgreichen Rennen im letzten Jahr wird der Rechberg wieder von den besten Berg-Piloten Europas gestürmt.\nDer Termin im April (24. bis 26.) ist ein sehr vielversprechender\, weil die EM gerade erst beginnt und damit viele Teilnehmer erwartet werden können. \nDarüber hinaus zählt das Rechbergrennen auch als Lauf zur österreichischen Bergstaatsmeisterschaft für moderne und historische Fahrzeuge.\nDas Organisationsteam nimmt sich viel vor – sowohl für die Fahrer\, als auch für die Fans. \nDie Strecke wird mit modernster Tontechnik beschallt und auf die Fans warten drei LED-Video-Walls in den jeweiligen Fanzonen. Zudem wird das Event mittels Livestream in die ganze Welt hinaus übertragen. \n\n\n\nMickyGründer von Alltagsklassiker\, mit großer Schwäche für gut gereifte japanische Fahrzeuge\, Prospekte und Modellautos; Fotograf\, Vitrinist\, buchaffin\, bewegt Mazda MX-5 NA V-Special\, Mazda 818 Sedan de Luxe\, Ford Focus Turnier MK3\, Puch Clubman\, Bianchi Arcadex und Puch Maxi L.
URL:https://www.alltagsklassiker.at/event/rechbergrennen/
CATEGORIES:Motorsport
END:VEVENT
BEGIN:VEVENT
DTSTART;VALUE=DATE:20260424
DTEND;VALUE=DATE:20260427
DTSTAMP:20260421T161123
CREATED:20250125T101553Z
LAST-MODIFIED:20260118T191156Z
UID:45777-1776988800-1777247999@www.alltagsklassiker.at
SUMMARY:DTM Spielberg
DESCRIPTION:Die DTM am Red Bull Ring bietet spektakuläre Rennen\, bei denen erstklassige Piloten in leistungsstarken GT3-Boliden um den Sieg kämpfen. Das Streckenlayout löst bei Fahrern und Zuschauern gleichermaßen Nervenkitzel und Spannung aus. \nDie DTM bietet weit mehr als nur Rennaction – es ist ein Erlebnis für die ganze Familie. Dich erwartet ein unvergessliches Wochenende voller Action\, Emotionen und unbeschwerter Familienfreude. \nMickyGründer von Alltagsklassiker\, mit großer Schwäche für gut gereifte japanische Fahrzeuge\, Prospekte und Modellautos; Fotograf\, Vitrinist\, buchaffin\, bewegt Mazda MX-5 NA V-Special\, Mazda 818 Sedan de Luxe\, Ford Focus Turnier MK3\, Puch Clubman\, Bianchi Arcadex und Puch Maxi L.
URL:https://www.alltagsklassiker.at/event/dtm-spielberg/
CATEGORIES:Motorsport
END:VEVENT
BEGIN:VEVENT
DTSTART;VALUE=DATE:20260424
DTEND;VALUE=DATE:20260427
DTSTAMP:20260421T161123
CREATED:20260118T185820Z
LAST-MODIFIED:20260118T185820Z
UID:50104-1776988800-1777247999@www.alltagsklassiker.at
SUMMARY:Histo Cup Most
DESCRIPTION:Autodrom Most – Saisonauftakt 2026 des Histo Cup! \nVom 24. bis 26. April 2026 eröffnet der Histo Cup die neue Saison am Autodrom Most in Tschechien. Die abwechslungsreiche Streckenführung und das großzügige Fahrerlager bieten ideale Voraussetzungen für ein spannendes Motorsport-Wochenende. \nAlle Serien des Histo Cup sind vertreten und sorgen für einen packenden Auftakt mit breitem Starterfeld. \nMickyGründer von Alltagsklassiker\, mit großer Schwäche für gut gereifte japanische Fahrzeuge\, Prospekte und Modellautos; Fotograf\, Vitrinist\, buchaffin\, bewegt Mazda MX-5 NA V-Special\, Mazda 818 Sedan de Luxe\, Ford Focus Turnier MK3\, Puch Clubman\, Bianchi Arcadex und Puch Maxi L.
URL:https://www.alltagsklassiker.at/event/histo-cup-most-2/
CATEGORIES:Motorsport
END:VEVENT
END:VCALENDAR