BEGIN:VCALENDAR
VERSION:2.0
PRODID:-//Alltagsklassiker | IG zum Erhalt und Förderung der Fahrzeugkultur und Fahrzeuggeschichte - ECPv6.15.20//NONSGML v1.0//EN
CALSCALE:GREGORIAN
METHOD:PUBLISH
X-WR-CALNAME:Alltagsklassiker | IG zum Erhalt und Förderung der Fahrzeugkultur und Fahrzeuggeschichte
X-ORIGINAL-URL:https://www.alltagsklassiker.at
X-WR-CALDESC:Veranstaltungen für Alltagsklassiker | IG zum Erhalt und Förderung der Fahrzeugkultur und Fahrzeuggeschichte
REFRESH-INTERVAL;VALUE=DURATION:PT1H
X-Robots-Tag:noindex
X-PUBLISHED-TTL:PT1H
BEGIN:VTIMEZONE
TZID:Europe/Berlin
BEGIN:DAYLIGHT
TZOFFSETFROM:+0100
TZOFFSETTO:+0200
TZNAME:CEST
DTSTART:20250330T010000
END:DAYLIGHT
BEGIN:STANDARD
TZOFFSETFROM:+0200
TZOFFSETTO:+0100
TZNAME:CET
DTSTART:20251026T010000
END:STANDARD
BEGIN:DAYLIGHT
TZOFFSETFROM:+0100
TZOFFSETTO:+0200
TZNAME:CEST
DTSTART:20260329T010000
END:DAYLIGHT
BEGIN:STANDARD
TZOFFSETFROM:+0200
TZOFFSETTO:+0100
TZNAME:CET
DTSTART:20261025T010000
END:STANDARD
BEGIN:DAYLIGHT
TZOFFSETFROM:+0100
TZOFFSETTO:+0200
TZNAME:CEST
DTSTART:20270328T010000
END:DAYLIGHT
BEGIN:STANDARD
TZOFFSETFROM:+0200
TZOFFSETTO:+0100
TZNAME:CET
DTSTART:20271031T010000
END:STANDARD
END:VTIMEZONE
BEGIN:VEVENT
DTSTART;VALUE=DATE:20260408
DTEND;VALUE=DATE:20260413
DTSTAMP:20260419T182319
CREATED:20260118T180029Z
LAST-MODIFIED:20260118T180029Z
UID:50071-1775606400-1776038399@www.alltagsklassiker.at
SUMMARY:Retro Classics Essen
DESCRIPTION:Willkommen auf der RETRO CLASSICS ESSEN® – dem Treffpunkt für Liebhaber historischer Fahrzeuge\, glänzender Karossen und legendärer Automobilgeschichte. Auf dem traditionsreichen Messegelände Essen erwarten Sie rare Oldtimer\, faszinierende Youngtimer und alles\, was das Herz echter Automobil-Enthusiasten höherschlagen lässt – mitten im Ruhrgebiet! \nTauchen Sie ein in eine Welt voller Chrom\, Charakter und Leidenschaft. Ob private Sammler\, renommierte Händler oder Clubs mit jahrzehntelanger Tradition – hier begegnen sich Szene\, Fachpublikum und Fans auf Augenhöhe. \nMickyGründer von Alltagsklassiker\, mit großer Schwäche für gut gereifte japanische Fahrzeuge\, Prospekte und Modellautos; Fotograf\, Vitrinist\, buchaffin\, bewegt Mazda MX-5 NA V-Special\, Mazda 818 Sedan de Luxe\, Ford Focus Turnier MK3\, Puch Clubman\, Bianchi Arcadex und Puch Maxi L.
URL:https://www.alltagsklassiker.at/event/retro-classics-essen/
CATEGORIES:Messe
END:VEVENT
BEGIN:VEVENT
DTSTART;VALUE=DATE:20260410
DTEND;VALUE=DATE:20260413
DTSTAMP:20260419T182319
CREATED:20240228T164350Z
LAST-MODIFIED:20260128T174539Z
UID:40828-1775779200-1776038399@www.alltagsklassiker.at
SUMMARY:Classic Cars & Bikes Klagenfurt
DESCRIPTION:Vom 10. bis 12. April 2026 werden bei der „Classic Cars & Bikes“ historische Zwei- und Vierrad Oldtimer aus den vergangenen Jahrzenten präsentiert. Heimische und internationale Oldtimerclubs\, Sammler und Fachexperten begeistern drei Tage lang mit ihren außergewöhnlichen Fabrikaten und Modellen aus oft längst vergessener Zeit. \nVerrostet\, zugewachsen und seit über 70 Jahren vergessen\, aus derartigen Konstellationen wurden Fahrzeuge monate- und oft jahrelang und in mühevoller Arbeit sowie Liebe zum Detail restauriert und wieder auf Vordermann gebracht. Für Oldtimerliebhaber\, Experten und Gleichgesinnte ist die Messe die Ideale Plattforum\, um sich auszutauschen und Fachgespräche zu führen. Interessante Vorträge\, Sonderschauen sowie nostalgische Geschichten und Live-Talks verleihen der Messe einen Hauch von Nostalgie. Neben der Ausstellung punktet die Messe durch einen umfassenden Fahrzeugverkaufs- und internationalen Teilemarkt. Als Händler haben Sie die Möglichkeit\, sich und ihre außergewöhnlichen Klassiker sowie seltene Ersatzteile bestmöglich zu präsenteren. Eines der vielen Highlights wird die Versteigerung eines Oldtimers sein. \nMickyGründer von Alltagsklassiker\, mit großer Schwäche für gut gereifte japanische Fahrzeuge\, Prospekte und Modellautos; Fotograf\, Vitrinist\, buchaffin\, bewegt Mazda MX-5 NA V-Special\, Mazda 818 Sedan de Luxe\, Ford Focus Turnier MK3\, Puch Clubman\, Bianchi Arcadex und Puch Maxi L.
URL:https://www.alltagsklassiker.at/event/classic-cars-bikes-klagenfurt/
CATEGORIES:Messe
ATTACH;FMTTYPE=image/webp:https://www.alltagsklassiker.at/wp-content/uploads/2024/02/CCB.webp
END:VEVENT
BEGIN:VEVENT
DTSTART;VALUE=DATE:20260410
DTEND;VALUE=DATE:20260413
DTSTAMP:20260419T182319
CREATED:20260118T185536Z
LAST-MODIFIED:20260118T185536Z
UID:50101-1775779200-1776038399@www.alltagsklassiker.at
SUMMARY:Austrian GT @ Red Bull Ring
DESCRIPTION:Austrian GT – Saisonauftakt am Red Bull Ring 2026 mit GT Cup Series \nVom 10. bis 12. April 2026 startet die Austrian GT Series am Red Bull Ring in die neue Saison. Das Starterfeld teilt sich das Grid mit der GT Cup Series\, wodurch sich ein erweitertes Rennformat ergibt. \nIm Nenngeld enthalten sind eine Testsession\, ein Qualifying\, zwei Sprintrennen sowie ein Endurancerennen. \n\nMickyGründer von Alltagsklassiker\, mit großer Schwäche für gut gereifte japanische Fahrzeuge\, Prospekte und Modellautos; Fotograf\, Vitrinist\, buchaffin\, bewegt Mazda MX-5 NA V-Special\, Mazda 818 Sedan de Luxe\, Ford Focus Turnier MK3\, Puch Clubman\, Bianchi Arcadex und Puch Maxi L.
URL:https://www.alltagsklassiker.at/event/austrian-gt-red-bull-ring/
CATEGORIES:Motorsport
END:VEVENT
BEGIN:VEVENT
DTSTART;VALUE=DATE:20260411
DTEND;VALUE=DATE:20260412
DTSTAMP:20260419T182320
CREATED:20230125T161842Z
LAST-MODIFIED:20260127T203840Z
UID:36037-1775865600-1775951999@www.alltagsklassiker.at
SUMMARY:Flohmarkt\, Oldtimer-Teilemarkt und Antiquitätenmesse
DESCRIPTION:Flohmarkt\, Oldtimer-Teilemarkt und Antiquitätenmesse in der Oldtimerhalle in 3372 Blindenmarkt \nMickyGründer von Alltagsklassiker\, mit großer Schwäche für gut gereifte japanische Fahrzeuge\, Prospekte und Modellautos; Fotograf\, Vitrinist\, buchaffin\, bewegt Mazda MX-5 NA V-Special\, Mazda 818 Sedan de Luxe\, Ford Focus Turnier MK3\, Puch Clubman\, Bianchi Arcadex und Puch Maxi L.
URL:https://www.alltagsklassiker.at/event/flohmarkt-oldtimer-teilemarkt-und-antiquitaetenmesse-6/
CATEGORIES:Teilemarkt
END:VEVENT
BEGIN:VEVENT
DTSTART;VALUE=DATE:20260411
DTEND;VALUE=DATE:20260412
DTSTAMP:20260419T182320
CREATED:20250108T141456Z
LAST-MODIFIED:20260315T193859Z
UID:45292-1775865600-1775951999@www.alltagsklassiker.at
SUMMARY:Alltagsklassiker Saturday Night Cruising
DESCRIPTION:Das Alltagsklassiker Saturday Night Cruising geht 2026 in seine 15. Saison. Auch wenn sich über die vielen Jahre der Ort oder der Wochentag geändert haben\, eines ist immer gleich geblieben: Es erwartet dich ein entspannter Abend mit Freunden des gut gereiften Blechs\, tolle Gesprächen unter Gleichgesinnten und ganz viel Leidenschaft für klassische Fahrzeuge. \nSeit fünf Jahren ist das Center West unser Treffpunkt – eine bestens bewährte Location mit viel Platz und dem Restaurant Sägewerk West direkt vor Ort. Dort gibt’s kühle Drinks\, warme Speisen und einen schattigen Gastgarten mit bestem Blick auf die angereisten Oldies und Youngtimer\, die im milden Abendlicht besonders gut zur Geltung kommen. \nWir treffen uns an einem Samstag im Monat – von April bis Oktober\, ab 18 Uhr am Parkplatz des Center West. Komm vorbei\, mit deinem Youngtimer oder Oldtimer – Hauptsache\, du hast Freude an der Sache! \n  \n \n  \nWer?\nWillkommen sind bei uns alle Fahrzeuge aller Marken (Autos\, Mopeds\, Motorroller\, Motorräder und Fahrräder) bis Baujahr 2000\, egal ob Oldtimer oder Youngtimer\, egal welcher Marke und Type\, US-Cars\, europäische Fahrzeuge\, Nipponklassiker\, im Topzustand\, als Ratte\, zeitgenössisch optimiert oder mit kleinem Budget am Leben erhalten – alle sind gleichwertig und herzlich willkommen! Aber\, wir sind kein Tuningtreffen und folglich die falsche Anlaufstelle. \n  \nWann? \n11.April 2026\n18h – 23h \n  \nWo?\nCenter West\nWeblinger Gürtel 25\n8054 Graz \n  \nEintritt:\nWir als Verein freuen uns über eine freiwillige Spende\, die du bei der Einfahrt in die Spendenbox werfen kannst\, am Alltagsklassiker Stehtisch in der Spendenbox deponieren kannst oder direkt hier online erledigen kannst. \n  \nAnfahrt planen:  \n \n  \nGastronomie:\nUm unser leibliches Wohl sorgt sich das Sägewerk West\, ein Lokal\, das uns neben kühlen Drinks und heißen Getränken auch mit allerlei Speisen im Bausatz-Stil versorgt: Aus unzähligen Wahlmöglichkeiten kann man sich dort Burger\, Pizza\, Pfandl\, Salat\, Toast\, Eierspeis\, Nudel und Dessert nach dem ganz eigenen Geschmack zusammenstellen. \n  \nVerhaltensregeln:\nEs war bisher noch nie ein Problem dank eures vorbildhaften Verhaltens\, ich möchte euch trotzdem nochmals in Erinnerung rufen\, dass wir im Center West zu Gast sind und uns auch dort an die StVO halten müssen. Kein unnötiges Gasgeben und Aufheulen lassen des Motors\, kein Gummi Gummi – nehmt Rücksicht auf die Anrainer\, besonders zu nächtlicher Stunde bei der Heimfahrt. \nBesonderes Augenmerk legt bitte auf die Behindertenparkplätze\, die Ladesäulen bzw. Tesla Supercharger: Diese müssen stets frei bleiben. Sollte kein Parkplatz mehr frei sein\, weicht bitte auf den großen Parkplatz im Inneren des Weblinger Verteilerkreises aus. \n  \nFoto- und Filmaufnahmen:\nIm Rahmen Deiner Teilnahme an Veranstaltung von Alltagsklassiker werden möglicherweise Bild- und/oder Videoaufnahmen (gegebenenfalls mit Audioaufnahmen) von Dir und Deinem Fahrzeug erstellt. Diese Aufnahmen können in verschiedenen Medien ( Webseite\, Facebook\, Instagram\, YouTube\, etc) und in Publikationen (Print\, Online\, etc) von Alltagsklassiker und anderen Medien zum Zwecke der Öffentlichkeitsarbeit Verwendung finden. Mit dem Besuch einer unserer Veranstaltung\, stimmst Du dieser Nutzung zu. Darüber hinaus dienen die Aufnahmen Dokumentationszwecken. \nDanke:\nEin herzliches Dankeschön an dieser Stelle an das Center West und das Sägewerk West für die Gastfreundschaft. \nMit freundlicher Unterstützung unserer Sponsoren \n\nFrieko’s Garage\nDer Sachverständige\n Ertler’s Garage\nHotel Kern Buam\nCar Stories\nMotorbiene\n\nHotelpartner:\nDu reist von aus der Ferne zu unserem Treffen an? Wir haben seit 2025 eine Partnerschaft mit dem Hotel Kern Baum\, dass nicht weit von unserem Treffenstandort entfernt liegt. Hier bekommst du alle Infos\, wie du im Hotel Kern Buam günstiger übernachten kannst: \n \nMickyGründer von Alltagsklassiker\, mit großer Schwäche für gut gereifte japanische Fahrzeuge\, Prospekte und Modellautos; Fotograf\, Vitrinist\, buchaffin\, bewegt Mazda MX-5 NA V-Special\, Mazda 818 Sedan de Luxe\, Ford Focus Turnier MK3\, Puch Clubman\, Bianchi Arcadex und Puch Maxi L.
URL:https://www.alltagsklassiker.at/event/alltagsklassiker-saturday-night-cruising/
LOCATION:Center West\, Weblinger Gürtel 25\, Graz\, 8054\, Österreich
CATEGORIES:Alltagsklassiker
ATTACH;FMTTYPE=image/png:https://www.alltagsklassiker.at/wp-content/uploads/2025/01/VA_FB_April_2026.png
END:VEVENT
BEGIN:VEVENT
DTSTART;VALUE=DATE:20260411
DTEND;VALUE=DATE:20260412
DTSTAMP:20260419T182320
CREATED:20260204T193309Z
LAST-MODIFIED:20260204T193416Z
UID:50513-1775865600-1775951999@www.alltagsklassiker.at
SUMMARY:Audi Klaus Carmeeting & Flohmarkt
DESCRIPTION:Audi Klaus Carmeeting & Flohmarkt \n  \n \nMickyGründer von Alltagsklassiker\, mit großer Schwäche für gut gereifte japanische Fahrzeuge\, Prospekte und Modellautos; Fotograf\, Vitrinist\, buchaffin\, bewegt Mazda MX-5 NA V-Special\, Mazda 818 Sedan de Luxe\, Ford Focus Turnier MK3\, Puch Clubman\, Bianchi Arcadex und Puch Maxi L.
URL:https://www.alltagsklassiker.at/event/audi-klaus-carmeeting-flohmarkt/
LOCATION:Audi Klaus Teileflohmarkt\, Niederdorf 55a\, St. Katharein an der Laming\, 8611\, Österreich
CATEGORIES:Teilemarkt,Treffen
ATTACH;FMTTYPE=image/jpeg:https://www.alltagsklassiker.at/wp-content/uploads/2026/02/624391166_122289777116016655_315320310917656104_n.jpg
END:VEVENT
END:VCALENDAR